BEGIN:VCALENDAR
VERSION:2.0
PRODID:-//Progress Career Planning Institute (PCPI) - ECPv6.9.0//NONSGML v1.0//EN
CALSCALE:GREGORIAN
METHOD:PUBLISH
X-WR-CALNAME:Progress Career Planning Institute (PCPI)
X-ORIGINAL-URL:https://pcpi.ca
X-WR-CALDESC:Events for Progress Career Planning Institute (PCPI)
REFRESH-INTERVAL;VALUE=DURATION:PT1H
X-Robots-Tag:noindex
X-PUBLISHED-TTL:PT1H
BEGIN:VTIMEZONE
TZID:UTC
BEGIN:STANDARD
TZOFFSETFROM:+0000
TZOFFSETTO:+0000
TZNAME:UTC
DTSTART:20230101T000000
END:STANDARD
END:VTIMEZONE
BEGIN:VEVENT
DTSTART;TZID=UTC:20230727T100000
DTEND;TZID=UTC:20230727T120000
DTSTAMP:20260420T013830
CREATED:20230619T144838Z
LAST-MODIFIED:20230619T144838Z
UID:10001704-1690452000-1690459200@pcpi.ca
SUMMARY:Labour Market Trends\, Employer Expectations (In Person)
DESCRIPTION:Labour Market Trends\, Employer Expectations (In Person) \nClick here to register
URL:https://pcpi.ca/event/labour-market-trends-employer-expectations-in-person/
END:VEVENT
BEGIN:VEVENT
DTSTART;TZID=UTC:20230726T083000
DTEND;TZID=UTC:20230726T163000
DTSTAMP:20260420T013830
CREATED:20230619T141757Z
LAST-MODIFIED:20230619T141910Z
UID:10002062-1690360200-1690389000@pcpi.ca
SUMMARY:One on One Session with a Resource & Information Specialist (In Person)
DESCRIPTION:One on One Session with a Resource & Information Specialist (In Person) \nTo be booked by Career Coach\nAvailable within office hours
URL:https://pcpi.ca/event/one-on-one-session-with-a-resource-information-specialist-in-person-2023-07-26/
END:VEVENT
BEGIN:VEVENT
DTSTART;TZID=UTC:20230725T130000
DTEND;TZID=UTC:20230725T150000
DTSTAMP:20260420T013830
CREATED:20230619T142639Z
LAST-MODIFIED:20230619T142737Z
UID:10002071-1690290000-1690297200@pcpi.ca
SUMMARY:II. Practice Interview Questions (In Person)
DESCRIPTION:II. Practice Interview Questions (In Person) \nClick here to register
URL:https://pcpi.ca/event/ii-practice-interview-questions-in-person-2023-07-25/
END:VEVENT
BEGIN:VEVENT
DTSTART;TZID=UTC:20230725T100000
DTEND;TZID=UTC:20230725T120000
DTSTAMP:20260420T013830
CREATED:20230619T142256Z
LAST-MODIFIED:20230619T142354Z
UID:10002068-1690279200-1690286400@pcpi.ca
SUMMARY:I. Job Interview Strategies (In Person)
DESCRIPTION:I. Job Interview Strategies (In Person) \nClick here to register
URL:https://pcpi.ca/event/i-job-interview-strategies-in-person-2023-07-25/
END:VEVENT
BEGIN:VEVENT
DTSTART;TZID=UTC:20230724T083000
DTEND;TZID=UTC:20230724T163000
DTSTAMP:20260420T013830
CREATED:20230619T141757Z
LAST-MODIFIED:20230619T141935Z
UID:10002060-1690187400-1690216200@pcpi.ca
SUMMARY:One on One Session with a Resource & Information Specialist (In Person)
DESCRIPTION:One on One Session with a Resource & Information Specialist (In Person) \nTo be booked by Career Coach\nAvailable within office hours
URL:https://pcpi.ca/event/one-on-one-session-with-a-resource-information-specialist-in-person-2023-07-24/
END:VEVENT
BEGIN:VEVENT
DTSTART;TZID=UTC:20230721T100000
DTEND;TZID=UTC:20230721T233000
DTSTAMP:20260420T013830
CREATED:20230619T141250Z
LAST-MODIFIED:20230619T141326Z
UID:10002056-1689933600-1689982200@pcpi.ca
SUMMARY:Better Jobs Ontario  Information Session (In Person)
DESCRIPTION:Better Jobs Ontario Information Session (In Person) \nClick here to register
URL:https://pcpi.ca/event/better-jobs-ontario-information-session-in-person-2023-07-21/
END:VEVENT
BEGIN:VEVENT
DTSTART;TZID=UTC:20230720T100000
DTEND;TZID=UTC:20230720T130000
DTSTAMP:20260420T013830
CREATED:20230619T144304Z
LAST-MODIFIED:20230619T144345Z
UID:10001698-1689847200-1689858000@pcpi.ca
SUMMARY:Employer Expectations & Workplace Culture (In Person)
DESCRIPTION:Employer Expectations & Workplace Culture (In Person) \nClick here to register
URL:https://pcpi.ca/event/employer-expectations-workplace-culture-in-person-2/
END:VEVENT
BEGIN:VEVENT
DTSTART;TZID=UTC:20230720T100000
DTEND;TZID=UTC:20230720T113000
DTSTAMP:20260420T013830
CREATED:20230619T144607Z
LAST-MODIFIED:20230619T144607Z
UID:10001702-1689847200-1689852600@pcpi.ca
SUMMARY:Financial Management for better Mental Health for Newcomers (On ZOOM)
DESCRIPTION:Financial Management for better Mental Health for Newcomers (On ZOOM) \nhttps://us02web.zoom.us/meeting/register/tZYqduyopzspGtGwOFiupzKad8oLHnYRSi7g#/registration
URL:https://pcpi.ca/event/financial-management-for-better-mental-health-for-newcomers-on-zoom/
END:VEVENT
BEGIN:VEVENT
DTSTART;TZID=UTC:20230720T100000
DTEND;TZID=UTC:20230720T110000
DTSTAMP:20260420T013830
CREATED:20230619T134329Z
LAST-MODIFIED:20230619T135049Z
UID:10002043-1689847200-1689850800@pcpi.ca
SUMMARY:New Pathway Program Info Session (On ZOOM)
DESCRIPTION:New Pathway Program Info Session (On ZOOM) \nhttps://us02web.zoom.us/meeting/register/tZYoduiurzsuHNULEosgPEd8yhLXa89E_pmL#/registration
URL:https://pcpi.ca/event/new-pathway-program-info-session-on-zoom-3-2023-07-20/
END:VEVENT
BEGIN:VEVENT
DTSTART;TZID=UTC:20230719T130000
DTEND;TZID=UTC:20230719T160000
DTSTAMP:20260420T013830
CREATED:20230619T144031Z
LAST-MODIFIED:20230619T144046Z
UID:10002077-1689771600-1689782400@pcpi.ca
SUMMARY:Sector Specific - Referral by Career Coach only! (On ZOOM)
DESCRIPTION:Sector Specific – Referral by Career Coach only! (On ZOOM) \nContact your Career Coach to register
URL:https://pcpi.ca/event/sector-specific-referral-by-career-coach-only-on-zoom/
END:VEVENT
BEGIN:VEVENT
DTSTART;TZID=UTC:20230718T130000
DTEND;TZID=UTC:20230718T150000
DTSTAMP:20260420T013830
CREATED:20230616T202149Z
LAST-MODIFIED:20230616T202205Z
UID:10002030-1689685200-1689692400@pcpi.ca
SUMMARY:II. Learn to Write a Resume (In Person)
DESCRIPTION:II. Learn to Write a Resume (In Person) \nIn Computer Lab \nClick here to register
URL:https://pcpi.ca/event/ii-learn-to-write-a-resume-in-person-2023-07-18/
END:VEVENT
BEGIN:VEVENT
DTSTART;TZID=UTC:20230718T100000
DTEND;TZID=UTC:20230718T120000
DTSTAMP:20260420T013830
CREATED:20230616T200318Z
LAST-MODIFIED:20230616T200433Z
UID:10001683-1689674400-1689681600@pcpi.ca
SUMMARY:I. Create a Resume that Sells You! (In Person Event)
DESCRIPTION:I. Create a Resume that Sells You! (In Person Event) \nClick here to register
URL:https://pcpi.ca/event/i-create-a-resume-that-sells-you-in-person-event-2-2023-07-18/
END:VEVENT
BEGIN:VEVENT
DTSTART;TZID=UTC:20230718T100000
DTEND;TZID=UTC:20230718T110000
DTSTAMP:20260420T013830
CREATED:20230619T134329Z
LAST-MODIFIED:20230619T134955Z
UID:10002041-1689674400-1689678000@pcpi.ca
SUMMARY:New Pathway Program Info Session (On ZOOM)
DESCRIPTION:New Pathway Program Info Session (On ZOOM) \nhttps://us02web.zoom.us/meeting/register/tZEsd-CsqT0pGNP30q4_-idE2SQnYASrFs2H#/registration
URL:https://pcpi.ca/event/new-pathway-program-info-session-on-zoom-3-2023-07-18/
END:VEVENT
BEGIN:VEVENT
DTSTART;TZID=UTC:20230717T100000
DTEND;TZID=UTC:20230717T110000
DTSTAMP:20260420T013830
CREATED:20230619T135829Z
LAST-MODIFIED:20230619T135913Z
UID:10002048-1689588000-1689591600@pcpi.ca
SUMMARY:PCPI  Employment Ontario Information Session (In Person)
DESCRIPTION:PCPI Employment Ontario Information Session (In Person) \nClick here to register
URL:https://pcpi.ca/event/pcpi-employment-ontario-information-session-in-person-2-2023-07-17/
END:VEVENT
BEGIN:VEVENT
DTSTART;TZID=UTC:20230714T100000
DTEND;TZID=UTC:20230714T120000
DTSTAMP:20260420T013830
CREATED:20230619T143710Z
LAST-MODIFIED:20230619T143710Z
UID:10002075-1689328800-1689336000@pcpi.ca
SUMMARY:Occupational Health & Safety & Know Your Rights In the Workplace (In Person)
DESCRIPTION:Occupational Health & Safety & Know Your Rights In the Workplace (In Person) \nClick here to register
URL:https://pcpi.ca/event/occupational-health-safety-know-your-rights-in-the-workplace-in-person-2/
END:VEVENT
BEGIN:VEVENT
DTSTART;TZID=UTC:20230714T093000
DTEND;TZID=UTC:20230714T143000
DTSTAMP:20260420T013830
CREATED:20230619T143853Z
LAST-MODIFIED:20230619T143853Z
UID:10002076-1689327000-1689345000@pcpi.ca
SUMMARY:Field Trip to the Black Creek Pioneer Village for Newcomers (In Person)
DESCRIPTION:Field Trip to the Black Creek Pioneer Village for Newcomers (In Person) \nClick here to register
URL:https://pcpi.ca/event/field-trip-to-the-black-creek-pioneer-village-for-newcomers-in-person/
END:VEVENT
BEGIN:VEVENT
DTSTART;TZID=UTC:20230713T100000
DTEND;TZID=UTC:20230713T130000
DTSTAMP:20260420T013830
CREATED:20230619T143520Z
LAST-MODIFIED:20230619T143520Z
UID:10002074-1689242400-1689253200@pcpi.ca
SUMMARY:The Employment Network with Practice (In Person)
DESCRIPTION:The Employment Network with Practice (In Person) \nClick here to register
URL:https://pcpi.ca/event/the-employment-network-with-practice-in-person/
END:VEVENT
BEGIN:VEVENT
DTSTART;TZID=UTC:20230713T100000
DTEND;TZID=UTC:20230713T110000
DTSTAMP:20260420T013830
CREATED:20230619T134329Z
LAST-MODIFIED:20230619T134840Z
UID:10002039-1689242400-1689246000@pcpi.ca
SUMMARY:New Pathway Program Info Session (On ZOOM)
DESCRIPTION:New Pathway Program Info Session (On ZOOM) \nhttps://us02web.zoom.us/meeting/register/tZUocOmgrjkoE92ukM2lAjbGQ21N7SmKQhi5#/registration
URL:https://pcpi.ca/event/new-pathway-program-info-session-on-zoom-3-2023-07-13/
END:VEVENT
BEGIN:VEVENT
DTSTART;TZID=UTC:20230712T100000
DTEND;TZID=UTC:20230712T113000
DTSTAMP:20260420T013830
CREATED:20230619T143317Z
LAST-MODIFIED:20230619T143317Z
UID:10002073-1689156000-1689161400@pcpi.ca
SUMMARY:Mental Health and Wellbeing for Newcomers (On ZOOM)
DESCRIPTION:Mental Health and Wellbeing for Newcomers (On ZOOM) \nhttps://us02web.zoom.us/meeting/register/tZcvf-GvqD8uHN02K9PO0hAvvbwT75tlf7RS#/registration
URL:https://pcpi.ca/event/mental-health-and-wellbeing-for-newcomers-on-zoom/
END:VEVENT
BEGIN:VEVENT
DTSTART;TZID=UTC:20230712T100000
DTEND;TZID=UTC:20230712T113000
DTSTAMP:20260420T013830
CREATED:20230619T143047Z
LAST-MODIFIED:20230619T143047Z
UID:10002072-1689156000-1689161400@pcpi.ca
SUMMARY:Eviction Process and Prevention for Newcomers (On ZOOM)
DESCRIPTION:Eviction Process and Prevention for Newcomers (On ZOOM) \nhttps://us02web.zoom.us/meeting/register/tZEuf-ypqj4oEt3UhWvekAIrxraUkEN1WySm#/registration
URL:https://pcpi.ca/event/eviction-process-and-prevention-for-newcomers-on-zoom/
END:VEVENT
BEGIN:VEVENT
DTSTART;TZID=UTC:20230711T130000
DTEND;TZID=UTC:20230711T150000
DTSTAMP:20260420T013830
CREATED:20230619T142639Z
LAST-MODIFIED:20230619T142759Z
UID:10002070-1689080400-1689087600@pcpi.ca
SUMMARY:II. Practice Interview Questions (In Person)
DESCRIPTION:II. Practice Interview Questions (In Person) \nClick here to register
URL:https://pcpi.ca/event/ii-practice-interview-questions-in-person/
END:VEVENT
BEGIN:VEVENT
DTSTART;TZID=UTC:20230711T100000
DTEND;TZID=UTC:20230711T120000
DTSTAMP:20260420T013830
CREATED:20230619T142256Z
LAST-MODIFIED:20230619T142422Z
UID:10002066-1689069600-1689076800@pcpi.ca
SUMMARY:I. Job Interview Strategies (In Person)
DESCRIPTION:I. Job Interview Strategies (In Person) \nClick here to register
URL:https://pcpi.ca/event/i-job-interview-strategies-in-person/
END:VEVENT
BEGIN:VEVENT
DTSTART;TZID=UTC:20230711T100000
DTEND;TZID=UTC:20230711T110000
DTSTAMP:20260420T013830
CREATED:20230619T134329Z
LAST-MODIFIED:20230619T134757Z
UID:10002036-1689069600-1689073200@pcpi.ca
SUMMARY:New Pathway Program Info Session (On ZOOM)
DESCRIPTION:New Pathway Program Info Session (On ZOOM) \nhttps://us02web.zoom.us/meeting/register/tZYufu2vrDguHdT_tS3lDI7sBGlh3qnd8ZFU#/registration \n 
URL:https://pcpi.ca/event/new-pathway-program-info-session-on-zoom-3-2023-07-11/
END:VEVENT
BEGIN:VEVENT
DTSTART;TZID=UTC:20230710T083000
DTEND;TZID=UTC:20230710T163000
DTSTAMP:20260420T013830
CREATED:20230619T141757Z
LAST-MODIFIED:20230619T142011Z
UID:10002058-1688977800-1689006600@pcpi.ca
SUMMARY:One on One Session with a Resource & Information Specialist (In Person)
DESCRIPTION:One on One Session with a Resource & Information Specialist (In Person) \nTo be booked by Career Coach\nAvailable within office hours
URL:https://pcpi.ca/event/one-on-one-session-with-a-resource-information-specialist-in-person/
END:VEVENT
BEGIN:VEVENT
DTSTART;TZID=UTC:20230707T100000
DTEND;TZID=UTC:20230707T233000
DTSTAMP:20260420T013830
CREATED:20230619T141250Z
LAST-MODIFIED:20230619T141311Z
UID:10002052-1688724000-1688772600@pcpi.ca
SUMMARY:Better Jobs Ontario  Information Session (In Person)
DESCRIPTION:Better Jobs Ontario Information Session (In Person) \nClick here to register
URL:https://pcpi.ca/event/better-jobs-ontario-information-session-in-person/
END:VEVENT
BEGIN:VEVENT
DTSTART;TZID=UTC:20230706T130000
DTEND;TZID=UTC:20230706T150000
DTSTAMP:20260420T013830
CREATED:20230619T141015Z
LAST-MODIFIED:20230619T141015Z
UID:10002051-1688648400-1688655600@pcpi.ca
SUMMARY:II. Learn to Write a Cover Letter (In Person)
DESCRIPTION:II. Learn to Write a Cover Letter (In Person) \nIn Computer Lab \nClick here to register
URL:https://pcpi.ca/event/ii-learn-to-write-a-cover-letter-in-person/
END:VEVENT
BEGIN:VEVENT
DTSTART;TZID=UTC:20230706T100000
DTEND;TZID=UTC:20230706T120000
DTSTAMP:20260420T013830
CREATED:20230619T140701Z
LAST-MODIFIED:20230619T140808Z
UID:10002050-1688637600-1688644800@pcpi.ca
SUMMARY:Reading between the Lines of a Job Posting (In Person)
DESCRIPTION:Reading between the Lines of a Job Posting (In Person) \nClick here to register
URL:https://pcpi.ca/event/reading-between-the-lines-of-a-job-posting-in-person/
END:VEVENT
BEGIN:VEVENT
DTSTART;TZID=UTC:20230706T100000
DTEND;TZID=UTC:20230706T110000
DTSTAMP:20260420T013830
CREATED:20230619T134329Z
LAST-MODIFIED:20230619T134657Z
UID:10002034-1688637600-1688641200@pcpi.ca
SUMMARY:New Pathway Program Info Session (On ZOOM)
DESCRIPTION:New Pathway Program Info Session (On ZOOM) \nhttps://us02web.zoom.us/meeting/register/tZIpf-ypqD8jEtXqzct-29WkNFnaVq9wOsXA#/registration
URL:https://pcpi.ca/event/new-pathway-program-info-session-on-zoom-3-2023-07-06/
END:VEVENT
BEGIN:VEVENT
DTSTART;TZID=UTC:20230705T100000
DTEND;TZID=UTC:20230705T113000
DTSTAMP:20260420T013830
CREATED:20230619T140308Z
LAST-MODIFIED:20230619T140308Z
UID:10002049-1688551200-1688556600@pcpi.ca
SUMMARY:Housing information for Newcomers – LANDLORD AND TENANT RIGHTS (On ZOOM)
DESCRIPTION:Housing information for Newcomers – LANDLORD AND TENANT RIGHTS (On ZOOM) \nhttps://us02web.zoom.us/meeting/register/tZYrcequqTIvGN38G5gOcJYsoyWNnREBw0Fo#/registration
URL:https://pcpi.ca/event/housing-information-for-newcomers-landlord-and-tenant-rights-on-zoom/
END:VEVENT
BEGIN:VEVENT
DTSTART;TZID=UTC:20230705T100000
DTEND;TZID=UTC:20230705T110000
DTSTAMP:20260420T013830
CREATED:20230619T135829Z
LAST-MODIFIED:20230619T135853Z
UID:10002047-1688551200-1688554800@pcpi.ca
SUMMARY:PCPI  Employment Ontario Information Session (In Person)
DESCRIPTION:PCPI Employment Ontario Information Session (In Person) \nClick here to register
URL:https://pcpi.ca/event/pcpi-employment-ontario-information-session-in-person-2/
END:VEVENT
END:VCALENDAR