BEGIN:VCALENDAR
VERSION:2.0
PRODID:-//Progress Career Planning Institute (PCPI) - ECPv6.9.0//NONSGML v1.0//EN
CALSCALE:GREGORIAN
METHOD:PUBLISH
X-WR-CALNAME:Progress Career Planning Institute (PCPI)
X-ORIGINAL-URL:https://pcpi.ca
X-WR-CALDESC:Events for Progress Career Planning Institute (PCPI)
REFRESH-INTERVAL;VALUE=DURATION:PT1H
X-Robots-Tag:noindex
X-PUBLISHED-TTL:PT1H
BEGIN:VTIMEZONE
TZID:UTC
BEGIN:STANDARD
TZOFFSETFROM:+0000
TZOFFSETTO:+0000
TZNAME:UTC
DTSTART:20230101T000000
END:STANDARD
END:VTIMEZONE
BEGIN:VEVENT
DTSTART;TZID=UTC:20231212T100000
DTEND;TZID=UTC:20231212T120000
DTSTAMP:20260419T233240
CREATED:20231117T142000Z
LAST-MODIFIED:20231117T142000Z
UID:10001825-1702375200-1702382400@pcpi.ca
SUMMARY:I. Create a Resume that Sells You! (In Person)
DESCRIPTION:I. Create a Resume that Sells You! (In Person) \nRegister here
URL:https://pcpi.ca/event/i-create-a-resume-that-sells-you-in-person-6/
END:VEVENT
BEGIN:VEVENT
DTSTART;TZID=UTC:20231212T130000
DTEND;TZID=UTC:20231212T150000
DTSTAMP:20260419T233240
CREATED:20231117T142207Z
LAST-MODIFIED:20231117T142207Z
UID:10001827-1702386000-1702393200@pcpi.ca
SUMMARY:II. Learn to Write a Resume (In Computer Lab)
DESCRIPTION:II. Learn to Write a Resume (In Computer Lab) \nRegister here
URL:https://pcpi.ca/event/ii-learn-to-write-a-resume-in-computer-lab-5/
END:VEVENT
BEGIN:VEVENT
DTSTART;TZID=UTC:20231213T100000
DTEND;TZID=UTC:20231213T110000
DTSTAMP:20260419T233240
CREATED:20231117T142622Z
LAST-MODIFIED:20231117T142622Z
UID:10001831-1702461600-1702465200@pcpi.ca
SUMMARY:Introduction to MS SharePoint and Microsoft 365 (ZOOM)
DESCRIPTION:Introduction to MS SharePoint and Microsoft 365 (ZOOM) \nRegister here: https://us02web.zoom.us/meeting/register/tZIqcOGurD8jEtZpSHFjw1fN7-I4-Ru54hxw#/registration
URL:https://pcpi.ca/event/introduction-to-ms-sharepoint-and-microsoft-365-zoom/
END:VEVENT
BEGIN:VEVENT
DTSTART;TZID=UTC:20231213T100000
DTEND;TZID=UTC:20231213T110000
DTSTAMP:20260419T233240
CREATED:20231117T144431Z
LAST-MODIFIED:20231117T144431Z
UID:10001835-1702461600-1702465200@pcpi.ca
SUMMARY:Dress for Success (Newcomers) (ZOOM)
DESCRIPTION:Dress for Success (Newcomers) (ZOOM) \nRegister here: https://us02web.zoom.us/meeting/register/tZYocuGurzkrGdKDV5SA0z2sMyZZLERvn8hi#/registration
URL:https://pcpi.ca/event/dress-for-success-newcomers-zoom/
END:VEVENT
BEGIN:VEVENT
DTSTART;TZID=UTC:20231213T100000
DTEND;TZID=UTC:20231213T120000
DTSTAMP:20260419T233240
CREATED:20231116T182631Z
LAST-MODIFIED:20231116T182745Z
UID:10002218-1702461600-1702468800@pcpi.ca
SUMMARY:PCPI  Employment Ontario Information Session (In Person)
DESCRIPTION:PCPI Employment Ontario Information Session (In Person) \nRegister here.
URL:https://pcpi.ca/event/pcpi-employment-ontario-information-session-in-person-9-2023-12-13/
END:VEVENT
BEGIN:VEVENT
DTSTART;TZID=UTC:20231214T100000
DTEND;TZID=UTC:20231214T120000
DTSTAMP:20260419T233240
CREATED:20231117T144256Z
LAST-MODIFIED:20231117T144256Z
UID:10001833-1702548000-1702555200@pcpi.ca
SUMMARY:Employer Expectations (In Person)
DESCRIPTION:Employer Expectations (In Person) \nRegister here
URL:https://pcpi.ca/event/employer-expectations-in-person-5/
END:VEVENT
BEGIN:VEVENT
DTSTART;TZID=UTC:20231215T100000
DTEND;TZID=UTC:20231215T120000
DTSTAMP:20260419T233240
CREATED:20231117T144614Z
LAST-MODIFIED:20231117T160316Z
UID:10001837-1702634400-1702641600@pcpi.ca
SUMMARY:Occupational Health & Safety & Know Your Rights In the Workplace (In Person)
DESCRIPTION:Occupational Health & Safety & Know Your Rights In the Workplace (In Person) \nRegister here
URL:https://pcpi.ca/event/occupational-health-safety-know-your-rights-in-the-workplace-in-person-6/
END:VEVENT
BEGIN:VEVENT
DTSTART;TZID=UTC:20231218T100000
DTEND;TZID=UTC:20231218T120000
DTSTAMP:20260419T233240
CREATED:20231116T182631Z
LAST-MODIFIED:20231116T182800Z
UID:10002219-1702893600-1702900800@pcpi.ca
SUMMARY:PCPI  Employment Ontario Information Session (In Person)
DESCRIPTION:PCPI Employment Ontario Information Session (In Person) \nRegister here.
URL:https://pcpi.ca/event/pcpi-employment-ontario-information-session-in-person-9-2023-12-18/
END:VEVENT
BEGIN:VEVENT
DTSTART;TZID=UTC:20231219T100000
DTEND;TZID=UTC:20231219T120000
DTSTAMP:20260419T233240
CREATED:20231116T183606Z
LAST-MODIFIED:20231116T183816Z
UID:10002222-1702980000-1702987200@pcpi.ca
SUMMARY:I. Job Interview Strategies (In Person)
DESCRIPTION:I. Job Interview Strategies (In Person) \nRegister here
URL:https://pcpi.ca/event/i-job-interview-strategies-in-person-8-2023-12-19/
END:VEVENT
BEGIN:VEVENT
DTSTART;TZID=UTC:20231219T130000
DTEND;TZID=UTC:20231219T150000
DTSTAMP:20260419T233240
CREATED:20231116T184202Z
LAST-MODIFIED:20231116T184327Z
UID:10002224-1702990800-1702998000@pcpi.ca
SUMMARY:II. Practice Interview Questions  (In Person)
DESCRIPTION:II. Practice Interview Questions (In Person) \nRegister here
URL:https://pcpi.ca/event/ii-practice-interview-questions-in-person-5-2023-12-19/
END:VEVENT
BEGIN:VEVENT
DTSTART;TZID=UTC:20231220T090000
DTEND;TZID=UTC:20231220T160000
DTSTAMP:20260419T233240
CREATED:20231117T141409Z
LAST-MODIFIED:20231117T141732Z
UID:10001823-1703062800-1703088000@pcpi.ca
SUMMARY:One on One Session with a Resource & Information Specialist (In Person)
DESCRIPTION:One on One Session with a Resource & Information Specialist (In Person)\nTo be booked by Career Coach Available within office hours \nRegister here
URL:https://pcpi.ca/event/one-on-one-session-with-a-resource-information-specialist-in-person-12-2023-12-20/
END:VEVENT
BEGIN:VEVENT
DTSTART;TZID=UTC:20231221T100000
DTEND;TZID=UTC:20231221T120000
DTSTAMP:20260419T233240
CREATED:20231116T190053Z
LAST-MODIFIED:20231116T190148Z
UID:10002230-1703152800-1703160000@pcpi.ca
SUMMARY:Career Cruising (In Computer Lab)
DESCRIPTION:Career Cruising (In Computer Lab) \nRegister here
URL:https://pcpi.ca/event/career-cruising-in-computer-lab-2023-12-21/
END:VEVENT
BEGIN:VEVENT
DTSTART;TZID=UTC:20231221T100000
DTEND;TZID=UTC:20231221T120000
DTSTAMP:20260419T233240
CREATED:20231117T204615Z
LAST-MODIFIED:20231117T204745Z
UID:10001839-1703152800-1703160000@pcpi.ca
SUMMARY:Labour Market Trends (In Person)
DESCRIPTION:Labour Market Trends (In Person) \nRegister here
URL:https://pcpi.ca/event/labour-market-trends-in-person-3/
END:VEVENT
BEGIN:VEVENT
DTSTART;TZID=UTC:20231222T100000
DTEND;TZID=UTC:20231222T113000
DTSTAMP:20260419T233240
CREATED:20231117T204932Z
LAST-MODIFIED:20231117T204932Z
UID:10001841-1703239200-1703244600@pcpi.ca
SUMMARY:Better Jobs Ontario  Information Session (In Person)
DESCRIPTION:Better Jobs Ontario Information Session (In Person) \nRegister here
URL:https://pcpi.ca/event/better-jobs-ontario-information-session-in-person-7/
END:VEVENT
BEGIN:VEVENT
DTSTART;TZID=UTC:20231225T083000
DTEND;TZID=UTC:20231225T163000
DTSTAMP:20260419T233240
CREATED:20231122T135140Z
LAST-MODIFIED:20231122T135140Z
UID:10002236-1703493000-1703521800@pcpi.ca
SUMMARY:Office Closed for Christmas Day
DESCRIPTION:
URL:https://pcpi.ca/event/office-closed-for-christmas-day/
END:VEVENT
BEGIN:VEVENT
DTSTART;TZID=UTC:20231226T083000
DTEND;TZID=UTC:20231226T163000
DTSTAMP:20260419T233240
CREATED:20231122T135236Z
LAST-MODIFIED:20231122T135236Z
UID:10002237-1703579400-1703608200@pcpi.ca
SUMMARY:Office Closed for Boxing Day
DESCRIPTION:
URL:https://pcpi.ca/event/office-closed-for-boxing-day/
END:VEVENT
BEGIN:VEVENT
DTSTART;TZID=UTC:20231227T100000
DTEND;TZID=UTC:20231227T110000
DTSTAMP:20260419T233240
CREATED:20231121T144312Z
LAST-MODIFIED:20231121T144312Z
UID:10002233-1703671200-1703674800@pcpi.ca
SUMMARY:Canadian Banking Process (ZOOM)
DESCRIPTION:Canadian Banking Process (ZOOM) \nRegister here: https://us02web.zoom.us/meeting/register/tZYvc-yvrTMuHNQlekBqrPFn40nUv1dDWdBZ#/registration
URL:https://pcpi.ca/event/canadian-banking-process-zoom/
END:VEVENT
BEGIN:VEVENT
DTSTART;TZID=UTC:20231227T100000
DTEND;TZID=UTC:20231227T120000
DTSTAMP:20260419T233240
CREATED:20231116T182631Z
LAST-MODIFIED:20231116T182816Z
UID:10002220-1703671200-1703678400@pcpi.ca
SUMMARY:PCPI  Employment Ontario Information Session (In Person)
DESCRIPTION:PCPI Employment Ontario Information Session (In Person) \nRegister here.
URL:https://pcpi.ca/event/pcpi-employment-ontario-information-session-in-person-9-2023-12-27/
END:VEVENT
BEGIN:VEVENT
DTSTART;TZID=UTC:20231228T100000
DTEND;TZID=UTC:20231228T120000
DTSTAMP:20260419T233240
CREATED:20231121T144547Z
LAST-MODIFIED:20231121T144547Z
UID:10002234-1703757600-1703764800@pcpi.ca
SUMMARY:I. Reading between the Lines of a Job Posting (In Person)
DESCRIPTION:I. Reading between the Lines of a Job Posting (In Person) \nRegister here
URL:https://pcpi.ca/event/i-reading-between-the-lines-of-a-job-posting-in-person-4/
END:VEVENT
BEGIN:VEVENT
DTSTART;TZID=UTC:20231229T130000
DTEND;TZID=UTC:20231229T153000
DTSTAMP:20260419T233240
CREATED:20231121T153946Z
LAST-MODIFIED:20231121T153946Z
UID:10002235-1703854800-1703863800@pcpi.ca
SUMMARY:II. Learn to Write a Cover Letter (In Computer Lab)
DESCRIPTION:II. Learn to Write a Cover Letter (In Computer Lab) \nRegister here
URL:https://pcpi.ca/event/ii-learn-to-write-a-cover-letter-in-computer-lab-4/
END:VEVENT
BEGIN:VEVENT
DTSTART;TZID=UTC:20240101T083000
DTEND;TZID=UTC:20240101T163000
DTSTAMP:20260419T233240
CREATED:20231122T135329Z
LAST-MODIFIED:20231122T135329Z
UID:10002238-1704097800-1704126600@pcpi.ca
SUMMARY:Office Closed for New Year's Day
DESCRIPTION:
URL:https://pcpi.ca/event/office-closed-for-new-years-day/
END:VEVENT
BEGIN:VEVENT
DTSTART;TZID=UTC:20240102T100000
DTEND;TZID=UTC:20240102T120000
DTSTAMP:20260419T233240
CREATED:20240103T142721Z
LAST-MODIFIED:20240103T142721Z
UID:10002239-1704189600-1704196800@pcpi.ca
SUMMARY:I. Create a Resume that Sells You! - In Person
DESCRIPTION:I. Create a Resume that Sells You! – In Person \nRegister here
URL:https://pcpi.ca/event/i-create-a-resume-that-sells-you-in-person-7/
END:VEVENT
BEGIN:VEVENT
DTSTART;TZID=UTC:20240102T130000
DTEND;TZID=UTC:20240102T150000
DTSTAMP:20260419T233240
CREATED:20240103T211552Z
LAST-MODIFIED:20240103T211922Z
UID:10002242-1704200400-1704207600@pcpi.ca
SUMMARY:II. Learn to Write a Resume - In Computer Lab
DESCRIPTION:II. Learn to Write a Resume – In Computer Lab \nRegister here
URL:https://pcpi.ca/event/ii-learn-to-write-a-resume-in-computer-lab-6/
END:VEVENT
BEGIN:VEVENT
DTSTART;TZID=UTC:20240103T100000
DTEND;TZID=UTC:20240103T110000
DTSTAMP:20260419T233240
CREATED:20240103T212423Z
LAST-MODIFIED:20240103T212423Z
UID:10002245-1704276000-1704279600@pcpi.ca
SUMMARY:PCPI  Employment Ontario Information Session - In Person –
DESCRIPTION:PCPI Employment Ontario Information Session – In Person – \nRegister here
URL:https://pcpi.ca/event/pcpi-employment-ontario-information-session-in-person-10/
END:VEVENT
BEGIN:VEVENT
DTSTART;TZID=UTC:20240104T100000
DTEND;TZID=UTC:20240104T130000
DTSTAMP:20260419T233240
CREATED:20240103T212803Z
LAST-MODIFIED:20240103T212803Z
UID:10002248-1704362400-1704373200@pcpi.ca
SUMMARY:The Employment Network with Practice - In Person –
DESCRIPTION:The Employment Network with Practice – In Person – \nRegister here
URL:https://pcpi.ca/event/the-employment-network-with-practice-in-person-7/
END:VEVENT
BEGIN:VEVENT
DTSTART;TZID=UTC:20240105T100000
DTEND;TZID=UTC:20240105T113000
DTSTAMP:20260419T233240
CREATED:20240104T133849Z
LAST-MODIFIED:20240104T133849Z
UID:10002249-1704448800-1704454200@pcpi.ca
SUMMARY:Better Jobs Ontario  Information Session - In Person –
DESCRIPTION:Better Jobs Ontario Information Session – In Person – \nRegister here
URL:https://pcpi.ca/event/better-jobs-ontario-information-session-in-person-8/
END:VEVENT
BEGIN:VEVENT
DTSTART;TZID=UTC:20240108T090000
DTEND;TZID=UTC:20240108T160000
DTSTAMP:20260419T233240
CREATED:20240104T134226Z
LAST-MODIFIED:20240104T134226Z
UID:10002250-1704704400-1704729600@pcpi.ca
SUMMARY:One on One Session with a Resource & Information Specialist To be booked by Career Coach Available within office hours - In Person -
DESCRIPTION:One on One Session with a Resource & Information Specialist To be booked by Career Coach Available within office hours – In Person – \nRegister here
URL:https://pcpi.ca/event/one-on-one-session-with-a-resource-information-specialist-to-be-booked-by-career-coach-available-within-office-hours-in-person/
END:VEVENT
BEGIN:VEVENT
DTSTART;TZID=UTC:20240109T100000
DTEND;TZID=UTC:20240109T120000
DTSTAMP:20260419T233240
CREATED:20240104T134709Z
LAST-MODIFIED:20240104T134709Z
UID:10002252-1704794400-1704801600@pcpi.ca
SUMMARY:I. Job Interview Strategies - In Person –
DESCRIPTION:I. Job Interview Strategies – In Person – \nRegister here
URL:https://pcpi.ca/event/i-job-interview-strategies-in-person-9/
END:VEVENT
BEGIN:VEVENT
DTSTART;TZID=UTC:20240109T100000
DTEND;TZID=UTC:20240109T123000
DTSTAMP:20260419T233240
CREATED:20240104T135802Z
LAST-MODIFIED:20240104T135802Z
UID:10002256-1704794400-1704803400@pcpi.ca
SUMMARY:FREE DIGITAL LITERACY - Google Docs\, Sheets\, Slides and Calendar - In Person
DESCRIPTION:FREE DIGITAL LITERACY – Google Docs\, Sheets\, Slides and Calendar – In Person \nhttps://us02web.zoom.us/meeting/register/tZUsdO6hqT8uHNbphsKWDn5RnJ2mE7OJbCpk#/registration
URL:https://pcpi.ca/event/free-digital-literacy-google-docs-sheets-slides-and-calendar-in-person/
END:VEVENT
BEGIN:VEVENT
DTSTART;TZID=UTC:20240109T130000
DTEND;TZID=UTC:20240109T150000
DTSTAMP:20260419T233240
CREATED:20240104T135505Z
LAST-MODIFIED:20240104T135505Z
UID:10002254-1704805200-1704812400@pcpi.ca
SUMMARY:II. Practice Interview Questions - In Person –
DESCRIPTION:II. Practice Interview Questions – In Person – \nRegister here
URL:https://pcpi.ca/event/ii-practice-interview-questions-in-person-6/
END:VEVENT
END:VCALENDAR