BEGIN:VCALENDAR
VERSION:2.0
PRODID:-//Progress Career Planning Institute (PCPI) - ECPv6.9.0//NONSGML v1.0//EN
CALSCALE:GREGORIAN
METHOD:PUBLISH
X-WR-CALNAME:Progress Career Planning Institute (PCPI)
X-ORIGINAL-URL:https://pcpi.ca
X-WR-CALDESC:Events for Progress Career Planning Institute (PCPI)
REFRESH-INTERVAL;VALUE=DURATION:PT1H
X-Robots-Tag:noindex
X-PUBLISHED-TTL:PT1H
BEGIN:VTIMEZONE
TZID:UTC
BEGIN:STANDARD
TZOFFSETFROM:+0000
TZOFFSETTO:+0000
TZNAME:UTC
DTSTART:20250101T000000
END:STANDARD
END:VTIMEZONE
BEGIN:VEVENT
DTSTART;TZID=UTC:20250327T100000
DTEND;TZID=UTC:20250327T153000
DTSTAMP:20260421T180450
CREATED:20250227T181957Z
LAST-MODIFIED:20250227T182108Z
UID:10002844-1743069600-1743089400@pcpi.ca
SUMMARY:FREE TAX CLINIC
DESCRIPTION:FREE TAX CLINIC \nPlease call or email to register
URL:https://pcpi.ca/event/free-tax-clinic-2/2025-03-27/
END:VEVENT
BEGIN:VEVENT
DTSTART;TZID=UTC:20250328T100000
DTEND;TZID=UTC:20250328T153000
DTSTAMP:20260421T180450
CREATED:20250227T181957Z
LAST-MODIFIED:20250227T182108Z
UID:10002845-1743156000-1743175800@pcpi.ca
SUMMARY:FREE TAX CLINIC
DESCRIPTION:FREE TAX CLINIC \nPlease call or email to register
URL:https://pcpi.ca/event/free-tax-clinic-2/2025-03-28/
END:VEVENT
BEGIN:VEVENT
DTSTART;TZID=UTC:20250328T110000
DTEND;TZID=UTC:20250328T120000
DTSTAMP:20260421T180450
CREATED:20250227T184620Z
LAST-MODIFIED:20250227T184620Z
UID:10002847-1743159600-1743163200@pcpi.ca
SUMMARY:Navigating Police Museum and Legal Resources for Newcomers - In Person –
DESCRIPTION:Navigating Police Museum and Legal Resources for Newcomers – In Person – \nRegister here
URL:https://pcpi.ca/event/navigating-police-museum-and-legal-resources-for-newcomers-in-person/
END:VEVENT
BEGIN:VEVENT
DTSTART;TZID=UTC:20250401T133000
DTEND;TZID=UTC:20250401T143000
DTSTAMP:20260421T180450
CREATED:20250320T192242Z
LAST-MODIFIED:20250320T192242Z
UID:10002849-1743514200-1743517800@pcpi.ca
SUMMARY:Information sesision with Achev - On Zoom –
DESCRIPTION:Information sesision with Achev – On Zoom – \nhttps://achev-ca.zoom.us/webinar/register/WN_RuDQHyjTTzS7WdKn2pFtiQ#/registration
URL:https://pcpi.ca/event/information-sesision-with-achev-on-zoom/
END:VEVENT
BEGIN:VEVENT
DTSTART;TZID=UTC:20250402T120000
DTEND;TZID=UTC:20250402T130000
DTSTAMP:20260421T180450
CREATED:20250304T212106Z
LAST-MODIFIED:20250304T212106Z
UID:10002848-1743595200-1743598800@pcpi.ca
SUMMARY:International Nurses Licensure Assistance Pathway (INLAP) Information Session
DESCRIPTION:International Nurses Licensure Assistance Pathway (INLAP) Information Session \nRegister here
URL:https://pcpi.ca/event/international-nurses-licensure-assistance-pathway-inlap-information-session/
END:VEVENT
BEGIN:VEVENT
DTSTART;TZID=UTC:20250414T090000
DTEND;TZID=UTC:20250414T153000
DTSTAMP:20260421T180450
CREATED:20250320T192455Z
LAST-MODIFIED:20250320T192455Z
UID:10002850-1744621200-1744644600@pcpi.ca
SUMMARY:INLAP Cohort 4 start
DESCRIPTION:INLAP Cohort 4 start
URL:https://pcpi.ca/event/inlap-cohort-4-start/
END:VEVENT
BEGIN:VEVENT
DTSTART;TZID=UTC:20250418T083000
DTEND;TZID=UTC:20250418T170000
DTSTAMP:20260421T180450
CREATED:20250327T123725Z
LAST-MODIFIED:20250327T123725Z
UID:10002851-1744965000-1744995600@pcpi.ca
SUMMARY:GOOD FRIDAY – OFFICE CLOSED
DESCRIPTION:GOOD FRIDAY – OFFICE CLOSED
URL:https://pcpi.ca/event/good-friday-office-closed-2/
END:VEVENT
BEGIN:VEVENT
DTSTART;TZID=UTC:20250519T083000
DTEND;TZID=UTC:20250519T170000
DTSTAMP:20260421T180450
CREATED:20250425T134026Z
LAST-MODIFIED:20250425T134026Z
UID:10002852-1747643400-1747674000@pcpi.ca
SUMMARY:VICTORIA DAY – OFFICE CLOSED
DESCRIPTION:VICTORIA DAY – OFFICE CLOSED
URL:https://pcpi.ca/event/victoria-day-office-closed-2/
END:VEVENT
BEGIN:VEVENT
DTSTART;TZID=UTC:20250520T100000
DTEND;TZID=UTC:20250520T160000
DTSTAMP:20260421T180450
CREATED:20250502T152051Z
LAST-MODIFIED:20250502T152051Z
UID:10002854-1747735200-1747756800@pcpi.ca
SUMMARY:Employment-Relevant Language Training (HealthCare) Start: May 20 End: July 16 Monday to Friday 10:00 AM to 4:00 PM -ZOOM-
DESCRIPTION:Employment-Relevant Language Training (HealthCare) \nStart: May 20 End: July 16 Monday to Friday 10:00 AM to 4:00 PM -ZOOM- \nRegister now
URL:https://pcpi.ca/event/employment-relevant-language-training-healthcare-start-may-20-end-july-16-monday-to-friday-1000-am-to-400-pm-zoom/
END:VEVENT
BEGIN:VEVENT
DTSTART;TZID=UTC:20250520T110000
DTEND;TZID=UTC:20250520T140000
DTSTAMP:20260421T180450
CREATED:20250502T151639Z
LAST-MODIFIED:20250502T151639Z
UID:10002853-1747738800-1747749600@pcpi.ca
SUMMARY:Culinary Workshop for Newcomers -IN-PERSON-
DESCRIPTION:Culinary Workshop for Newcomers -IN-PERSON-\nLocation: 4040 Lawrence Ave East \nRegister now
URL:https://pcpi.ca/event/culinary-workshop-for-newcomers-in-person-2/
END:VEVENT
BEGIN:VEVENT
DTSTART;TZID=UTC:20250521T110000
DTEND;TZID=UTC:20250521T123000
DTSTAMP:20260421T180450
CREATED:20250502T152234Z
LAST-MODIFIED:20250502T152234Z
UID:10002855-1747825200-1747830600@pcpi.ca
SUMMARY:Newcomer Taxpayers Information Session -ZOOM-
DESCRIPTION:Newcomer Taxpayers Information Session\nIn collaboration with the Canada Revenue Agency (CRA)\n11:00 AM to 12:30 PM\n-ZOOM- \nRegister now
URL:https://pcpi.ca/event/newcomer-taxpayers-information-session-zoom/
END:VEVENT
BEGIN:VEVENT
DTSTART;TZID=UTC:20250522T110000
DTEND;TZID=UTC:20250522T160000
DTSTAMP:20260421T180450
CREATED:20250502T152442Z
LAST-MODIFIED:20250502T152442Z
UID:10002856-1747911600-1747929600@pcpi.ca
SUMMARY:Understanding Canadian Workplace Culture -ZOOM-
DESCRIPTION:Understanding Canadian Workplace Culture -ZOOM- \nRegister now
URL:https://pcpi.ca/event/understanding-canadian-workplace-culture-zoom/
END:VEVENT
BEGIN:VEVENT
DTSTART;TZID=UTC:20250527T150000
DTEND;TZID=UTC:20250527T163000
DTSTAMP:20260421T180450
CREATED:20250502T152837Z
LAST-MODIFIED:20250502T152837Z
UID:10002857-1748358000-1748363400@pcpi.ca
SUMMARY:Jobs in Demand Information Session -ZOOM-
DESCRIPTION:Jobs in Demand Information Session -ZOOM- \nRegister now
URL:https://pcpi.ca/event/jobs-in-demand-information-session-zoom/
END:VEVENT
BEGIN:VEVENT
DTSTART;TZID=UTC:20250528T090000
DTEND;TZID=UTC:20250528T140000
DTSTAMP:20260421T180450
CREATED:20250502T153153Z
LAST-MODIFIED:20250502T153153Z
UID:10002858-1748422800-1748440800@pcpi.ca
SUMMARY:Food Handling Certification Training for Newcomers Day 1 -ZOOM-
DESCRIPTION:Food Handling Certification Training for Newcomers Day 1 -ZOOM- \nRegister now
URL:https://pcpi.ca/event/food-handling-certification-training-for-newcomers-day-1-zoom/
END:VEVENT
BEGIN:VEVENT
DTSTART;TZID=UTC:20250529T093000
DTEND;TZID=UTC:20250529T140000
DTSTAMP:20260421T180450
CREATED:20250502T153426Z
LAST-MODIFIED:20250502T153426Z
UID:10002859-1748511000-1748527200@pcpi.ca
SUMMARY:Food Handling Certification Training for Newcomers Day 2 -ZOOM-
DESCRIPTION:Food Handling Certification Training for Newcomers Day 2 -ZOOM- \nRegister now
URL:https://pcpi.ca/event/food-handling-certification-training-for-newcomers-day-2-zoom/
END:VEVENT
BEGIN:VEVENT
DTSTART;TZID=UTC:20250602T100000
DTEND;TZID=UTC:20250602T110000
DTSTAMP:20260421T180450
CREATED:20250527T125902Z
LAST-MODIFIED:20250528T190445Z
UID:10002860-1748858400-1748862000@pcpi.ca
SUMMARY:Job Search Tips and Strategies -ZOOM-
DESCRIPTION:Job Search Tips and Strategies -ZOOM- \nhttps://us02web.zoom.us/meeting/register/JwVf5Rm-QOaCDTFvO9sheg#/registration
URL:https://pcpi.ca/event/job-search-tips-and-strategies-zoom/
END:VEVENT
BEGIN:VEVENT
DTSTART;TZID=UTC:20250604T100000
DTEND;TZID=UTC:20250604T150000
DTSTAMP:20260421T180450
CREATED:20250527T130058Z
LAST-MODIFIED:20250527T130058Z
UID:10002861-1749031200-1749049200@pcpi.ca
SUMMARY:Building Contacts for Job Opportunities -IN PERSON-
DESCRIPTION:Building Contacts for Job Opportunities -IN PERSON- \nhttps://us02web.zoom.us/meeting/register/uq9Umjm8QjKNY8SiJR8MAg#/registration
URL:https://pcpi.ca/event/building-contacts-for-job-opportunities-in-person/
END:VEVENT
BEGIN:VEVENT
DTSTART;TZID=UTC:20250609T100000
DTEND;TZID=UTC:20250609T110000
DTSTAMP:20260421T180450
CREATED:20250527T130325Z
LAST-MODIFIED:20250527T130325Z
UID:10002862-1749463200-1749466800@pcpi.ca
SUMMARY:Exploring Apprenticeship Programs and Benefits -ZOOM-
DESCRIPTION:Exploring Apprenticeship Programs and Benefits -ZOOM- \nhttps://us02web.zoom.us/meeting/register/Prne5x8ISvue6whUYrzKKQ#/registration
URL:https://pcpi.ca/event/exploring-apprenticeship-programs-and-benefits-zoom/
END:VEVENT
BEGIN:VEVENT
DTSTART;TZID=UTC:20250611T100000
DTEND;TZID=UTC:20250611T150000
DTSTAMP:20260421T180450
CREATED:20250527T130636Z
LAST-MODIFIED:20250528T190332Z
UID:10002863-1749636000-1749654000@pcpi.ca
SUMMARY:Job Interview Tips and Strategies -IN PERSON-
DESCRIPTION:Job Interview Tips and Strategies -IN PERSON- \nhttps://us02web.zoom.us/meeting/register/P8ygi06vQ_axZDvy9m1iuw#/registration
URL:https://pcpi.ca/event/job-interview-tips-and-strategies-in-person/
END:VEVENT
BEGIN:VEVENT
DTSTART;TZID=UTC:20250616T100000
DTEND;TZID=UTC:20250616T110000
DTSTAMP:20260421T180450
CREATED:20250527T131134Z
LAST-MODIFIED:20250528T190721Z
UID:10002864-1750068000-1750071600@pcpi.ca
SUMMARY:EI Regular Benefits Step-by-Step Guide -ZOOM-
DESCRIPTION:EI Regular Benefits Step-by-Step Guide -ZOOM- \nhttps://us02web.zoom.us/meeting/register/q4KzJuE_T0-81CU4kuULLg#/registration
URL:https://pcpi.ca/event/ei-regular-benefits-a-step-by-step-guide-zoom/
END:VEVENT
BEGIN:VEVENT
DTSTART;TZID=UTC:20250618T110000
DTEND;TZID=UTC:20250618T123000
DTSTAMP:20260421T180450
CREATED:20250527T131503Z
LAST-MODIFIED:20250527T131503Z
UID:10002865-1750244400-1750249800@pcpi.ca
SUMMARY:Jobs in Demand Information Session -ZOOM-
DESCRIPTION:Jobs in Demand Information Session -ZOOM- \nhttps://us02web.zoom.us/meeting/register/zwMtY4k9QpK61gs6JF-MIg#/registration
URL:https://pcpi.ca/event/jobs-in-demand-information-session-zoom-2/
END:VEVENT
BEGIN:VEVENT
DTSTART;TZID=UTC:20250620T110000
DTEND;TZID=UTC:20250620T123000
DTSTAMP:20260421T180450
CREATED:20250527T131628Z
LAST-MODIFIED:20250528T190638Z
UID:10002866-1750417200-1750422600@pcpi.ca
SUMMARY:Resume Makeover -IN PERSON-
DESCRIPTION:Resume Makeover -IN PERSON- \nhttps://us02web.zoom.us/meeting/register/3PuqmPABTrm1InTrLdwGIA#/registration
URL:https://pcpi.ca/event/resume-makeover-group-of-5-session-in-person/
END:VEVENT
BEGIN:VEVENT
DTSTART;TZID=UTC:20250623T100000
DTEND;TZID=UTC:20250623T110000
DTSTAMP:20260421T180450
CREATED:20250527T131740Z
LAST-MODIFIED:20250528T190159Z
UID:10002867-1750672800-1750676400@pcpi.ca
SUMMARY:EI Special Benefits Step-by-Step Guide -ZOOM-
DESCRIPTION:EI Special Benefits Step-by-Step Guide -ZOOM- \nhttps://us02web.zoom.us/meeting/register/doLClu2BQIG9EtYrkjs5fA#/registration
URL:https://pcpi.ca/event/ei-special-benefits-a-step-by-step-guide-zoom/
END:VEVENT
BEGIN:VEVENT
DTSTART;TZID=UTC:20250624T110000
DTEND;TZID=UTC:20250624T140000
DTSTAMP:20260421T180450
CREATED:20250527T131855Z
LAST-MODIFIED:20250527T131855Z
UID:10002868-1750762800-1750773600@pcpi.ca
SUMMARY:Cooking Healthy Meals on a Budget -IN PERSON-
DESCRIPTION:Cooking Healthy Meals on a Budget -IN PERSON- \nhttps://us02web.zoom.us/meeting/register/I48DlIjsTpiQeai9tJJBfw#/registration
URL:https://pcpi.ca/event/cooking-healthy-meals-on-a-budget-in-person/
END:VEVENT
BEGIN:VEVENT
DTSTART;TZID=UTC:20250625T100000
DTEND;TZID=UTC:20250625T150000
DTSTAMP:20260421T180450
CREATED:20250527T132000Z
LAST-MODIFIED:20250527T132000Z
UID:10002869-1750845600-1750863600@pcpi.ca
SUMMARY:Canadian Workplace Culture -IN PERSON-
DESCRIPTION:Canadian Workplace Culture -IN PERSON- \nhttps://us02web.zoom.us/meeting/register/tKE7FErtTquXzuHOG4IkyQ#/registration
URL:https://pcpi.ca/event/canadian-workplace-culture-in-person/
END:VEVENT
BEGIN:VEVENT
DTSTART;TZID=UTC:20250627T110000
DTEND;TZID=UTC:20250627T123000
DTSTAMP:20260421T180450
CREATED:20250527T132112Z
LAST-MODIFIED:20250528T190100Z
UID:10002870-1751022000-1751027400@pcpi.ca
SUMMARY:Resume Makeover -IN PERSON-
DESCRIPTION:Resume Makeover -IN PERSON- \nhttps://us02web.zoom.us/meeting/register/Ub-4Z2wRQrqFNEttpi1zMg#/registration
URL:https://pcpi.ca/event/resume-makeover-group-of-5-session-in-person-2/
END:VEVENT
BEGIN:VEVENT
DTSTART;TZID=UTC:20250701T083000
DTEND;TZID=UTC:20250701T170000
DTSTAMP:20260421T180450
CREATED:20250618T204815Z
LAST-MODIFIED:20250618T204815Z
UID:10002871-1751358600-1751389200@pcpi.ca
SUMMARY:CANADA DAY – OFFICE CLOSED
DESCRIPTION:CANADA DAY – OFFICE CLOSED
URL:https://pcpi.ca/event/canada-day-office-closed-3/
END:VEVENT
BEGIN:VEVENT
DTSTART;TZID=UTC:20250702T100000
DTEND;TZID=UTC:20250702T150000
DTSTAMP:20260421T180450
CREATED:20250618T205224Z
LAST-MODIFIED:20250618T205224Z
UID:10002872-1751450400-1751468400@pcpi.ca
SUMMARY:Building Contacts for Job Opportunities -IN-PERSON-
DESCRIPTION:Building Contacts for Job Opportunities -IN-PERSON- \nhttps://us02web.zoom.us/meeting/register/Ppkg0u4iQ7egFT7bfxejdA#/registration
URL:https://pcpi.ca/event/building-contacts-for-job-opportunities-in-person-2/
END:VEVENT
BEGIN:VEVENT
DTSTART;TZID=UTC:20250704T110000
DTEND;TZID=UTC:20250704T123000
DTSTAMP:20260421T180450
CREATED:20250618T210701Z
LAST-MODIFIED:20250618T210701Z
UID:10002874-1751626800-1751632200@pcpi.ca
SUMMARY:Jobs in Demand Information Session -ZOOM-
DESCRIPTION:Jobs in Demand Information Session -ZOOM- \nhttps://us02web.zoom.us/meeting/register/f09FXziaRKiIuYRzRWhwzg#/registration
URL:https://pcpi.ca/event/jobs-in-demand-information-session-zoom-3/
END:VEVENT
BEGIN:VEVENT
DTSTART;TZID=UTC:20250708T100000
DTEND;TZID=UTC:20250708T150000
DTSTAMP:20260421T180450
CREATED:20250618T211314Z
LAST-MODIFIED:20250618T211314Z
UID:10002875-1751968800-1751986800@pcpi.ca
SUMMARY:Job Interview: Tips and Strategies -ZOOM-
DESCRIPTION:Job Interview: Tips and Strategies -ZOOM- \nhttps://us02web.zoom.us/meeting/register/Eqd4yvulT-Ka5j2uauXkfA#/registration
URL:https://pcpi.ca/event/job-interview-tips-and-strategies-zoom/
END:VEVENT
END:VCALENDAR