BEGIN:VCALENDAR
VERSION:2.0
PRODID:-//Progress Career Planning Institute (PCPI) - ECPv6.9.0//NONSGML v1.0//EN
CALSCALE:GREGORIAN
METHOD:PUBLISH
X-WR-CALNAME:Progress Career Planning Institute (PCPI)
X-ORIGINAL-URL:https://pcpi.ca
X-WR-CALDESC:Events for Progress Career Planning Institute (PCPI)
REFRESH-INTERVAL;VALUE=DURATION:PT1H
X-Robots-Tag:noindex
X-PUBLISHED-TTL:PT1H
BEGIN:VTIMEZONE
TZID:UTC
BEGIN:STANDARD
TZOFFSETFROM:+0000
TZOFFSETTO:+0000
TZNAME:UTC
DTSTART:20230101T000000
END:STANDARD
END:VTIMEZONE
BEGIN:VEVENT
DTSTART;TZID=UTC:20231123T100000
DTEND;TZID=UTC:20231123T120000
DTSTAMP:20260419T203544
CREATED:20231103T124119Z
LAST-MODIFIED:20231103T124119Z
UID:10002212-1700733600-1700740800@pcpi.ca
SUMMARY:Labour Market Trends (In Person)
DESCRIPTION:Labour Market Trends (In Person) \nRegister here.
URL:https://pcpi.ca/event/labour-market-trends-in-person-2/
END:VEVENT
BEGIN:VEVENT
DTSTART;TZID=UTC:20231123T110000
DTEND;TZID=UTC:20231123T120000
DTSTAMP:20260419T203544
CREATED:20231103T124256Z
LAST-MODIFIED:20231103T124256Z
UID:10002213-1700737200-1700740800@pcpi.ca
SUMMARY:Healthy Eating (Newcomers) (On ZOOM)
DESCRIPTION:Healthy Eating (Newcomers) (On ZOOM) \nRegister here. https://us02web.zoom.us/meeting/register/tZUsd-GgrzgoHNYSk-iL4PNhk2jkN5bzD_lH#/registration
URL:https://pcpi.ca/event/healthy-eating-newcomers-on-zoom/
END:VEVENT
BEGIN:VEVENT
DTSTART;TZID=UTC:20231124T100000
DTEND;TZID=UTC:20231124T120000
DTSTAMP:20260419T203544
CREATED:20231027T182744Z
LAST-MODIFIED:20231027T182849Z
UID:10002193-1700820000-1700827200@pcpi.ca
SUMMARY:Career Cruising (In Person)
DESCRIPTION:Career Cruising (In Person) \nRegister here.
URL:https://pcpi.ca/event/career-cruising-in-person-4-2023-11-24/
END:VEVENT
BEGIN:VEVENT
DTSTART;TZID=UTC:20231127T093000
DTEND;TZID=UTC:20231127T160000
DTSTAMP:20260419T203544
CREATED:20231101T134714Z
LAST-MODIFIED:20231101T134737Z
UID:10002206-1701077400-1701100800@pcpi.ca
SUMMARY:One on One Session with a Resource & Information Specialist (In Person)
DESCRIPTION:One on One Session with a Resource & Information Specialist (In Person) \nTo be booked by Career Coach Available within office hours \nRegister here.
URL:https://pcpi.ca/event/one-on-one-session-with-a-resource-information-specialist-in-person-11-2023-11-27/
END:VEVENT
BEGIN:VEVENT
DTSTART;TZID=UTC:20231127T100000
DTEND;TZID=UTC:20231127T110000
DTSTAMP:20260419T203544
CREATED:20231101T135805Z
LAST-MODIFIED:20231101T140231Z
UID:10001807-1701079200-1701082800@pcpi.ca
SUMMARY:New Pathway Program Info Session (On ZOOM)
DESCRIPTION:New Pathway Program Info Session (On ZOOM) \nRegister here: https://us02web.zoom.us/meeting/register/tZUrdeivpjotH9VTFlsC3ydRz7XNhg-6WymZ#/registration
URL:https://pcpi.ca/event/new-pathway-program-info-session-on-zoom-11-2023-11-27/
END:VEVENT
BEGIN:VEVENT
DTSTART;TZID=UTC:20231127T100000
DTEND;TZID=UTC:20231127T113000
DTSTAMP:20260419T203544
CREATED:20231103T124430Z
LAST-MODIFIED:20231103T124430Z
UID:10002214-1701079200-1701084600@pcpi.ca
SUMMARY:Introduction to Canadian Workplace (Newcomers) (On ZOOM)
DESCRIPTION:Introduction to Canadian Workplace (Newcomers) (On ZOOM) \nRegister here: https://us02web.zoom.us/meeting/register/tZ0udu6hqj8vH9UwcMwD1p3XFiliPodx_t6f#/registration
URL:https://pcpi.ca/event/introduction-to-canadian-workplace-newcomers-on-zoom/
END:VEVENT
BEGIN:VEVENT
DTSTART;TZID=UTC:20231128T100000
DTEND;TZID=UTC:20231128T120000
DTSTAMP:20260419T203544
CREATED:20231101T135013Z
LAST-MODIFIED:20231101T135029Z
UID:10002208-1701165600-1701172800@pcpi.ca
SUMMARY:I. Create a Resume that Sells You! (In Person)
DESCRIPTION:I. Create a Resume that Sells You! (In Person) \nRegister here.
URL:https://pcpi.ca/event/i-create-a-resume-that-sells-you-in-person-5-2023-11-28/
END:VEVENT
BEGIN:VEVENT
DTSTART;TZID=UTC:20231128T130000
DTEND;TZID=UTC:20231128T150000
DTSTAMP:20260419T203544
CREATED:20231101T135253Z
LAST-MODIFIED:20231101T135307Z
UID:10001801-1701176400-1701183600@pcpi.ca
SUMMARY:II. Learn to Write a Resume (Computer Lab)
DESCRIPTION:II. Learn to Write a Resume (Computer Lab) \nRegister here.
URL:https://pcpi.ca/event/ii-learn-to-write-a-resume-computer-lab-2023-11-28/
END:VEVENT
BEGIN:VEVENT
DTSTART;TZID=UTC:20231129T100000
DTEND;TZID=UTC:20231129T110000
DTSTAMP:20260419T203544
CREATED:20231027T180257Z
LAST-MODIFIED:20231027T180428Z
UID:10002186-1701252000-1701255600@pcpi.ca
SUMMARY:PCPI  Employment Ontario Information Session (In Person)
DESCRIPTION:PCPI Employment Ontario Information Session (In Person) \nRegister here.
URL:https://pcpi.ca/event/pcpi-employment-ontario-information-session-in-person-8-2023-11-29/
END:VEVENT
BEGIN:VEVENT
DTSTART;TZID=UTC:20231130T100000
DTEND;TZID=UTC:20231130T120000
DTSTAMP:20260419T203544
CREATED:20231027T181209Z
LAST-MODIFIED:20231027T181337Z
UID:10002188-1701338400-1701345600@pcpi.ca
SUMMARY:I. Reading between the Lines of a Job Posting (In Person)
DESCRIPTION:I. Reading between the Lines of a Job Posting (In Person) \nRegister here.
URL:https://pcpi.ca/event/i-reading-between-the-lines-of-a-job-posting-in-person-3-2023-11-30/
END:VEVENT
BEGIN:VEVENT
DTSTART;TZID=UTC:20231130T110000
DTEND;TZID=UTC:20231130T120000
DTSTAMP:20260419T203544
CREATED:20231103T124604Z
LAST-MODIFIED:20231103T125715Z
UID:10002215-1701342000-1701345600@pcpi.ca
SUMMARY:How to become a Volunteer (On ZOOM)
DESCRIPTION:How to become a Volunteer (On ZOOM) \nRegister here: https://us02web.zoom.us/meeting/register/tZYlf–tqTsrGNNOIm86dvHcJXJlQ3fXI_ZO#/registration
URL:https://pcpi.ca/event/how-to-become-a-volunteer-on-zoom/
END:VEVENT
BEGIN:VEVENT
DTSTART;TZID=UTC:20231130T130000
DTEND;TZID=UTC:20231130T150000
DTSTAMP:20260419T203544
CREATED:20231027T181911Z
LAST-MODIFIED:20231027T182948Z
UID:10002190-1701349200-1701356400@pcpi.ca
SUMMARY:II. Learn to Write a Cover Letter (In Computer Lab)
DESCRIPTION:II. Learn to Write a Cover Letter (In Computer Lab) \nRegister here.
URL:https://pcpi.ca/event/ii-learn-to-write-a-cover-letter-in-computer-lab-3-2023-11-30/
END:VEVENT
BEGIN:VEVENT
DTSTART;TZID=UTC:20231201T100000
DTEND;TZID=UTC:20231201T130000
DTSTAMP:20260419T203544
CREATED:20231116T182223Z
LAST-MODIFIED:20231116T182223Z
UID:10002216-1701424800-1701435600@pcpi.ca
SUMMARY:The Employment Network with Practice (In Person)
DESCRIPTION:The Employment Network with Practice (In Person) \nRegister here.
URL:https://pcpi.ca/event/the-employment-network-with-practice-in-person-6/
END:VEVENT
BEGIN:VEVENT
DTSTART;TZID=UTC:20231204T100000
DTEND;TZID=UTC:20231204T120000
DTSTAMP:20260419T203544
CREATED:20231116T182631Z
LAST-MODIFIED:20231116T182726Z
UID:10002217-1701684000-1701691200@pcpi.ca
SUMMARY:PCPI  Employment Ontario Information Session (In Person)
DESCRIPTION:PCPI Employment Ontario Information Session (In Person) \nRegister here.
URL:https://pcpi.ca/event/pcpi-employment-ontario-information-session-in-person-9/
END:VEVENT
BEGIN:VEVENT
DTSTART;TZID=UTC:20231205T100000
DTEND;TZID=UTC:20231205T120000
DTSTAMP:20260419T203544
CREATED:20231116T183606Z
LAST-MODIFIED:20231116T183628Z
UID:10002221-1701770400-1701777600@pcpi.ca
SUMMARY:I. Job Interview Strategies (In Person)
DESCRIPTION:I. Job Interview Strategies (In Person) \nRegister here
URL:https://pcpi.ca/event/i-job-interview-strategies-in-person-8/
END:VEVENT
BEGIN:VEVENT
DTSTART;TZID=UTC:20231205T100000
DTEND;TZID=UTC:20231205T223000
DTSTAMP:20260419T203544
CREATED:20231116T184724Z
LAST-MODIFIED:20231116T184724Z
UID:10002225-1701770400-1701815400@pcpi.ca
SUMMARY:Immigration Application for Family Members (ZOOM)
DESCRIPTION:Immigration Application for Family Members (ZOOM) \nRegister here. https://us02web.zoom.us/meeting/register/tZIufu-pqD4qHdXMCgyt9zHSF5srfITrPyBc#/registration
URL:https://pcpi.ca/event/immigration-application-for-family-members-zoom/
END:VEVENT
BEGIN:VEVENT
DTSTART;TZID=UTC:20231205T130000
DTEND;TZID=UTC:20231205T150000
DTSTAMP:20260419T203544
CREATED:20231116T184202Z
LAST-MODIFIED:20231116T184248Z
UID:10002223-1701781200-1701788400@pcpi.ca
SUMMARY:II. Practice Interview Questions  (In Person)
DESCRIPTION:II. Practice Interview Questions (In Person) \nRegister here
URL:https://pcpi.ca/event/ii-practice-interview-questions-in-person-5/
END:VEVENT
BEGIN:VEVENT
DTSTART;TZID=UTC:20231206T100000
DTEND;TZID=UTC:20231206T113000
DTSTAMP:20260419T203544
CREATED:20231116T185010Z
LAST-MODIFIED:20231116T185250Z
UID:10002226-1701856800-1701862200@pcpi.ca
SUMMARY:RGI – Housing (ZOOM)
DESCRIPTION:RGI – Housing (ZOOM) \nRegister here: https://us02web.zoom.us/meeting/register/tZIkf-Gqqj8vE9GUMctPRYMalfu8Mhsgl2wz#/registration
URL:https://pcpi.ca/event/rgi-housing-zoom/
END:VEVENT
BEGIN:VEVENT
DTSTART;TZID=UTC:20231207T100000
DTEND;TZID=UTC:20231207T113000
DTSTAMP:20260419T203544
CREATED:20231116T185630Z
LAST-MODIFIED:20231116T185819Z
UID:10002228-1701943200-1701948600@pcpi.ca
SUMMARY:Understanding Type 2 Diabetes (ZOOM)
DESCRIPTION:Understanding Type 2 Diabetes (ZOOM) \nRegister here: https://us02web.zoom.us/meeting/register/tZAkd-iqqzMqEtFFuOoeaWXcBM6Jl23jjKrV#/registration
URL:https://pcpi.ca/event/understanding-type-2-diabetes-zoom/
END:VEVENT
BEGIN:VEVENT
DTSTART;TZID=UTC:20231207T100000
DTEND;TZID=UTC:20231207T120000
DTSTAMP:20260419T203544
CREATED:20231116T185353Z
LAST-MODIFIED:20231116T185353Z
UID:10002227-1701943200-1701950400@pcpi.ca
SUMMARY:Humber College Info Session (In Person)
DESCRIPTION:Humber College Info Session (In Person) \nRegister here: https://www.surveymonkey.com/r/humber_info
URL:https://pcpi.ca/event/humber-college-info-session-in-person/
END:VEVENT
BEGIN:VEVENT
DTSTART;TZID=UTC:20231208T100000
DTEND;TZID=UTC:20231208T110000
DTSTAMP:20260419T203544
CREATED:20231116T190402Z
LAST-MODIFIED:20231116T190402Z
UID:10002231-1702029600-1702033200@pcpi.ca
SUMMARY:OSAP Info Session (ZOOM)
DESCRIPTION:OSAP Info Session (ZOOM) \nRegister here: https://us02web.zoom.us/meeting/register/tZMud-qurD8pEtc40_EQ21DZ3vNTHCXLcdKH#/registration
URL:https://pcpi.ca/event/osap-info-session-zoom/
END:VEVENT
BEGIN:VEVENT
DTSTART;TZID=UTC:20231208T100000
DTEND;TZID=UTC:20231208T120000
DTSTAMP:20260419T203544
CREATED:20231116T190053Z
LAST-MODIFIED:20231116T190121Z
UID:10002229-1702029600-1702036800@pcpi.ca
SUMMARY:Career Cruising (In Computer Lab)
DESCRIPTION:Career Cruising (In Computer Lab) \nRegister here
URL:https://pcpi.ca/event/career-cruising-in-computer-lab/
END:VEVENT
BEGIN:VEVENT
DTSTART;TZID=UTC:20231211T090000
DTEND;TZID=UTC:20231211T160000
DTSTAMP:20260419T203544
CREATED:20231117T141409Z
LAST-MODIFIED:20231117T141501Z
UID:10002232-1702285200-1702310400@pcpi.ca
SUMMARY:One on One Session with a Resource & Information Specialist (In Person)
DESCRIPTION:One on One Session with a Resource & Information Specialist (In Person)\nTo be booked by Career Coach Available within office hours \nRegister here
URL:https://pcpi.ca/event/one-on-one-session-with-a-resource-information-specialist-in-person-12/
END:VEVENT
BEGIN:VEVENT
DTSTART;TZID=UTC:20231212T100000
DTEND;TZID=UTC:20231212T110000
DTSTAMP:20260419T203544
CREATED:20231117T142337Z
LAST-MODIFIED:20231117T142337Z
UID:10001829-1702375200-1702378800@pcpi.ca
SUMMARY:Understanding Ontario Works (ZOOM)
DESCRIPTION:Understanding Ontario Works (ZOOM) \nRegister here: https://us02web.zoom.us/meeting/register/tZMtcOGpqDguGNKRsJkECZzz5FbYunZEMEPv#/registration
URL:https://pcpi.ca/event/understanding-ontario-works-zoom/
END:VEVENT
BEGIN:VEVENT
DTSTART;TZID=UTC:20231212T100000
DTEND;TZID=UTC:20231212T120000
DTSTAMP:20260419T203544
CREATED:20231117T142000Z
LAST-MODIFIED:20231117T142000Z
UID:10001825-1702375200-1702382400@pcpi.ca
SUMMARY:I. Create a Resume that Sells You! (In Person)
DESCRIPTION:I. Create a Resume that Sells You! (In Person) \nRegister here
URL:https://pcpi.ca/event/i-create-a-resume-that-sells-you-in-person-6/
END:VEVENT
BEGIN:VEVENT
DTSTART;TZID=UTC:20231212T130000
DTEND;TZID=UTC:20231212T150000
DTSTAMP:20260419T203544
CREATED:20231117T142207Z
LAST-MODIFIED:20231117T142207Z
UID:10001827-1702386000-1702393200@pcpi.ca
SUMMARY:II. Learn to Write a Resume (In Computer Lab)
DESCRIPTION:II. Learn to Write a Resume (In Computer Lab) \nRegister here
URL:https://pcpi.ca/event/ii-learn-to-write-a-resume-in-computer-lab-5/
END:VEVENT
BEGIN:VEVENT
DTSTART;TZID=UTC:20231213T100000
DTEND;TZID=UTC:20231213T110000
DTSTAMP:20260419T203544
CREATED:20231117T142622Z
LAST-MODIFIED:20231117T142622Z
UID:10001831-1702461600-1702465200@pcpi.ca
SUMMARY:Introduction to MS SharePoint and Microsoft 365 (ZOOM)
DESCRIPTION:Introduction to MS SharePoint and Microsoft 365 (ZOOM) \nRegister here: https://us02web.zoom.us/meeting/register/tZIqcOGurD8jEtZpSHFjw1fN7-I4-Ru54hxw#/registration
URL:https://pcpi.ca/event/introduction-to-ms-sharepoint-and-microsoft-365-zoom/
END:VEVENT
BEGIN:VEVENT
DTSTART;TZID=UTC:20231213T100000
DTEND;TZID=UTC:20231213T110000
DTSTAMP:20260419T203544
CREATED:20231117T144431Z
LAST-MODIFIED:20231117T144431Z
UID:10001835-1702461600-1702465200@pcpi.ca
SUMMARY:Dress for Success (Newcomers) (ZOOM)
DESCRIPTION:Dress for Success (Newcomers) (ZOOM) \nRegister here: https://us02web.zoom.us/meeting/register/tZYocuGurzkrGdKDV5SA0z2sMyZZLERvn8hi#/registration
URL:https://pcpi.ca/event/dress-for-success-newcomers-zoom/
END:VEVENT
BEGIN:VEVENT
DTSTART;TZID=UTC:20231213T100000
DTEND;TZID=UTC:20231213T120000
DTSTAMP:20260419T203544
CREATED:20231116T182631Z
LAST-MODIFIED:20231116T182745Z
UID:10002218-1702461600-1702468800@pcpi.ca
SUMMARY:PCPI  Employment Ontario Information Session (In Person)
DESCRIPTION:PCPI Employment Ontario Information Session (In Person) \nRegister here.
URL:https://pcpi.ca/event/pcpi-employment-ontario-information-session-in-person-9-2023-12-13/
END:VEVENT
BEGIN:VEVENT
DTSTART;TZID=UTC:20231214T100000
DTEND;TZID=UTC:20231214T120000
DTSTAMP:20260419T203544
CREATED:20231117T144256Z
LAST-MODIFIED:20231117T144256Z
UID:10001833-1702548000-1702555200@pcpi.ca
SUMMARY:Employer Expectations (In Person)
DESCRIPTION:Employer Expectations (In Person) \nRegister here
URL:https://pcpi.ca/event/employer-expectations-in-person-5/
END:VEVENT
END:VCALENDAR