BEGIN:VCALENDAR
VERSION:2.0
PRODID:-//Progress Career Planning Institute (PCPI) - ECPv6.9.0//NONSGML v1.0//EN
CALSCALE:GREGORIAN
METHOD:PUBLISH
X-WR-CALNAME:Progress Career Planning Institute (PCPI)
X-ORIGINAL-URL:https://pcpi.ca
X-WR-CALDESC:Events for Progress Career Planning Institute (PCPI)
REFRESH-INTERVAL;VALUE=DURATION:PT1H
X-Robots-Tag:noindex
X-PUBLISHED-TTL:PT1H
BEGIN:VTIMEZONE
TZID:UTC
BEGIN:STANDARD
TZOFFSETFROM:+0000
TZOFFSETTO:+0000
TZNAME:UTC
DTSTART:20230101T000000
END:STANDARD
END:VTIMEZONE
BEGIN:VEVENT
DTSTART;TZID=UTC:20230905T083000
DTEND;TZID=UTC:20230905T163000
DTSTAMP:20260419T184130
CREATED:20230822T022107Z
LAST-MODIFIED:20230824T012248Z
UID:10002127-1693902600-1693931400@pcpi.ca
SUMMARY:One on One Session with a Resource & Information Specialist (In Person)
DESCRIPTION:One on One Session with a Resource & Information Specialist (In Person) \nTo be booked by Career Coach Available within office hours \nClick here to register
URL:https://pcpi.ca/event/one-on-one-session-with-a-resource-information-specialist-in-person-3/
END:VEVENT
BEGIN:VEVENT
DTSTART;VALUE=DATE:20230904
DTEND;VALUE=DATE:20230905
DTSTAMP:20260419T184130
CREATED:20230822T021727Z
LAST-MODIFIED:20230822T021737Z
UID:10002126-1693785600-1693871999@pcpi.ca
SUMMARY:Labour Day Monday OFFICE CLOSED
DESCRIPTION:
URL:https://pcpi.ca/event/labour-day-monday-office-closed/
END:VEVENT
BEGIN:VEVENT
DTSTART;TZID=UTC:20230901T100000
DTEND;TZID=UTC:20230901T120000
DTSTAMP:20260419T184130
CREATED:20230822T015145Z
LAST-MODIFIED:20230824T150945Z
UID:10002124-1693562400-1693569600@pcpi.ca
SUMMARY:Occupational Health & Safety & Know Your Rights In the Workplace (In Person)
DESCRIPTION:Occupational Health & Safety & Know Your Rights In the Workplace (In Person) \nRegister now.
URL:https://pcpi.ca/event/occupational-health-safety-know-your-rights-in-the-workplacein-person/
END:VEVENT
BEGIN:VEVENT
DTSTART;TZID=UTC:20230901T100000
DTEND;TZID=UTC:20230901T113000
DTSTAMP:20260419T184130
CREATED:20230822T015532Z
LAST-MODIFIED:20230822T021627Z
UID:10002125-1693562400-1693567800@pcpi.ca
SUMMARY:Financial Literacy(On ZOOM)
DESCRIPTION:Financial Literacy(On ZOOM)\nClick here to register
URL:https://pcpi.ca/event/financial-literacy/
END:VEVENT
BEGIN:VEVENT
DTSTART;TZID=UTC:20230831T100000
DTEND;TZID=UTC:20230831T110000
DTSTAMP:20260419T184130
CREATED:20230725T184045Z
LAST-MODIFIED:20230725T184045Z
UID:10002123-1693476000-1693479600@pcpi.ca
SUMMARY:New Pathway Program Info Session (On ZOOM)
DESCRIPTION:New Pathway Program Info Session (On ZOOM) \nClick here to register
URL:https://pcpi.ca/event/new-pathway-program-info-session-on-zoom-7/
END:VEVENT
BEGIN:VEVENT
DTSTART;TZID=UTC:20230830T100000
DTEND;TZID=UTC:20230830T110000
DTSTAMP:20260419T184130
CREATED:20230724T202220Z
LAST-MODIFIED:20230724T202416Z
UID:10002087-1693389600-1693393200@pcpi.ca
SUMMARY:PCPI Employment Ontario Information Session (In Person)
DESCRIPTION:PCPI Employment Ontario Information Session (In Person) \nClick here to register
URL:https://pcpi.ca/event/pcpi-employment-ontario-information-session-in-person-3-2023-08-30/
END:VEVENT
BEGIN:VEVENT
DTSTART;TZID=UTC:20230829T130000
DTEND;TZID=UTC:20230829T150000
DTSTAMP:20260419T184130
CREATED:20230724T201539Z
LAST-MODIFIED:20230724T201657Z
UID:10002079-1693314000-1693321200@pcpi.ca
SUMMARY:II. Learn to Write a Resume (In Computer Lab)
DESCRIPTION:II. Learn to Write a Resume (In Computer Lab) \nClick here to register
URL:https://pcpi.ca/event/ii-learn-to-write-a-resume-in-computer-lab-2023-08-29/
END:VEVENT
BEGIN:VEVENT
DTSTART;TZID=UTC:20230829T100000
DTEND;TZID=UTC:20230829T120000
DTSTAMP:20260419T184130
CREATED:20230724T201031Z
LAST-MODIFIED:20230724T201207Z
UID:10001709-1693303200-1693310400@pcpi.ca
SUMMARY:I. Create a Resume that Sells You! (In Person)
DESCRIPTION:I. Create a Resume that Sells You! (In Person) \nClick here to register
URL:https://pcpi.ca/event/i-create-a-resume-that-sells-you-in-person-2023-08-29/
END:VEVENT
BEGIN:VEVENT
DTSTART;TZID=UTC:20230829T100000
DTEND;TZID=UTC:20230829T110000
DTSTAMP:20260419T184130
CREATED:20230725T183922Z
LAST-MODIFIED:20230725T183922Z
UID:10002122-1693303200-1693306800@pcpi.ca
SUMMARY:New Pathway Program Info Session (On ZOOM)
DESCRIPTION:New Pathway Program Info Session (On ZOOM) \nClick here to register
URL:https://pcpi.ca/event/new-pathway-program-info-session-on-zoom-6/
END:VEVENT
BEGIN:VEVENT
DTSTART;TZID=UTC:20230828T090000
DTEND;TZID=UTC:20230828T163000
DTSTAMP:20260419T184130
CREATED:20230725T175545Z
LAST-MODIFIED:20230725T175731Z
UID:10002100-1693213200-1693240200@pcpi.ca
SUMMARY:One on One Session with a Resource & Information Specialist (In Person)
DESCRIPTION:One on One Session with a Resource & Information Specialist (In Person) \nTo be booked by Career Coach Available within office hours –
URL:https://pcpi.ca/event/one-on-one-session-with-a-resource-information-specialist-in-person-2-2023-08-28/
END:VEVENT
BEGIN:VEVENT
DTSTART;TZID=UTC:20230825T100000
DTEND;TZID=UTC:20230825T110000
DTSTAMP:20260419T184130
CREATED:20230724T202220Z
LAST-MODIFIED:20230724T202353Z
UID:10002085-1692957600-1692961200@pcpi.ca
SUMMARY:PCPI Employment Ontario Information Session (In Person)
DESCRIPTION:PCPI Employment Ontario Information Session (In Person) \nClick here to register
URL:https://pcpi.ca/event/pcpi-employment-ontario-information-session-in-person-3-2023-08-25/
END:VEVENT
BEGIN:VEVENT
DTSTART;TZID=UTC:20230824T130000
DTEND;TZID=UTC:20230824T140000
DTSTAMP:20260419T184130
CREATED:20230725T183506Z
LAST-MODIFIED:20230725T183506Z
UID:10001738-1692882000-1692885600@pcpi.ca
SUMMARY:II. Career Cruising (In Person)
DESCRIPTION:II. Career Cruising (In Person) \nClick here to register
URL:https://pcpi.ca/event/ii-career-cruising-in-person-2/
END:VEVENT
BEGIN:VEVENT
DTSTART;TZID=UTC:20230824T100000
DTEND;TZID=UTC:20230824T120000
DTSTAMP:20260419T184130
CREATED:20230725T183324Z
LAST-MODIFIED:20230725T183324Z
UID:10001737-1692871200-1692878400@pcpi.ca
SUMMARY:I. Labour Market Trends (In Person)
DESCRIPTION:I. Labour Market Trends (In Person) \nClick here to register
URL:https://pcpi.ca/event/i-labour-market-trends-in-person-2/
END:VEVENT
BEGIN:VEVENT
DTSTART;TZID=UTC:20230824T100000
DTEND;TZID=UTC:20230824T110000
DTSTAMP:20260419T184130
CREATED:20230725T183802Z
LAST-MODIFIED:20230725T183802Z
UID:10002119-1692871200-1692874800@pcpi.ca
SUMMARY:New Pathway Program Info Session (On ZOOM)
DESCRIPTION:New Pathway Program Info Session (On ZOOM) \nClick here to register
URL:https://pcpi.ca/event/new-pathway-program-info-session-on-zoom-5/
END:VEVENT
BEGIN:VEVENT
DTSTART;TZID=UTC:20230824T100000
DTEND;TZID=UTC:20230824T110000
DTSTAMP:20260419T184130
CREATED:20230725T183636Z
LAST-MODIFIED:20230725T183636Z
UID:10002117-1692871200-1692874800@pcpi.ca
SUMMARY:Newcomers: Learn about Ontario Works (On ZOOM)
DESCRIPTION:Newcomers: Learn about Ontario Works (On ZOOM) \nClick here to register
URL:https://pcpi.ca/event/newcomers-learn-about-ontario-works-on-zoom/
END:VEVENT
BEGIN:VEVENT
DTSTART;TZID=UTC:20230823T130000
DTEND;TZID=UTC:20230823T160000
DTSTAMP:20260419T184130
CREATED:20230725T183131Z
LAST-MODIFIED:20230725T183131Z
UID:10001734-1692795600-1692806400@pcpi.ca
SUMMARY:Sector Specific - Referral by Career Coach only! (On ZOOM)
DESCRIPTION:Sector Specific – Referral by Career Coach only! (On ZOOM)
URL:https://pcpi.ca/event/sector-specific-referral-by-career-coach-only-on-zoom-2/
END:VEVENT
BEGIN:VEVENT
DTSTART;TZID=UTC:20230823T110000
DTEND;TZID=UTC:20230823T133000
DTSTAMP:20260419T184130
CREATED:20230725T183032Z
LAST-MODIFIED:20230725T183032Z
UID:10001732-1692788400-1692797400@pcpi.ca
SUMMARY:Culinary Workshop for Newcomers (In Person)
DESCRIPTION:Culinary Workshop for Newcomers (In Person) \nClick here to register
URL:https://pcpi.ca/event/culinary-workshop-for-newcomers-in-person/
END:VEVENT
BEGIN:VEVENT
DTSTART;TZID=UTC:20230822T130000
DTEND;TZID=UTC:20230822T150000
DTSTAMP:20260419T184130
CREATED:20230725T180358Z
LAST-MODIFIED:20230725T180529Z
UID:10002106-1692709200-1692716400@pcpi.ca
SUMMARY:II. Practice Interview Questions (In Computer Lab)
DESCRIPTION:II. Practice Interview Questions (In Computer Lab) \nClick here to register
URL:https://pcpi.ca/event/ii-practice-interview-questions-in-computer-lab-2023-08-22/
END:VEVENT
BEGIN:VEVENT
DTSTART;TZID=UTC:20230822T100000
DTEND;TZID=UTC:20230822T120000
DTSTAMP:20260419T184130
CREATED:20230725T180018Z
LAST-MODIFIED:20230725T180122Z
UID:10002102-1692698400-1692705600@pcpi.ca
SUMMARY:I. Job Interview Strategies (In Person)
DESCRIPTION:I. Job Interview Strategies (In Person) \nClick here to register
URL:https://pcpi.ca/event/i-job-interview-strategies-in-person-2-2023-08-22/
END:VEVENT
BEGIN:VEVENT
DTSTART;TZID=UTC:20230822T100000
DTEND;TZID=UTC:20230822T110000
DTSTAMP:20260419T184130
CREATED:20230725T182702Z
LAST-MODIFIED:20230725T182702Z
UID:10001728-1692698400-1692702000@pcpi.ca
SUMMARY:New Pathway Program Info Session (On ZOOM)
DESCRIPTION:New Pathway Program Info Session (On ZOOM) \nClick here to register
URL:https://pcpi.ca/event/new-pathway-program-info-session-on-zoom-4/
END:VEVENT
BEGIN:VEVENT
DTSTART;TZID=UTC:20230822T090000
DTEND;TZID=UTC:20230822T153000
DTSTAMP:20260419T184130
CREATED:20230725T182806Z
LAST-MODIFIED:20230725T182806Z
UID:10001730-1692694800-1692718200@pcpi.ca
SUMMARY:SIT program begins
DESCRIPTION:SIT program begins
URL:https://pcpi.ca/event/sit-program-begins/
END:VEVENT
BEGIN:VEVENT
DTSTART;TZID=UTC:20230821T100000
DTEND;TZID=UTC:20230821T110000
DTSTAMP:20260419T184130
CREATED:20230724T202220Z
LAST-MODIFIED:20230724T202331Z
UID:10002083-1692612000-1692615600@pcpi.ca
SUMMARY:PCPI Employment Ontario Information Session (In Person)
DESCRIPTION:PCPI Employment Ontario Information Session (In Person) \nClick here to register
URL:https://pcpi.ca/event/pcpi-employment-ontario-information-session-in-person-3-2023-08-21/
END:VEVENT
BEGIN:VEVENT
DTSTART;TZID=UTC:20230818T100000
DTEND;TZID=UTC:20230818T113000
DTSTAMP:20260419T184130
CREATED:20230725T175029Z
LAST-MODIFIED:20230725T175122Z
UID:10002095-1692352800-1692358200@pcpi.ca
SUMMARY:Better Jobs Ontario Information Session (In Person)
DESCRIPTION:Better Jobs Ontario Information Session (In Person) \nClick here to register
URL:https://pcpi.ca/event/better-jobs-ontario-information-session-in-person-2-2023-08-18/
END:VEVENT
BEGIN:VEVENT
DTSTART;TZID=UTC:20230817T100000
DTEND;TZID=UTC:20230817T120000
DTSTAMP:20260419T184130
CREATED:20230725T182323Z
LAST-MODIFIED:20230725T182323Z
UID:10001724-1692266400-1692273600@pcpi.ca
SUMMARY:Employer Expectations (In Person)
DESCRIPTION:Employer Expectations (In Person) \nClick here to register
URL:https://pcpi.ca/event/employer-expectations-in-person/
END:VEVENT
BEGIN:VEVENT
DTSTART;TZID=UTC:20230817T100000
DTEND;TZID=UTC:20230817T110000
DTSTAMP:20260419T184130
CREATED:20230725T182448Z
LAST-MODIFIED:20230725T182448Z
UID:10001726-1692266400-1692270000@pcpi.ca
SUMMARY:Newcomers: Learn about OHIP (Ontario healthcare) and SIN (social insurance) (On ZOOM)
DESCRIPTION:Newcomers: Learn about OHIP (Ontario healthcare) and SIN (social insurance) (On ZOOM) \nClick here to register
URL:https://pcpi.ca/event/newcomers-learn-about-ohip-ontario-healthcare-and-sin-social-insurance-on-zoom/
END:VEVENT
BEGIN:VEVENT
DTSTART;TZID=UTC:20230816T100000
DTEND;TZID=UTC:20230816T113000
DTSTAMP:20260419T184130
CREATED:20230725T182152Z
LAST-MODIFIED:20230725T182152Z
UID:10001723-1692180000-1692185400@pcpi.ca
SUMMARY:Understanding Employment Law and Workers’ Rights for Newcomers (On ZOOM)
DESCRIPTION:Understanding Employment Law and Workers’ Rights for Newcomers (On ZOOM) \nClick here to register
URL:https://pcpi.ca/event/understanding-employment-law-and-workers-rights-for-newcomers-on-zoom/
END:VEVENT
BEGIN:VEVENT
DTSTART;TZID=UTC:20230815T130000
DTEND;TZID=UTC:20230815T150000
DTSTAMP:20260419T184130
CREATED:20230724T201539Z
LAST-MODIFIED:20230724T201634Z
UID:10002078-1692104400-1692111600@pcpi.ca
SUMMARY:II. Learn to Write a Resume (In Computer Lab)
DESCRIPTION:II. Learn to Write a Resume (In Computer Lab) \nClick here to register
URL:https://pcpi.ca/event/ii-learn-to-write-a-resume-in-computer-lab-2023-08-15/
END:VEVENT
BEGIN:VEVENT
DTSTART;TZID=UTC:20230815T100000
DTEND;TZID=UTC:20230815T120000
DTSTAMP:20260419T184130
CREATED:20230724T201031Z
LAST-MODIFIED:20230724T201137Z
UID:10001708-1692093600-1692100800@pcpi.ca
SUMMARY:I. Create a Resume that Sells You! (In Person)
DESCRIPTION:I. Create a Resume that Sells You! (In Person) \nClick here to register
URL:https://pcpi.ca/event/i-create-a-resume-that-sells-you-in-person-2023-08-15/
END:VEVENT
BEGIN:VEVENT
DTSTART;TZID=UTC:20230814T100000
DTEND;TZID=UTC:20230814T120000
DTSTAMP:20260419T184130
CREATED:20230725T181952Z
LAST-MODIFIED:20230725T181952Z
UID:10001721-1692007200-1692014400@pcpi.ca
SUMMARY:Newcomers: CCSK certification for a successful career in Cloud Security (On ZOOM)
DESCRIPTION:Newcomers: CCSK certification for a successful career in Cloud Security (On ZOOM) \nClick here to register
URL:https://pcpi.ca/event/newcomers-ccsk-certification-for-a-successful-career-in-cloud-security-on-zoom/
END:VEVENT
BEGIN:VEVENT
DTSTART;TZID=UTC:20230814T090000
DTEND;TZID=UTC:20230814T163000
DTSTAMP:20260419T184130
CREATED:20230725T175545Z
LAST-MODIFIED:20230725T175707Z
UID:10002099-1692003600-1692030600@pcpi.ca
SUMMARY:One on One Session with a Resource & Information Specialist (In Person)
DESCRIPTION:One on One Session with a Resource & Information Specialist (In Person) \nTo be booked by Career Coach Available within office hours –
URL:https://pcpi.ca/event/one-on-one-session-with-a-resource-information-specialist-in-person-2-2023-08-14/
END:VEVENT
END:VCALENDAR