BEGIN:VCALENDAR
VERSION:2.0
PRODID:-//Progress Career Planning Institute (PCPI) - ECPv6.9.0//NONSGML v1.0//EN
CALSCALE:GREGORIAN
METHOD:PUBLISH
X-WR-CALNAME:Progress Career Planning Institute (PCPI)
X-ORIGINAL-URL:https://pcpi.ca
X-WR-CALDESC:Events for Progress Career Planning Institute (PCPI)
REFRESH-INTERVAL;VALUE=DURATION:PT1H
X-Robots-Tag:noindex
X-PUBLISHED-TTL:PT1H
BEGIN:VTIMEZONE
TZID:UTC
BEGIN:STANDARD
TZOFFSETFROM:+0000
TZOFFSETTO:+0000
TZNAME:UTC
DTSTART:20240101T000000
END:STANDARD
END:VTIMEZONE
BEGIN:VEVENT
DTSTART;TZID=UTC:20240718T100000
DTEND;TZID=UTC:20240718T110000
DTSTAMP:20260421T095716
CREATED:20240624T130018Z
LAST-MODIFIED:20240624T130018Z
UID:10002405-1721296800-1721300400@pcpi.ca
SUMMARY:Interview Strategies for Newcomers  - On Zoom -
DESCRIPTION:Interview Strategies for Newcomers – On Zoom – \nhttps://us02web.zoom.us/meeting/register/tZMrdeuurDwuH9xMVF3C2x1SW15RE3VsqKiE#/registration
URL:https://pcpi.ca/event/interview-strategies-for-newcomers-on-zoom/
END:VEVENT
BEGIN:VEVENT
DTSTART;TZID=UTC:20240718T100000
DTEND;TZID=UTC:20240718T120000
DTSTAMP:20260421T095716
CREATED:20240624T125748Z
LAST-MODIFIED:20240624T125748Z
UID:10002404-1721296800-1721304000@pcpi.ca
SUMMARY:Reading between the Lines of a Job Posting - In Person –
DESCRIPTION:Reading between the Lines of a Job Posting – In Person – \nRegister here
URL:https://pcpi.ca/event/reading-between-the-lines-of-a-job-posting-in-person-9/
END:VEVENT
BEGIN:VEVENT
DTSTART;TZID=UTC:20240719T100000
DTEND;TZID=UTC:20240719T120000
DTSTAMP:20260421T095716
CREATED:20240624T130210Z
LAST-MODIFIED:20240624T130210Z
UID:10002406-1721383200-1721390400@pcpi.ca
SUMMARY:Better Jobs Ontario - In Person –
DESCRIPTION:Better Jobs Ontario – In Person – \nRegister here
URL:https://pcpi.ca/event/better-jobs-ontario-in-person-3/
END:VEVENT
BEGIN:VEVENT
DTSTART;TZID=UTC:20240719T120000
DTEND;TZID=UTC:20240719T130000
DTSTAMP:20260421T095716
CREATED:20240626T172448Z
LAST-MODIFIED:20240626T183819Z
UID:10002412-1721390400-1721394000@pcpi.ca
SUMMARY:INLAP Information Session - On Zoom -
DESCRIPTION:INLAP Information Session – On Zoom – \nhttps://us02web.zoom.us/meeting/register/tZEvceytqz4qH9JavuyeBM-3u2c-c-kjGoie#/registration
URL:https://pcpi.ca/event/inlap-information-session-on-zoom-2/
END:VEVENT
BEGIN:VEVENT
DTSTART;TZID=UTC:20240722T100000
DTEND;TZID=UTC:20240722T110000
DTSTAMP:20260421T095716
CREATED:20240624T130349Z
LAST-MODIFIED:20240624T130349Z
UID:10002407-1721642400-1721646000@pcpi.ca
SUMMARY:PCPI  Employment Ontario Information Session - In Person -
DESCRIPTION:PCPI Employment Ontario Information Session – In Person – \nRegister here
URL:https://pcpi.ca/event/pcpi-employment-ontario-information-session-in-person-16/
END:VEVENT
BEGIN:VEVENT
DTSTART;TZID=UTC:20240723T100000
DTEND;TZID=UTC:20240723T120000
DTSTAMP:20260421T095716
CREATED:20240621T201354Z
LAST-MODIFIED:20240621T201415Z
UID:10002398-1721728800-1721736000@pcpi.ca
SUMMARY:I. Job Interview Strategies - In Person –
DESCRIPTION:I. Job Interview Strategies – In Person – \nRegister here
URL:https://pcpi.ca/event/i-job-interview-strategies-in-person-15-2024-07-23/
END:VEVENT
BEGIN:VEVENT
DTSTART;TZID=UTC:20240723T133000
DTEND;TZID=UTC:20240723T153000
DTSTAMP:20260421T095716
CREATED:20240621T201737Z
LAST-MODIFIED:20240621T201754Z
UID:10002400-1721741400-1721748600@pcpi.ca
SUMMARY:II. Practice Interview Questions - In Person –
DESCRIPTION:II. Practice Interview Questions – In Person – \nRegister here
URL:https://pcpi.ca/event/ii-practice-interview-questions-in-person-10-2024-07-23/
END:VEVENT
BEGIN:VEVENT
DTSTART;TZID=UTC:20240724T083000
DTEND;TZID=UTC:20240724T163000
DTSTAMP:20260421T095716
CREATED:20240621T130703Z
LAST-MODIFIED:20240621T131014Z
UID:10002391-1721809800-1721838600@pcpi.ca
SUMMARY:One on One Session with a Resource & Information Specialist - To be booked by Career Coach - In Person –
DESCRIPTION:One on One Session with a Resource & Information Specialist \nTo be booked by Career Coach – In Person – \nAvailable within office hours \nRegister here
URL:https://pcpi.ca/event/one-on-one-session-with-a-resource-information-specialist-to-be-booked-by-career-coach-in-person-3-2024-07-24/
END:VEVENT
BEGIN:VEVENT
DTSTART;TZID=UTC:20240724T100000
DTEND;TZID=UTC:20240724T113000
DTSTAMP:20260421T095716
CREATED:20240624T130658Z
LAST-MODIFIED:20240624T130658Z
UID:10002408-1721815200-1721820600@pcpi.ca
SUMMARY:Scam Prevention - On Zoom -
DESCRIPTION:Scam Prevention – On Zoom – \nhttps://us02web.zoom.us/meeting/register/tZAodOuqrjIuG9fNdkop9RAcyqD66IvuBZxU#/registration
URL:https://pcpi.ca/event/scam-prevention-on-zoom-4/
END:VEVENT
BEGIN:VEVENT
DTSTART;TZID=UTC:20240725T100000
DTEND;TZID=UTC:20240725T120000
DTSTAMP:20260421T095716
CREATED:20240624T130859Z
LAST-MODIFIED:20240624T130859Z
UID:10002409-1721901600-1721908800@pcpi.ca
SUMMARY:Learn to Write a Cover Letter - In Computer Lab –
DESCRIPTION:Learn to Write a Cover Letter – In Computer Lab – \nRegister here
URL:https://pcpi.ca/event/learn-to-write-a-cover-letter-in-computer-lab-8/
END:VEVENT
BEGIN:VEVENT
DTSTART;TZID=UTC:20240726T100000
DTEND;TZID=UTC:20240726T120000
DTSTAMP:20260421T095716
CREATED:20240624T131036Z
LAST-MODIFIED:20240624T131036Z
UID:10002410-1721988000-1721995200@pcpi.ca
SUMMARY:Occupational Health & Safety & Know Your Rights in the Workplace - In Person –
DESCRIPTION:Occupational Health & Safety & Know Your Rights in the Workplace – In Person – \nRegister here
URL:https://pcpi.ca/event/occupational-health-safety-know-your-rights-in-the-workplace-in-person-13/
END:VEVENT
BEGIN:VEVENT
DTSTART;TZID=UTC:20240729T083000
DTEND;TZID=UTC:20240729T163000
DTSTAMP:20260421T095716
CREATED:20240621T130703Z
LAST-MODIFIED:20240621T131106Z
UID:10002392-1722241800-1722270600@pcpi.ca
SUMMARY:One on One Session with a Resource & Information Specialist - To be booked by Career Coach - In Person –
DESCRIPTION:One on One Session with a Resource & Information Specialist \nTo be booked by Career Coach – In Person – \nAvailable within office hours \nRegister here
URL:https://pcpi.ca/event/one-on-one-session-with-a-resource-information-specialist-to-be-booked-by-career-coach-in-person-3-2024-07-29/
END:VEVENT
BEGIN:VEVENT
DTSTART;TZID=UTC:20240730T100000
DTEND;TZID=UTC:20240730T120000
DTSTAMP:20260421T095716
CREATED:20240624T131248Z
LAST-MODIFIED:20240624T131248Z
UID:10002411-1722333600-1722340800@pcpi.ca
SUMMARY:Labour Market Trends  - Computer Lab - - In Person -
DESCRIPTION:Labour Market Trends – Computer Lab – – In Person – \nRegister here
URL:https://pcpi.ca/event/labour-market-trends-computer-lab-in-person-2/
END:VEVENT
BEGIN:VEVENT
DTSTART;TZID=UTC:20240731T083000
DTEND;TZID=UTC:20240731T163000
DTSTAMP:20260421T095716
CREATED:20240621T130703Z
LAST-MODIFIED:20240621T131139Z
UID:10002393-1722414600-1722443400@pcpi.ca
SUMMARY:One on One Session with a Resource & Information Specialist - To be booked by Career Coach - In Person –
DESCRIPTION:One on One Session with a Resource & Information Specialist \nTo be booked by Career Coach – In Person – \nAvailable within office hours \nRegister here
URL:https://pcpi.ca/event/one-on-one-session-with-a-resource-information-specialist-to-be-booked-by-career-coach-in-person-3-2024-07-31/
END:VEVENT
BEGIN:VEVENT
DTSTART;TZID=UTC:20240801T100000
DTEND;TZID=UTC:20240801T110000
DTSTAMP:20260421T095716
CREATED:20240722T195213Z
LAST-MODIFIED:20240722T195213Z
UID:10002004-1722506400-1722510000@pcpi.ca
SUMMARY:Newcomers Welcoming Information Session - On Zoom -
DESCRIPTION:Newcomers Welcoming Information Session – On Zoom – \nhttps://us02web.zoom.us/meeting/register/tZIpcuCtqj8sHddE_RPyrPkscv66rc3B93kX#/registration
URL:https://pcpi.ca/event/newcomers-welcoming-information-session-on-zoom/2024-08-01/
END:VEVENT
BEGIN:VEVENT
DTSTART;TZID=UTC:20240801T100000
DTEND;TZID=UTC:20240801T120000
DTSTAMP:20260421T095716
CREATED:20240722T194644Z
LAST-MODIFIED:20240722T194658Z
UID:10002003-1722506400-1722513600@pcpi.ca
SUMMARY:Career Cruising - In Computer Lab –
DESCRIPTION:Career Cruising – In Computer Lab – \nRegister here
URL:https://pcpi.ca/event/career-cruising-in-computer-lab-2/
END:VEVENT
BEGIN:VEVENT
DTSTART;TZID=UTC:20240802T090000
DTEND;TZID=UTC:20240802T160000
DTSTAMP:20260421T095716
CREATED:20240722T200326Z
LAST-MODIFIED:20240722T200441Z
UID:10002005-1722589200-1722614400@pcpi.ca
SUMMARY:One on One Session with a Resource & Information Specialist - To be booked by Career Coach - In Person –
DESCRIPTION:One on One Session with a Resource & Information Specialist – To be booked by Career Coach – In Person – \nRegister here
URL:https://pcpi.ca/event/one-on-one-session-with-a-resource-information-specialist-to-be-booked-by-career-coach-in-person-4/
END:VEVENT
BEGIN:VEVENT
DTSTART;TZID=UTC:20240802T100000
DTEND;TZID=UTC:20240802T113000
DTSTAMP:20260421T095716
CREATED:20240722T202857Z
LAST-MODIFIED:20240722T202857Z
UID:10002414-1722592800-1722598200@pcpi.ca
SUMMARY:Resume Writing for Newcomers - On Zoom -
DESCRIPTION:Resume Writing for Newcomers – On Zoom – \nhttps://us02web.zoom.us/meeting/register/tZUqf-6sqDwsEtbKAbeZsR_exj9N4bcp6aYY#/registration
URL:https://pcpi.ca/event/resume-writing-for-newcomers-on-zoom/
END:VEVENT
BEGIN:VEVENT
DTSTART;TZID=UTC:20240805T083000
DTEND;TZID=UTC:20240805T163000
DTSTAMP:20260421T095716
CREATED:20240729T141142Z
LAST-MODIFIED:20240729T141142Z
UID:10002035-1722846600-1722875400@pcpi.ca
SUMMARY:Civic Day - Office Closed
DESCRIPTION:Civic Day – Office Closed
URL:https://pcpi.ca/event/civic-day-office-closed/
END:VEVENT
BEGIN:VEVENT
DTSTART;TZID=UTC:20240806T100000
DTEND;TZID=UTC:20240806T120000
DTSTAMP:20260421T095716
CREATED:20240723T170934Z
LAST-MODIFIED:20240723T171027Z
UID:10002415-1722938400-1722945600@pcpi.ca
SUMMARY:I. Create a Resume that Sells You! - In Person –
DESCRIPTION:I. Create a Resume that Sells You! – In Person – \nRegister here
URL:https://pcpi.ca/event/i-create-a-resume-that-sells-you-in-person-14/
END:VEVENT
BEGIN:VEVENT
DTSTART;TZID=UTC:20240806T133000
DTEND;TZID=UTC:20240806T153000
DTSTAMP:20260421T095716
CREATED:20240723T171323Z
LAST-MODIFIED:20240723T171353Z
UID:10002417-1722951000-1722958200@pcpi.ca
SUMMARY:II. Learn to Write a Resume (Must have attended Part I)  - In Computer Lab –
DESCRIPTION:II. Learn to Write a Resume (Must have attended Part I) – In Computer Lab – \nRegister here
URL:https://pcpi.ca/event/ii-learn-to-write-a-resume-must-have-attended-part-i-in-computer-lab/
END:VEVENT
BEGIN:VEVENT
DTSTART;TZID=UTC:20240807T090000
DTEND;TZID=UTC:20240807T160000
DTSTAMP:20260421T095716
CREATED:20240722T200326Z
LAST-MODIFIED:20240722T200513Z
UID:10002006-1723021200-1723046400@pcpi.ca
SUMMARY:One on One Session with a Resource & Information Specialist - To be booked by Career Coach - In Person –
DESCRIPTION:One on One Session with a Resource & Information Specialist – To be booked by Career Coach – In Person – \nRegister here
URL:https://pcpi.ca/event/one-on-one-session-with-a-resource-information-specialist-to-be-booked-by-career-coach-in-person-4-2024-08-07/
END:VEVENT
BEGIN:VEVENT
DTSTART;TZID=UTC:20240808T100000
DTEND;TZID=UTC:20240808T110000
DTSTAMP:20260421T095716
CREATED:20240723T172728Z
LAST-MODIFIED:20240723T172728Z
UID:10002420-1723111200-1723114800@pcpi.ca
SUMMARY:Interview Strategies for Newcomers - On Zoom –
DESCRIPTION:Interview Strategies for Newcomers – On Zoom – \nhttps://us02web.zoom.us/meeting/register/tZEqduquqT8vGdEDa1o_vqBkOL-Zy2tLNaa5#/registration
URL:https://pcpi.ca/event/interview-strategies-for-newcomers-on-zoom-2/
END:VEVENT
BEGIN:VEVENT
DTSTART;TZID=UTC:20240808T100000
DTEND;TZID=UTC:20240808T130000
DTSTAMP:20260421T095716
CREATED:20240723T172514Z
LAST-MODIFIED:20240723T172514Z
UID:10002419-1723111200-1723122000@pcpi.ca
SUMMARY:The Employment Network with Practice - In Person –
DESCRIPTION:The Employment Network with Practice – In Person – \nRegister here
URL:https://pcpi.ca/event/the-employment-network-with-practice-in-person-14/
END:VEVENT
BEGIN:VEVENT
DTSTART;TZID=UTC:20240809T090000
DTEND;TZID=UTC:20240809T160000
DTSTAMP:20260421T095716
CREATED:20240722T200326Z
LAST-MODIFIED:20240722T200557Z
UID:10002007-1723194000-1723219200@pcpi.ca
SUMMARY:One on One Session with a Resource & Information Specialist - To be booked by Career Coach - In Person –
DESCRIPTION:One on One Session with a Resource & Information Specialist – To be booked by Career Coach – In Person – \nRegister here
URL:https://pcpi.ca/event/one-on-one-session-with-a-resource-information-specialist-to-be-booked-by-career-coach-in-person-4-2024-08-09/
END:VEVENT
BEGIN:VEVENT
DTSTART;TZID=UTC:20240812T090000
DTEND;TZID=UTC:20240812T160000
DTSTAMP:20260421T095716
CREATED:20240722T200326Z
LAST-MODIFIED:20240722T200632Z
UID:10002008-1723453200-1723478400@pcpi.ca
SUMMARY:One on One Session with a Resource & Information Specialist - To be booked by Career Coach - In Person –
DESCRIPTION:One on One Session with a Resource & Information Specialist – To be booked by Career Coach – In Person – \nRegister here
URL:https://pcpi.ca/event/one-on-one-session-with-a-resource-information-specialist-to-be-booked-by-career-coach-in-person-4-2024-08-12/
END:VEVENT
BEGIN:VEVENT
DTSTART;TZID=UTC:20240812T093000
DTEND;TZID=UTC:20240812T113000
DTSTAMP:20260421T095716
CREATED:20240724T124239Z
LAST-MODIFIED:20240724T124239Z
UID:10002421-1723455000-1723462200@pcpi.ca
SUMMARY:Newcomers Welcoming Information Session - On Zoom -
DESCRIPTION:Newcomers Welcoming Information Session – On Zoom – \nhttps://us02web.zoom.us/meeting/register/tZIocuqqpzovH9XtDZfvxt-cPbybekvQx6i9#/registration
URL:https://pcpi.ca/event/newcomers-welcoming-information-session-on-zoom-2/
END:VEVENT
BEGIN:VEVENT
DTSTART;TZID=UTC:20240813T100000
DTEND;TZID=UTC:20240813T113000
DTSTAMP:20260421T095716
CREATED:20240724T125041Z
LAST-MODIFIED:20240724T125041Z
UID:10002426-1723543200-1723548600@pcpi.ca
SUMMARY:Current Employment Law - On Zoom -
DESCRIPTION:Current Employment Law – On Zoom – \nhttps://us02web.zoom.us/meeting/register/tZMtcuCpqTMiH9yn2tUv3ElIVDgix_IGlYOH#/registration
URL:https://pcpi.ca/event/current-employment-law-on-zoom-2/
END:VEVENT
BEGIN:VEVENT
DTSTART;TZID=UTC:20240813T100000
DTEND;TZID=UTC:20240813T120000
DTSTAMP:20260421T095716
CREATED:20240724T124519Z
LAST-MODIFIED:20240724T124542Z
UID:10002422-1723543200-1723550400@pcpi.ca
SUMMARY:I. Job Interview Strategies - In Person –
DESCRIPTION:I. Job Interview Strategies – In Person – \nRegister here
URL:https://pcpi.ca/event/i-job-interview-strategies-in-person-16/
END:VEVENT
BEGIN:VEVENT
DTSTART;TZID=UTC:20240813T133000
DTEND;TZID=UTC:20240813T153000
DTSTAMP:20260421T095716
CREATED:20240724T124831Z
LAST-MODIFIED:20240724T124849Z
UID:10002424-1723555800-1723563000@pcpi.ca
SUMMARY:II. Practice Interview Questions (Must have attended Part I)  - In Person –
DESCRIPTION:II. Practice Interview Questions (Must have attended Part I) – In Person – \nRegister here
URL:https://pcpi.ca/event/ii-practice-interview-questions-must-have-attended-part-i-in-person/
END:VEVENT
END:VCALENDAR