BEGIN:VCALENDAR
VERSION:2.0
PRODID:-//Progress Career Planning Institute (PCPI) - ECPv6.9.0//NONSGML v1.0//EN
CALSCALE:GREGORIAN
METHOD:PUBLISH
X-WR-CALNAME:Progress Career Planning Institute (PCPI)
X-ORIGINAL-URL:https://pcpi.ca
X-WR-CALDESC:Events for Progress Career Planning Institute (PCPI)
REFRESH-INTERVAL;VALUE=DURATION:PT1H
X-Robots-Tag:noindex
X-PUBLISHED-TTL:PT1H
BEGIN:VTIMEZONE
TZID:UTC
BEGIN:STANDARD
TZOFFSETFROM:+0000
TZOFFSETTO:+0000
TZNAME:UTC
DTSTART:20240101T000000
END:STANDARD
END:VTIMEZONE
BEGIN:VEVENT
DTSTART;TZID=UTC:20240606T100000
DTEND;TZID=UTC:20240606T130000
DTSTAMP:20260421T024520
CREATED:20240517T133408Z
LAST-MODIFIED:20240517T133408Z
UID:10002367-1717668000-1717678800@pcpi.ca
SUMMARY:The Employment Network with Practice - In Person –
DESCRIPTION:The Employment Network with Practice – In Person – \nRegister here
URL:https://pcpi.ca/event/the-employment-network-with-practice-in-person-12/
END:VEVENT
BEGIN:VEVENT
DTSTART;TZID=UTC:20240607T100000
DTEND;TZID=UTC:20240607T120000
DTSTAMP:20260421T024520
CREATED:20240517T133614Z
LAST-MODIFIED:20240517T133614Z
UID:10002368-1717754400-1717761600@pcpi.ca
SUMMARY:Career Cruising - In Person -
DESCRIPTION:Career Cruising – In Person – \nRegister here
URL:https://pcpi.ca/event/career-cruising-in-person-10/
END:VEVENT
BEGIN:VEVENT
DTSTART;TZID=UTC:20240610T090000
DTEND;TZID=UTC:20240610T160000
DTSTAMP:20260421T024520
CREATED:20240517T125812Z
LAST-MODIFIED:20240517T125953Z
UID:10001956-1718010000-1718035200@pcpi.ca
SUMMARY:One on One Session with a Resource & Information Specialist To be booked by Career Coach  - In Person –
DESCRIPTION:One on One Session with a Resource & Information Specialist To be booked by Career Coach – In Person – \nRegister here
URL:https://pcpi.ca/event/one-on-one-session-with-a-resource-information-specialist-to-be-booked-by-career-coach-in-person-2024-06-10/
END:VEVENT
BEGIN:VEVENT
DTSTART;TZID=UTC:20240610T100000
DTEND;TZID=UTC:20240610T113000
DTSTAMP:20260421T024520
CREATED:20240517T133919Z
LAST-MODIFIED:20240517T133919Z
UID:10002369-1718013600-1718019000@pcpi.ca
SUMMARY:Canadian Dental Care Plan for Newcomers - On Zoom -
DESCRIPTION:Canadian Dental Care Plan for Newcomers – On Zoom – \nhttps://us02web.zoom.us/meeting/register/tZIuduqhrDMoG9KJCuk3yuC5kEKgUT70XgMK#/registration
URL:https://pcpi.ca/event/canadian-dental-care-plan-for-newcomers-on-zoom/
END:VEVENT
BEGIN:VEVENT
DTSTART;TZID=UTC:20240611T100000
DTEND;TZID=UTC:20240611T120000
DTSTAMP:20260421T024520
CREATED:20240517T134300Z
LAST-MODIFIED:20240517T134352Z
UID:10002370-1718100000-1718107200@pcpi.ca
SUMMARY:I. Job Interview Strategies - In Person –
DESCRIPTION:I. Job Interview Strategies – In Person – \nRegister here
URL:https://pcpi.ca/event/i-job-interview-strategies-in-person-14/
END:VEVENT
BEGIN:VEVENT
DTSTART;TZID=UTC:20240611T133000
DTEND;TZID=UTC:20240611T153000
DTSTAMP:20260421T024520
CREATED:20240517T134642Z
LAST-MODIFIED:20240517T134721Z
UID:10002372-1718112600-1718119800@pcpi.ca
SUMMARY:II. Practice Interview Questions - In Person –
DESCRIPTION:II. Practice Interview Questions – In Person – \nRegister here
URL:https://pcpi.ca/event/ii-practice-interview-questions-in-person-9/
END:VEVENT
BEGIN:VEVENT
DTSTART;TZID=UTC:20240612T090000
DTEND;TZID=UTC:20240612T160000
DTSTAMP:20260421T024520
CREATED:20240517T131411Z
LAST-MODIFIED:20240517T131411Z
UID:10001965-1718182800-1718208000@pcpi.ca
SUMMARY:One on One Session with a Resource & Information Specialist To be booked by Career Coach - In Person -
DESCRIPTION:One on One Session with a Resource & Information Specialist To be booked by Career Coach – In Person – \nRegister here
URL:https://pcpi.ca/event/one-on-one-session-with-a-resource-information-specialist-to-be-booked-by-career-coach-in-person-2/
END:VEVENT
BEGIN:VEVENT
DTSTART;TZID=UTC:20240613T100000
DTEND;TZID=UTC:20240613T120000
DTSTAMP:20260421T024520
CREATED:20240517T135428Z
LAST-MODIFIED:20240517T135528Z
UID:10002374-1718272800-1718280000@pcpi.ca
SUMMARY:Employer Expectations - In Person -
DESCRIPTION:Employer Expectations – In Person – \nRegister here
URL:https://pcpi.ca/event/employer-expectations-in-person-11/
END:VEVENT
BEGIN:VEVENT
DTSTART;TZID=UTC:20240614T100000
DTEND;TZID=UTC:20240614T120000
DTSTAMP:20260421T024520
CREATED:20240517T135639Z
LAST-MODIFIED:20240517T135639Z
UID:10002375-1718359200-1718366400@pcpi.ca
SUMMARY:Better Jobs Ontario - In Person –
DESCRIPTION:Better Jobs Ontario – In Person – \nRegister here
URL:https://pcpi.ca/event/better-jobs-ontario-in-person-2/
END:VEVENT
BEGIN:VEVENT
DTSTART;TZID=UTC:20240614T100000
DTEND;TZID=UTC:20240614T120000
DTSTAMP:20260421T024520
CREATED:20240517T135841Z
LAST-MODIFIED:20240517T135841Z
UID:10002376-1718359200-1718366400@pcpi.ca
SUMMARY:OSAP Information Session - On Zoom –
DESCRIPTION:OSAP Information Session – On Zoom – \nhttps://us02web.zoom.us/meeting/register/tZMpcOCrqzsuHNffKKKU6k6dDMOIMo7OmqgW#/registration
URL:https://pcpi.ca/event/osap-information-session-on-zoom/
END:VEVENT
BEGIN:VEVENT
DTSTART;TZID=UTC:20240617T090000
DTEND;TZID=UTC:20240617T160000
DTSTAMP:20260421T024520
CREATED:20240517T125812Z
LAST-MODIFIED:20240517T130125Z
UID:10001958-1718614800-1718640000@pcpi.ca
SUMMARY:One on One Session with a Resource & Information Specialist To be booked by Career Coach  - In Person –
DESCRIPTION:One on One Session with a Resource & Information Specialist To be booked by Career Coach – In Person – \nRegister here
URL:https://pcpi.ca/event/one-on-one-session-with-a-resource-information-specialist-to-be-booked-by-career-coach-in-person-2024-06-17/
END:VEVENT
BEGIN:VEVENT
DTSTART;TZID=UTC:20240617T100000
DTEND;TZID=UTC:20240617T113000
DTSTAMP:20260421T024520
CREATED:20240521T151948Z
LAST-MODIFIED:20240521T151948Z
UID:10002377-1718618400-1718623800@pcpi.ca
SUMMARY:Service Canada Employment Insurance Info Session - On Zoom -
DESCRIPTION:Service Canada Employment Insurance Info Session – On Zoom – \nhttps://us02web.zoom.us/meeting/register/tZEtc-yhrjsqGNw1ELnubhWESFDfUq_Sui5R#/registration
URL:https://pcpi.ca/event/service-canada-employment-insurance-info-session-on-zoom/
END:VEVENT
BEGIN:VEVENT
DTSTART;TZID=UTC:20240618T100000
DTEND;TZID=UTC:20240618T120000
DTSTAMP:20260421T024520
CREATED:20240517T132202Z
LAST-MODIFIED:20240517T132240Z
UID:10002363-1718704800-1718712000@pcpi.ca
SUMMARY:I. Create a Resume that Sells You! - In Person –
DESCRIPTION:I. Create a Resume that Sells You! – In Person – \nRegister here
URL:https://pcpi.ca/event/i-create-a-resume-that-sells-you-in-person-12-2024-06-18/
END:VEVENT
BEGIN:VEVENT
DTSTART;TZID=UTC:20240618T133000
DTEND;TZID=UTC:20240618T153000
DTSTAMP:20260421T024520
CREATED:20240517T132504Z
LAST-MODIFIED:20240517T132605Z
UID:10002365-1718717400-1718724600@pcpi.ca
SUMMARY:II. Learn to Write a Resume - In Computer Lab -
DESCRIPTION:II. Learn to Write a Resume – In Computer Lab –
URL:https://pcpi.ca/event/ii-learn-to-write-a-resume-in-computer-lab-11-2024-06-18/
END:VEVENT
BEGIN:VEVENT
DTSTART;TZID=UTC:20240619T090000
DTEND;TZID=UTC:20240619T160000
DTSTAMP:20260421T024520
CREATED:20240517T125812Z
LAST-MODIFIED:20240517T130152Z
UID:10001960-1718787600-1718812800@pcpi.ca
SUMMARY:One on One Session with a Resource & Information Specialist To be booked by Career Coach  - In Person –
DESCRIPTION:One on One Session with a Resource & Information Specialist To be booked by Career Coach – In Person – \nRegister here
URL:https://pcpi.ca/event/one-on-one-session-with-a-resource-information-specialist-to-be-booked-by-career-coach-in-person-2024-06-19/
END:VEVENT
BEGIN:VEVENT
DTSTART;TZID=UTC:20240619T130000
DTEND;TZID=UTC:20240619T160000
DTSTAMP:20260421T024520
CREATED:20240521T152358Z
LAST-MODIFIED:20240521T152358Z
UID:10002378-1718802000-1718812800@pcpi.ca
SUMMARY:Sector Specific  Referral by Career Coach Only - On Zoom -
DESCRIPTION:Sector Specific Referral by Career Coach Only – On Zoom –
URL:https://pcpi.ca/event/sector-specific-referral-by-career-coach-only-on-zoom-7/
END:VEVENT
BEGIN:VEVENT
DTSTART;TZID=UTC:20240620T100000
DTEND;TZID=UTC:20240620T120000
DTSTAMP:20260421T024520
CREATED:20240521T152635Z
LAST-MODIFIED:20240521T152635Z
UID:10002379-1718877600-1718884800@pcpi.ca
SUMMARY:Reading between the Lines of a Job Posting - In Person –
DESCRIPTION:Reading between the Lines of a Job Posting – In Person – \nRegister here
URL:https://pcpi.ca/event/reading-between-the-lines-of-a-job-posting-in-person-8/
END:VEVENT
BEGIN:VEVENT
DTSTART;TZID=UTC:20240620T110000
DTEND;TZID=UTC:20240620T120000
DTSTAMP:20260421T024520
CREATED:20240521T152824Z
LAST-MODIFIED:20240521T152824Z
UID:10002380-1718881200-1718884800@pcpi.ca
SUMMARY:Effective Job Search (Newcomers) - On Zoom -
DESCRIPTION:Effective Job Search (Newcomers) – On Zoom – \nRegister here
URL:https://pcpi.ca/event/effective-job-search-newcomers-on-zoom/
END:VEVENT
BEGIN:VEVENT
DTSTART;TZID=UTC:20240621T100000
DTEND;TZID=UTC:20240621T120000
DTSTAMP:20260421T024520
CREATED:20240521T153152Z
LAST-MODIFIED:20240521T153152Z
UID:10002381-1718964000-1718971200@pcpi.ca
SUMMARY:Labour Market Trends - Computer Lab - In Person –
DESCRIPTION:Labour Market Trends – Computer Lab – In Person – \nRegister here
URL:https://pcpi.ca/event/labour-market-trends-computer-lab-in-person/
END:VEVENT
BEGIN:VEVENT
DTSTART;TZID=UTC:20240624T100000
DTEND;TZID=UTC:20240624T110000
DTSTAMP:20260421T024520
CREATED:20240521T153433Z
LAST-MODIFIED:20240521T153433Z
UID:10002382-1719223200-1719226800@pcpi.ca
SUMMARY:PCPI  Employment Ontario Information Session - In Person -
DESCRIPTION:PCPI Employment Ontario Information Session – In Person – \nRegister here
URL:https://pcpi.ca/event/pcpi-employment-ontario-information-session-in-person-15/
END:VEVENT
BEGIN:VEVENT
DTSTART;TZID=UTC:20240625T100000
DTEND;TZID=UTC:20240625T120000
DTSTAMP:20260421T024520
CREATED:20240517T134300Z
LAST-MODIFIED:20240517T134414Z
UID:10002371-1719309600-1719316800@pcpi.ca
SUMMARY:I. Job Interview Strategies - In Person –
DESCRIPTION:I. Job Interview Strategies – In Person – \nRegister here
URL:https://pcpi.ca/event/i-job-interview-strategies-in-person-14-2024-06-25/
END:VEVENT
BEGIN:VEVENT
DTSTART;TZID=UTC:20240625T100000
DTEND;TZID=UTC:20240625T133000
DTSTAMP:20260421T024520
CREATED:20240521T153709Z
LAST-MODIFIED:20240521T153709Z
UID:10002383-1719309600-1719322200@pcpi.ca
SUMMARY:Day 1 Community Cook Event – East Scarborough Storefront\, 4040 Lawrence Ave East\, Scarborough - In Person –
DESCRIPTION:Day 1 Community Cook Event – East Scarborough Storefront\, 4040 Lawrence Ave East\, Scarborough – In Person – \nRegister here
URL:https://pcpi.ca/event/day-1-community-cook-event-east-scarborough-storefront-4040-lawrence-ave-east-scarborough-in-person/
END:VEVENT
BEGIN:VEVENT
DTSTART;TZID=UTC:20240625T110000
DTEND;TZID=UTC:20240625T120000
DTSTAMP:20260421T024520
CREATED:20240521T154007Z
LAST-MODIFIED:20240521T154007Z
UID:10002384-1719313200-1719316800@pcpi.ca
SUMMARY:How to become a Volunteer - On Zoom -
DESCRIPTION:How to become a Volunteer – On Zoom – \nhttps://us02web.zoom.us/meeting/register/tZctdO6tqTspGdLKYDCEcnu6-BwUAb9QDg7L#/registration
URL:https://pcpi.ca/event/how-to-become-a-volunteer-on-zoom-2/
END:VEVENT
BEGIN:VEVENT
DTSTART;TZID=UTC:20240625T133000
DTEND;TZID=UTC:20240625T153000
DTSTAMP:20260421T024520
CREATED:20240517T134642Z
LAST-MODIFIED:20240517T134858Z
UID:10002373-1719322200-1719329400@pcpi.ca
SUMMARY:II. Practice Interview Questions - In Person –
DESCRIPTION:II. Practice Interview Questions – In Person – \nRegister here
URL:https://pcpi.ca/event/ii-practice-interview-questions-in-person-9-2024-06-25/
END:VEVENT
BEGIN:VEVENT
DTSTART;TZID=UTC:20240626T090000
DTEND;TZID=UTC:20240626T140000
DTSTAMP:20260421T024520
CREATED:20240521T154304Z
LAST-MODIFIED:20240521T154304Z
UID:10002385-1719392400-1719410400@pcpi.ca
SUMMARY:Day 2 Food Handling Training - On Zoom -
DESCRIPTION:Day 2 Food Handling Training – On Zoom – \nhttps://us02web.zoom.us/meeting/register/tZMudu6tqTMjHt0otyvE1rUR9Y8uEh3KMDDn#/registration
URL:https://pcpi.ca/event/day-2-food-handling-training-on-zoom/
END:VEVENT
BEGIN:VEVENT
DTSTART;TZID=UTC:20240626T090000
DTEND;TZID=UTC:20240626T160000
DTSTAMP:20260421T024520
CREATED:20240517T125812Z
LAST-MODIFIED:20240517T131147Z
UID:10001962-1719392400-1719417600@pcpi.ca
SUMMARY:One on One Session with a Resource & Information Specialist To be booked by Career Coach  - In Person –
DESCRIPTION:One on One Session with a Resource & Information Specialist To be booked by Career Coach – In Person – \nRegister here
URL:https://pcpi.ca/event/one-on-one-session-with-a-resource-information-specialist-to-be-booked-by-career-coach-in-person-2024-06-26/
END:VEVENT
BEGIN:VEVENT
DTSTART;TZID=UTC:20240627T100000
DTEND;TZID=UTC:20240627T120000
DTSTAMP:20260421T024520
CREATED:20240521T170306Z
LAST-MODIFIED:20240521T170306Z
UID:10001977-1719482400-1719489600@pcpi.ca
SUMMARY:Learn to Write a Cover Letter - In Computer Lab –
DESCRIPTION:Learn to Write a Cover Letter – In Computer Lab – \nRegister here
URL:https://pcpi.ca/event/learn-to-write-a-cover-letter-in-computer-lab-7/
END:VEVENT
BEGIN:VEVENT
DTSTART;TZID=UTC:20240628T100000
DTEND;TZID=UTC:20240628T120000
DTSTAMP:20260421T024520
CREATED:20240521T170642Z
LAST-MODIFIED:20240521T170642Z
UID:10001980-1719568800-1719576000@pcpi.ca
SUMMARY:Occupational Health & Safety & Know Your Rights in the Workplace - In Person –
DESCRIPTION:Occupational Health & Safety & Know Your Rights in the Workplace – In Person – \nRegister here
URL:https://pcpi.ca/event/occupational-health-safety-know-your-rights-in-the-workplace-in-person-12/
END:VEVENT
BEGIN:VEVENT
DTSTART;TZID=UTC:20240628T113000
DTEND;TZID=UTC:20240628T123000
DTSTAMP:20260421T024520
CREATED:20240521T170822Z
LAST-MODIFIED:20240521T170822Z
UID:10001982-1719574200-1719577800@pcpi.ca
SUMMARY:Dress for Success - On Zoom -
DESCRIPTION:Dress for Success – On Zoom – \nhttps://us02web.zoom.us/meeting/register/tZ0tcuCqrDstG9eP1FWrPqAo20nXrUPhfYpj#/registration
URL:https://pcpi.ca/event/dress-for-success-on-zoom-2/
END:VEVENT
BEGIN:VEVENT
DTSTART;TZID=UTC:20240701T083000
DTEND;TZID=UTC:20240701T163000
DTSTAMP:20260421T024520
CREATED:20240621T124605Z
LAST-MODIFIED:20240621T124709Z
UID:10001984-1719822600-1719851400@pcpi.ca
SUMMARY:CANADA DAY
DESCRIPTION:CANADA DAY – Office closed
URL:https://pcpi.ca/event/canada-day/
END:VEVENT
END:VCALENDAR