BEGIN:VCALENDAR
VERSION:2.0
PRODID:-//Progress Career Planning Institute (PCPI) - ECPv6.9.0//NONSGML v1.0//EN
CALSCALE:GREGORIAN
METHOD:PUBLISH
X-ORIGINAL-URL:https://pcpi.ca
X-WR-CALDESC:Events for Progress Career Planning Institute (PCPI)
REFRESH-INTERVAL;VALUE=DURATION:PT1H
X-Robots-Tag:noindex
X-PUBLISHED-TTL:PT1H
BEGIN:VTIMEZONE
TZID:UTC
BEGIN:STANDARD
TZOFFSETFROM:+0000
TZOFFSETTO:+0000
TZNAME:UTC
DTSTART:20240101T000000
END:STANDARD
END:VTIMEZONE
BEGIN:VEVENT
DTSTART;TZID=UTC:20240502T100000
DTEND;TZID=UTC:20240502T130000
DTSTAMP:20260420T212542
CREATED:20240423T140233Z
LAST-MODIFIED:20240423T140325Z
UID:10002337-1714644000-1714654800@pcpi.ca
SUMMARY:The Employment Network with Practice - In Person –
DESCRIPTION:The Employment Network with Practice – In Person – \nRegister here
URL:https://pcpi.ca/event/the-employment-network-with-practice-in-person-11/
END:VEVENT
BEGIN:VEVENT
DTSTART;TZID=UTC:20240503T100000
DTEND;TZID=UTC:20240503T120000
DTSTAMP:20260420T212542
CREATED:20240423T140716Z
LAST-MODIFIED:20240423T141115Z
UID:10002338-1714730400-1714737600@pcpi.ca
SUMMARY:Better Jobs Ontario - In Person –
DESCRIPTION:Better Jobs Ontario – In Person – \nRegister here
URL:https://pcpi.ca/event/better-jobs-ontario-in-person/
END:VEVENT
BEGIN:VEVENT
DTSTART;TZID=UTC:20240506T090000
DTEND;TZID=UTC:20240506T160000
DTSTAMP:20260420T212542
CREATED:20240423T135622Z
LAST-MODIFIED:20240423T135726Z
UID:10001941-1714986000-1715011200@pcpi.ca
SUMMARY:One on One Session with a Resource & Information Specialist - To be booked by Career Coach Available within office hours - In Person -
DESCRIPTION:One on One Session with a Resource & Information Specialist – To be booked by Career Coach Available within office hours – In Person – \nRegister here
URL:https://pcpi.ca/event/one-on-one-session-with-a-resource-information-specialist-to-be-booked-by-career-coach-available-within-office-hours-in-person-5-2024-05-06/
END:VEVENT
BEGIN:VEVENT
DTSTART;TZID=UTC:20240507T093000
DTEND;TZID=UTC:20240507T143000
DTSTAMP:20260420T212542
CREATED:20240423T142413Z
LAST-MODIFIED:20240423T142453Z
UID:10002344-1715074200-1715092200@pcpi.ca
SUMMARY:Digital Skills for the Workplace - WOMEN/2SLGBTQ+ ONLY - In Person -
DESCRIPTION:Digital Skills for the Workplace – WOMEN/2SLGBTQ+ ONLY – In Person – \nRegister here
URL:https://pcpi.ca/event/digital-skills-for-the-workplace-women-2slgbtq-only-in-person/
END:VEVENT
BEGIN:VEVENT
DTSTART;TZID=UTC:20240507T100000
DTEND;TZID=UTC:20240507T120000
DTSTAMP:20260420T212542
CREATED:20240423T141556Z
LAST-MODIFIED:20240423T141630Z
UID:10002340-1715076000-1715083200@pcpi.ca
SUMMARY:I. Create a Resume that Sells You! - In Person -
DESCRIPTION:I. Create a Resume that Sells You! – In Person – \nRegister here
URL:https://pcpi.ca/event/i-create-a-resume-that-sells-you-in-person-11/
END:VEVENT
BEGIN:VEVENT
DTSTART;TZID=UTC:20240507T130000
DTEND;TZID=UTC:20240507T150000
DTSTAMP:20260420T212542
CREATED:20240423T142050Z
LAST-MODIFIED:20240423T142126Z
UID:10002342-1715086800-1715094000@pcpi.ca
SUMMARY:II. Learn to Write a Resume - In Computer Lab -
DESCRIPTION:II. Learn to Write a Resume – In Computer Lab – \nRegister here
URL:https://pcpi.ca/event/ii-learn-to-write-a-resume-in-computer-lab-10/
END:VEVENT
BEGIN:VEVENT
DTSTART;TZID=UTC:20240508T100000
DTEND;TZID=UTC:20240508T120000
DTSTAMP:20260420T212542
CREATED:20240423T142836Z
LAST-MODIFIED:20240423T142836Z
UID:10002346-1715162400-1715169600@pcpi.ca
SUMMARY:Employer Expectations - In Person -
DESCRIPTION:Employer Expectations – In Person – \nRegister here
URL:https://pcpi.ca/event/employer-expectations-in-person-10/
END:VEVENT
BEGIN:VEVENT
DTSTART;TZID=UTC:20240509T093000
DTEND;TZID=UTC:20240509T143000
DTSTAMP:20260420T212542
CREATED:20240423T142413Z
LAST-MODIFIED:20240423T142528Z
UID:10002345-1715247000-1715265000@pcpi.ca
SUMMARY:Digital Skills for the Workplace - WOMEN/2SLGBTQ+ ONLY - In Person -
DESCRIPTION:Digital Skills for the Workplace – WOMEN/2SLGBTQ+ ONLY – In Person – \nRegister here
URL:https://pcpi.ca/event/digital-skills-for-the-workplace-women-2slgbtq-only-in-person-2024-05-09/
END:VEVENT
BEGIN:VEVENT
DTSTART;TZID=UTC:20240509T100000
DTEND;TZID=UTC:20240509T120000
DTSTAMP:20260420T212542
CREATED:20240423T143220Z
LAST-MODIFIED:20240423T143243Z
UID:10002347-1715248800-1715256000@pcpi.ca
SUMMARY:Learn to Write a Cover Letter - In Computer Lab -
DESCRIPTION:Learn to Write a Cover Letter – In Computer Lab – \nRegister here
URL:https://pcpi.ca/event/learn-to-write-a-cover-letter-in-computer-lab-6/
END:VEVENT
BEGIN:VEVENT
DTSTART;TZID=UTC:20240510T100000
DTEND;TZID=UTC:20240510T120000
DTSTAMP:20260420T212542
CREATED:20240423T143523Z
LAST-MODIFIED:20240423T143523Z
UID:10002349-1715335200-1715342400@pcpi.ca
SUMMARY:Career Cruising - In Person -
DESCRIPTION:Career Cruising – In Person – \nRegister here
URL:https://pcpi.ca/event/career-cruising-in-person-9/
END:VEVENT
BEGIN:VEVENT
DTSTART;TZID=UTC:20240513T090000
DTEND;TZID=UTC:20240513T160000
DTSTAMP:20260420T212542
CREATED:20240423T135622Z
LAST-MODIFIED:20240423T135751Z
UID:10001943-1715590800-1715616000@pcpi.ca
SUMMARY:One on One Session with a Resource & Information Specialist - To be booked by Career Coach Available within office hours - In Person -
DESCRIPTION:One on One Session with a Resource & Information Specialist – To be booked by Career Coach Available within office hours – In Person – \nRegister here
URL:https://pcpi.ca/event/one-on-one-session-with-a-resource-information-specialist-to-be-booked-by-career-coach-available-within-office-hours-in-person-5-2024-05-13/
END:VEVENT
BEGIN:VEVENT
DTSTART;TZID=UTC:20240513T100000
DTEND;TZID=UTC:20240513T113000
DTSTAMP:20260420T212542
CREATED:20240424T171002Z
LAST-MODIFIED:20240424T172008Z
UID:10002350-1715594400-1715599800@pcpi.ca
SUMMARY:The Residential Tenancies Act (RTA) Information Session for Newcomers - On ZOOM -
DESCRIPTION:The Residential Tenancies Act (RTA) Information Session for Newcomers – On ZOOM – \nhttps://us02web.zoom.us/meeting/register/tZwtfumrrD4tH9yl9F_Rwxd3_CIz8EQOXPq6#/registration \n 
URL:https://pcpi.ca/event/the-residential-tenancies-act-rta-information-session-for-newcomers-on-zoom/
END:VEVENT
BEGIN:VEVENT
DTSTART;TZID=UTC:20240514T100000
DTEND;TZID=UTC:20240514T120000
DTSTAMP:20260420T212542
CREATED:20240424T172200Z
LAST-MODIFIED:20240424T172224Z
UID:10002351-1715680800-1715688000@pcpi.ca
SUMMARY:I. Job Interview Strategies - In Person –
DESCRIPTION:I. Job Interview Strategies – In Person – \nRegister here
URL:https://pcpi.ca/event/i-job-interview-strategies-in-person-13/
END:VEVENT
BEGIN:VEVENT
DTSTART;TZID=UTC:20240514T130000
DTEND;TZID=UTC:20240514T150000
DTSTAMP:20260420T212542
CREATED:20240424T172430Z
LAST-MODIFIED:20240424T172449Z
UID:10002353-1715691600-1715698800@pcpi.ca
SUMMARY:II. Practice Interview Questions
DESCRIPTION:II. Practice Interview Questions \nRegister here
URL:https://pcpi.ca/event/ii-practice-interview-questions-2/
END:VEVENT
BEGIN:VEVENT
DTSTART;TZID=UTC:20240515T130000
DTEND;TZID=UTC:20240515T160000
DTSTAMP:20260420T212542
CREATED:20240424T172650Z
LAST-MODIFIED:20240424T172650Z
UID:10002355-1715778000-1715788800@pcpi.ca
SUMMARY:Sector Specific Referral by Career Coach Only - On ZOOM -
DESCRIPTION:Sector Specific Referral by Career Coach Only – On ZOOM –
URL:https://pcpi.ca/event/sector-specific-referral-by-career-coach-only-on-zoom-6/
END:VEVENT
BEGIN:VEVENT
DTSTART;TZID=UTC:20240516T100000
DTEND;TZID=UTC:20240516T120000
DTSTAMP:20260420T212542
CREATED:20240424T172822Z
LAST-MODIFIED:20240424T172822Z
UID:10002356-1715853600-1715860800@pcpi.ca
SUMMARY:Reading between the Lines of a Job Posting - In Person -
DESCRIPTION:Reading between the Lines of a Job Posting – In Person – \nRegister here
URL:https://pcpi.ca/event/reading-between-the-lines-of-a-job-posting-in-person-7/
END:VEVENT
BEGIN:VEVENT
DTSTART;TZID=UTC:20240517T100000
DTEND;TZID=UTC:20240517T120000
DTSTAMP:20260420T212542
CREATED:20240424T173040Z
LAST-MODIFIED:20240424T173040Z
UID:10002357-1715940000-1715947200@pcpi.ca
SUMMARY:Labour Market Trends - In Person –
DESCRIPTION:Labour Market Trends – In Person – \nRegister here
URL:https://pcpi.ca/event/labour-market-trends-in-person-8/
END:VEVENT
BEGIN:VEVENT
DTSTART;TZID=UTC:20240520T083000
DTEND;TZID=UTC:20240520T163000
DTSTAMP:20260420T212542
CREATED:20240425T125302Z
LAST-MODIFIED:20240425T125302Z
UID:10002358-1716193800-1716222600@pcpi.ca
SUMMARY:Office Closed - Victoria Day
DESCRIPTION:Office Closed – Victoria Day
URL:https://pcpi.ca/event/office-closed-victoria-day-2/
END:VEVENT
BEGIN:VEVENT
DTSTART;TZID=UTC:20240521T100000
DTEND;TZID=UTC:20240521T120000
DTSTAMP:20260420T212542
CREATED:20240423T141556Z
LAST-MODIFIED:20240423T141657Z
UID:10002341-1716285600-1716292800@pcpi.ca
SUMMARY:I. Create a Resume that Sells You! - In Person -
DESCRIPTION:I. Create a Resume that Sells You! – In Person – \nRegister here
URL:https://pcpi.ca/event/i-create-a-resume-that-sells-you-in-person-11-2024-05-21/
END:VEVENT
BEGIN:VEVENT
DTSTART;TZID=UTC:20240521T130000
DTEND;TZID=UTC:20240521T150000
DTSTAMP:20260420T212542
CREATED:20240423T142050Z
LAST-MODIFIED:20240423T142156Z
UID:10002343-1716296400-1716303600@pcpi.ca
SUMMARY:II. Learn to Write a Resume - In Computer Lab -
DESCRIPTION:II. Learn to Write a Resume – In Computer Lab – \nRegister here
URL:https://pcpi.ca/event/ii-learn-to-write-a-resume-in-computer-lab-10-2024-05-21/
END:VEVENT
BEGIN:VEVENT
DTSTART;TZID=UTC:20240522T100000
DTEND;TZID=UTC:20240522T133000
DTSTAMP:20260420T212542
CREATED:20240425T130626Z
LAST-MODIFIED:20240425T130626Z
UID:10002359-1716372000-1716384600@pcpi.ca
SUMMARY:Healthy Cooking on a Budget - In Person – at Scarborough Store Front
DESCRIPTION:Healthy Cooking on a Budget – In Person – at Scarborough Store Front \nhttps://us02web.zoom.us/meeting/register/tZclf-ytrT4sGNylXlaSWrZWob0vVHmEQQAw#/registration
URL:https://pcpi.ca/event/healthy-cooking-on-a-budget-in-person-at-scarborough-store-front/
END:VEVENT
BEGIN:VEVENT
DTSTART;TZID=UTC:20240523T100000
DTEND;TZID=UTC:20240523T120000
DTSTAMP:20260420T212542
CREATED:20240423T143220Z
LAST-MODIFIED:20240423T143300Z
UID:10002348-1716458400-1716465600@pcpi.ca
SUMMARY:Learn to Write a Cover Letter - In Computer Lab -
DESCRIPTION:Learn to Write a Cover Letter – In Computer Lab – \nRegister here
URL:https://pcpi.ca/event/learn-to-write-a-cover-letter-in-computer-lab-6-2024-05-23/
END:VEVENT
BEGIN:VEVENT
DTSTART;TZID=UTC:20240524T100000
DTEND;TZID=UTC:20240524T120000
DTSTAMP:20260420T212542
CREATED:20240425T130951Z
LAST-MODIFIED:20240425T130951Z
UID:10002360-1716544800-1716552000@pcpi.ca
SUMMARY:Occupational Health & Safety & Know Your Rights in the Workplace - In Person -
DESCRIPTION:Occupational Health & Safety & Know Your Rights in the Workplace – In Person – \nRegister here
URL:https://pcpi.ca/event/occupational-health-safety-know-your-rights-in-the-workplace-in-person-11/
END:VEVENT
BEGIN:VEVENT
DTSTART;TZID=UTC:20240527T100000
DTEND;TZID=UTC:20240527T110000
DTSTAMP:20260420T212542
CREATED:20240425T170533Z
LAST-MODIFIED:20240425T170601Z
UID:10002361-1716804000-1716807600@pcpi.ca
SUMMARY:PCPI Employment Ontario Information Session - In Person -
DESCRIPTION:PCPI Employment Ontario Information Session – In Person – \nRegister here
URL:https://pcpi.ca/event/pcpi-employment-ontario-information-session-in-person-14/
END:VEVENT
BEGIN:VEVENT
DTSTART;TZID=UTC:20240528T100000
DTEND;TZID=UTC:20240528T120000
DTSTAMP:20260420T212542
CREATED:20240424T172200Z
LAST-MODIFIED:20240424T172244Z
UID:10002352-1716890400-1716897600@pcpi.ca
SUMMARY:I. Job Interview Strategies - In Person –
DESCRIPTION:I. Job Interview Strategies – In Person – \nRegister here
URL:https://pcpi.ca/event/i-job-interview-strategies-in-person-13-2024-05-28/
END:VEVENT
BEGIN:VEVENT
DTSTART;TZID=UTC:20240528T130000
DTEND;TZID=UTC:20240528T150000
DTSTAMP:20260420T212542
CREATED:20240424T172430Z
LAST-MODIFIED:20240424T172521Z
UID:10002354-1716901200-1716908400@pcpi.ca
SUMMARY:II. Practice Interview Questions
DESCRIPTION:II. Practice Interview Questions \nRegister here
URL:https://pcpi.ca/event/ii-practice-interview-questions-2-2024-05-28/
END:VEVENT
BEGIN:VEVENT
DTSTART;TZID=UTC:20240529T100000
DTEND;TZID=UTC:20240529T110000
DTSTAMP:20260420T212542
CREATED:20240425T170533Z
LAST-MODIFIED:20240425T170556Z
UID:10001952-1716976800-1716980400@pcpi.ca
SUMMARY:PCPI Employment Ontario Information Session - In Person -
DESCRIPTION:PCPI Employment Ontario Information Session – In Person – \nRegister here
URL:https://pcpi.ca/event/pcpi-employment-ontario-information-session-in-person-14-2024-05-29/
END:VEVENT
BEGIN:VEVENT
DTSTART;TZID=UTC:20240529T100000
DTEND;TZID=UTC:20240529T113000
DTSTAMP:20260420T212542
CREATED:20240425T171009Z
LAST-MODIFIED:20240425T171009Z
UID:10001953-1716976800-1716982200@pcpi.ca
SUMMARY:Employment Insurance Information Session - On ZOOM -
DESCRIPTION:Employment Insurance Information Session – On ZOOM – \nhttps://us02web.zoom.us/meeting/register/tZIsd-GurDMvHtLb6FGB_spezMfq1_WcFOWf#/registration
URL:https://pcpi.ca/event/employment-insurance-information-session-on-zoom/
END:VEVENT
BEGIN:VEVENT
DTSTART;TZID=UTC:20240530T100000
DTEND;TZID=UTC:20240530T130000
DTSTAMP:20260420T212542
CREATED:20240423T140233Z
LAST-MODIFIED:20240423T140342Z
UID:10002339-1717063200-1717074000@pcpi.ca
SUMMARY:The Employment Network with Practice - In Person –
DESCRIPTION:The Employment Network with Practice – In Person – \nRegister here
URL:https://pcpi.ca/event/the-employment-network-with-practice-in-person-11-2024-05-30/
END:VEVENT
BEGIN:VEVENT
DTSTART;TZID=UTC:20240531T090000
DTEND;TZID=UTC:20240531T160000
DTSTAMP:20260420T212542
CREATED:20240423T135622Z
LAST-MODIFIED:20240423T135809Z
UID:10002336-1717146000-1717171200@pcpi.ca
SUMMARY:One on One Session with a Resource & Information Specialist - To be booked by Career Coach Available within office hours - In Person -
DESCRIPTION:One on One Session with a Resource & Information Specialist – To be booked by Career Coach Available within office hours – In Person – \nRegister here
URL:https://pcpi.ca/event/one-on-one-session-with-a-resource-information-specialist-to-be-booked-by-career-coach-available-within-office-hours-in-person-5-2024-05-31/
END:VEVENT
END:VCALENDAR