BEGIN:VCALENDAR
VERSION:2.0
PRODID:-//Progress Career Planning Institute (PCPI) - ECPv6.9.0//NONSGML v1.0//EN
CALSCALE:GREGORIAN
METHOD:PUBLISH
X-ORIGINAL-URL:https://pcpi.ca
X-WR-CALDESC:Events for Progress Career Planning Institute (PCPI)
REFRESH-INTERVAL;VALUE=DURATION:PT1H
X-Robots-Tag:noindex
X-PUBLISHED-TTL:PT1H
BEGIN:VTIMEZONE
TZID:UTC
BEGIN:STANDARD
TZOFFSETFROM:+0000
TZOFFSETTO:+0000
TZNAME:UTC
DTSTART:20260101T000000
END:STANDARD
END:VTIMEZONE
BEGIN:VEVENT
DTSTART;TZID=UTC:20260430T100000
DTEND;TZID=UTC:20260430T130000
DTSTAMP:20260424T155842
CREATED:20260422T141138Z
LAST-MODIFIED:20260422T141138Z
UID:10003021-1777543200-1777554000@pcpi.ca
SUMMARY:Careers in Healthcare: Unlock Your Potential -ZOOM-
DESCRIPTION:Careers in Healthcare: Unlock Your Potential -ZOOM- \nhttps://us02web.zoom.us/meeting/register/6e0TZStORXOWHwmN_XfG6w#/registration
URL:https://pcpi.ca/event/careers-in-healthcare-unlock-your-potential-zoom/
END:VEVENT
END:VCALENDAR