BEGIN:VCALENDAR
VERSION:2.0
PRODID:-//Progress Career Planning Institute (PCPI) - ECPv6.9.0//NONSGML v1.0//EN
CALSCALE:GREGORIAN
METHOD:PUBLISH
X-WR-CALNAME:Progress Career Planning Institute (PCPI)
X-ORIGINAL-URL:https://pcpi.ca
X-WR-CALDESC:Events for Progress Career Planning Institute (PCPI)
REFRESH-INTERVAL;VALUE=DURATION:PT1H
X-Robots-Tag:noindex
X-PUBLISHED-TTL:PT1H
BEGIN:VTIMEZONE
TZID:UTC
BEGIN:STANDARD
TZOFFSETFROM:+0000
TZOFFSETTO:+0000
TZNAME:UTC
DTSTART:20240101T000000
END:STANDARD
END:VTIMEZONE
BEGIN:VEVENT
DTSTART;TZID=UTC:20240627T100000
DTEND;TZID=UTC:20240627T120000
DTSTAMP:20260421T131128
CREATED:20240521T170306Z
LAST-MODIFIED:20240521T170306Z
UID:10001977-1719482400-1719489600@pcpi.ca
SUMMARY:Learn to Write a Cover Letter - In Computer Lab –
DESCRIPTION:Learn to Write a Cover Letter – In Computer Lab – \nRegister here
URL:https://pcpi.ca/event/learn-to-write-a-cover-letter-in-computer-lab-7/
END:VEVENT
BEGIN:VEVENT
DTSTART;TZID=UTC:20240628T100000
DTEND;TZID=UTC:20240628T120000
DTSTAMP:20260421T131128
CREATED:20240521T170642Z
LAST-MODIFIED:20240521T170642Z
UID:10001980-1719568800-1719576000@pcpi.ca
SUMMARY:Occupational Health & Safety & Know Your Rights in the Workplace - In Person –
DESCRIPTION:Occupational Health & Safety & Know Your Rights in the Workplace – In Person – \nRegister here
URL:https://pcpi.ca/event/occupational-health-safety-know-your-rights-in-the-workplace-in-person-12/
END:VEVENT
BEGIN:VEVENT
DTSTART;TZID=UTC:20240628T113000
DTEND;TZID=UTC:20240628T123000
DTSTAMP:20260421T131128
CREATED:20240521T170822Z
LAST-MODIFIED:20240521T170822Z
UID:10001982-1719574200-1719577800@pcpi.ca
SUMMARY:Dress for Success - On Zoom -
DESCRIPTION:Dress for Success – On Zoom – \nhttps://us02web.zoom.us/meeting/register/tZ0tcuCqrDstG9eP1FWrPqAo20nXrUPhfYpj#/registration
URL:https://pcpi.ca/event/dress-for-success-on-zoom-2/
END:VEVENT
BEGIN:VEVENT
DTSTART;TZID=UTC:20240701T083000
DTEND;TZID=UTC:20240701T163000
DTSTAMP:20260421T131128
CREATED:20240621T124605Z
LAST-MODIFIED:20240621T124709Z
UID:10001984-1719822600-1719851400@pcpi.ca
SUMMARY:CANADA DAY
DESCRIPTION:CANADA DAY – Office closed
URL:https://pcpi.ca/event/canada-day/
END:VEVENT
BEGIN:VEVENT
DTSTART;TZID=UTC:20240702T100000
DTEND;TZID=UTC:20240702T113000
DTSTAMP:20260421T131128
CREATED:20240621T125824Z
LAST-MODIFIED:20240621T125824Z
UID:10001994-1719914400-1719919800@pcpi.ca
SUMMARY:Newcomers’ Guide to Starting Small Businesses - On Zoom -
DESCRIPTION:Newcomers’ Guide to Starting Small Businesses – On Zoom – \nhttps://us02web.zoom.us/meeting/register/tZwtd-2grj4sHdKJ4mckzbD9xSiP2bOShQ_9#/registration \n 
URL:https://pcpi.ca/event/newcomers-guide-to-starting-small-businesses-on-zoom/
END:VEVENT
BEGIN:VEVENT
DTSTART;TZID=UTC:20240702T100000
DTEND;TZID=UTC:20240702T120000
DTSTAMP:20260421T131128
CREATED:20240621T125016Z
LAST-MODIFIED:20240621T125110Z
UID:10001986-1719914400-1719921600@pcpi.ca
SUMMARY:I. Create a Resume that Sells You! - In Person –
DESCRIPTION:I. Create a Resume that Sells You! – In Person – \nRegister here
URL:https://pcpi.ca/event/i-create-a-resume-that-sells-you-in-person-13/
END:VEVENT
BEGIN:VEVENT
DTSTART;TZID=UTC:20240702T133000
DTEND;TZID=UTC:20240702T153000
DTSTAMP:20260421T131128
CREATED:20240621T125428Z
LAST-MODIFIED:20240621T125446Z
UID:10001990-1719927000-1719934200@pcpi.ca
SUMMARY:II. Learn to Write a Resume - In Computer Lab –
DESCRIPTION:II. Learn to Write a Resume – In Computer Lab – \nRegister here
URL:https://pcpi.ca/event/ii-learn-to-write-a-resume-in-computer-lab-12/
END:VEVENT
BEGIN:VEVENT
DTSTART;TZID=UTC:20240703T083000
DTEND;TZID=UTC:20240703T163000
DTSTAMP:20260421T131128
CREATED:20240621T130703Z
LAST-MODIFIED:20240621T130804Z
UID:10002386-1719995400-1720024200@pcpi.ca
SUMMARY:One on One Session with a Resource & Information Specialist - To be booked by Career Coach - In Person –
DESCRIPTION:One on One Session with a Resource & Information Specialist \nTo be booked by Career Coach – In Person – \nAvailable within office hours \nRegister here
URL:https://pcpi.ca/event/one-on-one-session-with-a-resource-information-specialist-to-be-booked-by-career-coach-in-person-3/
END:VEVENT
BEGIN:VEVENT
DTSTART;TZID=UTC:20240704T100000
DTEND;TZID=UTC:20240704T110000
DTSTAMP:20260421T131128
CREATED:20240621T132147Z
LAST-MODIFIED:20240621T132147Z
UID:10002395-1720087200-1720090800@pcpi.ca
SUMMARY:Citizenship Preparation - On Zoom -
DESCRIPTION:Citizenship Preparation – On Zoom – \nhttps://us02web.zoom.us/meeting/register/tZYrcu6sqjMrG9J0djQTzrHQfedg1hnzx2GC#/registration
URL:https://pcpi.ca/event/citizenship-preparation-on-zoom-3/
END:VEVENT
BEGIN:VEVENT
DTSTART;TZID=UTC:20240704T100000
DTEND;TZID=UTC:20240704T130000
DTSTAMP:20260421T131128
CREATED:20240621T131902Z
LAST-MODIFIED:20240621T131902Z
UID:10002394-1720087200-1720098000@pcpi.ca
SUMMARY:The Employment Network with Practice - In Person –
DESCRIPTION:The Employment Network with Practice – In Person – \nRegister here
URL:https://pcpi.ca/event/the-employment-network-with-practice-in-person-13/
END:VEVENT
BEGIN:VEVENT
DTSTART;TZID=UTC:20240705T100000
DTEND;TZID=UTC:20240705T120000
DTSTAMP:20260421T131128
CREATED:20240621T132525Z
LAST-MODIFIED:20240621T132525Z
UID:10002396-1720173600-1720180800@pcpi.ca
SUMMARY:Career Cruising - In Person -
DESCRIPTION:Career Cruising – In Person – \nRegister here
URL:https://pcpi.ca/event/career-cruising-in-person-11/
END:VEVENT
BEGIN:VEVENT
DTSTART;TZID=UTC:20240708T083000
DTEND;TZID=UTC:20240708T163000
DTSTAMP:20260421T131128
CREATED:20240621T130703Z
LAST-MODIFIED:20240621T130844Z
UID:10002387-1720427400-1720456200@pcpi.ca
SUMMARY:One on One Session with a Resource & Information Specialist - To be booked by Career Coach - In Person –
DESCRIPTION:One on One Session with a Resource & Information Specialist \nTo be booked by Career Coach – In Person – \nAvailable within office hours \nRegister here
URL:https://pcpi.ca/event/one-on-one-session-with-a-resource-information-specialist-to-be-booked-by-career-coach-in-person-3-2024-07-08/
END:VEVENT
BEGIN:VEVENT
DTSTART;TZID=UTC:20240709T100000
DTEND;TZID=UTC:20240709T120000
DTSTAMP:20260421T131128
CREATED:20240621T201354Z
LAST-MODIFIED:20240621T201354Z
UID:10002397-1720519200-1720526400@pcpi.ca
SUMMARY:I. Job Interview Strategies - In Person –
DESCRIPTION:I. Job Interview Strategies – In Person – \nRegister here
URL:https://pcpi.ca/event/i-job-interview-strategies-in-person-15/
END:VEVENT
BEGIN:VEVENT
DTSTART;TZID=UTC:20240709T133000
DTEND;TZID=UTC:20240709T153000
DTSTAMP:20260421T131128
CREATED:20240621T201737Z
LAST-MODIFIED:20240621T201737Z
UID:10002399-1720531800-1720539000@pcpi.ca
SUMMARY:II. Practice Interview Questions - In Person –
DESCRIPTION:II. Practice Interview Questions – In Person – \nRegister here
URL:https://pcpi.ca/event/ii-practice-interview-questions-in-person-10/
END:VEVENT
BEGIN:VEVENT
DTSTART;TZID=UTC:20240710T083000
DTEND;TZID=UTC:20240710T163000
DTSTAMP:20260421T131128
CREATED:20240621T130703Z
LAST-MODIFIED:20240621T130905Z
UID:10002388-1720600200-1720629000@pcpi.ca
SUMMARY:One on One Session with a Resource & Information Specialist - To be booked by Career Coach - In Person –
DESCRIPTION:One on One Session with a Resource & Information Specialist \nTo be booked by Career Coach – In Person – \nAvailable within office hours \nRegister here
URL:https://pcpi.ca/event/one-on-one-session-with-a-resource-information-specialist-to-be-booked-by-career-coach-in-person-3-2024-07-10/
END:VEVENT
BEGIN:VEVENT
DTSTART;TZID=UTC:20240711T100000
DTEND;TZID=UTC:20240711T110000
DTSTAMP:20260421T131128
CREATED:20240621T202301Z
LAST-MODIFIED:20240621T202323Z
UID:10002402-1720692000-1720695600@pcpi.ca
SUMMARY:Employment Network (Newcomers)  - On Zoom -
DESCRIPTION:Employment Network (Newcomers) – On Zoom – \nhttps://us02web.zoom.us/meeting/register/tZEvfu2prDkjGtRPqICqthKDRyfNsOGPr2pv#/registration
URL:https://pcpi.ca/event/employment-network-newcomers-on-zoom/
END:VEVENT
BEGIN:VEVENT
DTSTART;TZID=UTC:20240711T100000
DTEND;TZID=UTC:20240711T120000
DTSTAMP:20260421T131128
CREATED:20240621T202048Z
LAST-MODIFIED:20240621T202048Z
UID:10002401-1720692000-1720699200@pcpi.ca
SUMMARY:Employer’s Expectations - In Person –
DESCRIPTION:Employer’s Expectations – In Person – \nRegister here
URL:https://pcpi.ca/event/employers-expectations-in-person/
END:VEVENT
BEGIN:VEVENT
DTSTART;TZID=UTC:20240712T083000
DTEND;TZID=UTC:20240712T163000
DTSTAMP:20260421T131128
CREATED:20240621T130703Z
LAST-MODIFIED:20240621T130952Z
UID:10002389-1720773000-1720801800@pcpi.ca
SUMMARY:One on One Session with a Resource & Information Specialist - To be booked by Career Coach - In Person –
DESCRIPTION:One on One Session with a Resource & Information Specialist \nTo be booked by Career Coach – In Person – \nAvailable within office hours \nRegister here
URL:https://pcpi.ca/event/one-on-one-session-with-a-resource-information-specialist-to-be-booked-by-career-coach-in-person-3-2024-07-12/
END:VEVENT
BEGIN:VEVENT
DTSTART;TZID=UTC:20240715T083000
DTEND;TZID=UTC:20240715T163000
DTSTAMP:20260421T131128
CREATED:20240621T130703Z
LAST-MODIFIED:20240621T131018Z
UID:10002390-1721032200-1721061000@pcpi.ca
SUMMARY:One on One Session with a Resource & Information Specialist - To be booked by Career Coach - In Person –
DESCRIPTION:One on One Session with a Resource & Information Specialist \nTo be booked by Career Coach – In Person – \nAvailable within office hours \nRegister here
URL:https://pcpi.ca/event/one-on-one-session-with-a-resource-information-specialist-to-be-booked-by-career-coach-in-person-3-2024-07-15/
END:VEVENT
BEGIN:VEVENT
DTSTART;TZID=UTC:20240716T100000
DTEND;TZID=UTC:20240716T120000
DTSTAMP:20260421T131128
CREATED:20240621T125016Z
LAST-MODIFIED:20240621T125127Z
UID:10001988-1721124000-1721131200@pcpi.ca
SUMMARY:I. Create a Resume that Sells You! - In Person –
DESCRIPTION:I. Create a Resume that Sells You! – In Person – \nRegister here
URL:https://pcpi.ca/event/i-create-a-resume-that-sells-you-in-person-13-2024-07-16/
END:VEVENT
BEGIN:VEVENT
DTSTART;TZID=UTC:20240716T133000
DTEND;TZID=UTC:20240716T153000
DTSTAMP:20260421T131128
CREATED:20240621T125428Z
LAST-MODIFIED:20240621T125500Z
UID:10001992-1721136600-1721143800@pcpi.ca
SUMMARY:II. Learn to Write a Resume - In Computer Lab –
DESCRIPTION:II. Learn to Write a Resume – In Computer Lab – \nRegister here
URL:https://pcpi.ca/event/ii-learn-to-write-a-resume-in-computer-lab-12-2024-07-16/
END:VEVENT
BEGIN:VEVENT
DTSTART;TZID=UTC:20240717T130000
DTEND;TZID=UTC:20240717T160000
DTSTAMP:20260421T131128
CREATED:20240624T125615Z
LAST-MODIFIED:20240624T125615Z
UID:10002403-1721221200-1721232000@pcpi.ca
SUMMARY:Sector Specific  Referral by Career Coach Only - On Zoom -
DESCRIPTION:Sector Specific Referral by Career Coach Only – On Zoom –
URL:https://pcpi.ca/event/sector-specific-referral-by-career-coach-only-on-zoom-8/
END:VEVENT
BEGIN:VEVENT
DTSTART;TZID=UTC:20240718T100000
DTEND;TZID=UTC:20240718T110000
DTSTAMP:20260421T131128
CREATED:20240624T130018Z
LAST-MODIFIED:20240624T130018Z
UID:10002405-1721296800-1721300400@pcpi.ca
SUMMARY:Interview Strategies for Newcomers  - On Zoom -
DESCRIPTION:Interview Strategies for Newcomers – On Zoom – \nhttps://us02web.zoom.us/meeting/register/tZMrdeuurDwuH9xMVF3C2x1SW15RE3VsqKiE#/registration
URL:https://pcpi.ca/event/interview-strategies-for-newcomers-on-zoom/
END:VEVENT
BEGIN:VEVENT
DTSTART;TZID=UTC:20240718T100000
DTEND;TZID=UTC:20240718T120000
DTSTAMP:20260421T131128
CREATED:20240624T125748Z
LAST-MODIFIED:20240624T125748Z
UID:10002404-1721296800-1721304000@pcpi.ca
SUMMARY:Reading between the Lines of a Job Posting - In Person –
DESCRIPTION:Reading between the Lines of a Job Posting – In Person – \nRegister here
URL:https://pcpi.ca/event/reading-between-the-lines-of-a-job-posting-in-person-9/
END:VEVENT
BEGIN:VEVENT
DTSTART;TZID=UTC:20240719T100000
DTEND;TZID=UTC:20240719T120000
DTSTAMP:20260421T131128
CREATED:20240624T130210Z
LAST-MODIFIED:20240624T130210Z
UID:10002406-1721383200-1721390400@pcpi.ca
SUMMARY:Better Jobs Ontario - In Person –
DESCRIPTION:Better Jobs Ontario – In Person – \nRegister here
URL:https://pcpi.ca/event/better-jobs-ontario-in-person-3/
END:VEVENT
BEGIN:VEVENT
DTSTART;TZID=UTC:20240719T120000
DTEND;TZID=UTC:20240719T130000
DTSTAMP:20260421T131128
CREATED:20240626T172448Z
LAST-MODIFIED:20240626T183819Z
UID:10002412-1721390400-1721394000@pcpi.ca
SUMMARY:INLAP Information Session - On Zoom -
DESCRIPTION:INLAP Information Session – On Zoom – \nhttps://us02web.zoom.us/meeting/register/tZEvceytqz4qH9JavuyeBM-3u2c-c-kjGoie#/registration
URL:https://pcpi.ca/event/inlap-information-session-on-zoom-2/
END:VEVENT
BEGIN:VEVENT
DTSTART;TZID=UTC:20240722T100000
DTEND;TZID=UTC:20240722T110000
DTSTAMP:20260421T131128
CREATED:20240624T130349Z
LAST-MODIFIED:20240624T130349Z
UID:10002407-1721642400-1721646000@pcpi.ca
SUMMARY:PCPI  Employment Ontario Information Session - In Person -
DESCRIPTION:PCPI Employment Ontario Information Session – In Person – \nRegister here
URL:https://pcpi.ca/event/pcpi-employment-ontario-information-session-in-person-16/
END:VEVENT
BEGIN:VEVENT
DTSTART;TZID=UTC:20240723T100000
DTEND;TZID=UTC:20240723T120000
DTSTAMP:20260421T131128
CREATED:20240621T201354Z
LAST-MODIFIED:20240621T201415Z
UID:10002398-1721728800-1721736000@pcpi.ca
SUMMARY:I. Job Interview Strategies - In Person –
DESCRIPTION:I. Job Interview Strategies – In Person – \nRegister here
URL:https://pcpi.ca/event/i-job-interview-strategies-in-person-15-2024-07-23/
END:VEVENT
BEGIN:VEVENT
DTSTART;TZID=UTC:20240723T133000
DTEND;TZID=UTC:20240723T153000
DTSTAMP:20260421T131128
CREATED:20240621T201737Z
LAST-MODIFIED:20240621T201754Z
UID:10002400-1721741400-1721748600@pcpi.ca
SUMMARY:II. Practice Interview Questions - In Person –
DESCRIPTION:II. Practice Interview Questions – In Person – \nRegister here
URL:https://pcpi.ca/event/ii-practice-interview-questions-in-person-10-2024-07-23/
END:VEVENT
BEGIN:VEVENT
DTSTART;TZID=UTC:20240724T083000
DTEND;TZID=UTC:20240724T163000
DTSTAMP:20260421T131128
CREATED:20240621T130703Z
LAST-MODIFIED:20240621T131014Z
UID:10002391-1721809800-1721838600@pcpi.ca
SUMMARY:One on One Session with a Resource & Information Specialist - To be booked by Career Coach - In Person –
DESCRIPTION:One on One Session with a Resource & Information Specialist \nTo be booked by Career Coach – In Person – \nAvailable within office hours \nRegister here
URL:https://pcpi.ca/event/one-on-one-session-with-a-resource-information-specialist-to-be-booked-by-career-coach-in-person-3-2024-07-24/
END:VEVENT
END:VCALENDAR