BEGIN:VCALENDAR
VERSION:2.0
PRODID:-//Progress Career Planning Institute (PCPI) - ECPv6.9.0//NONSGML v1.0//EN
CALSCALE:GREGORIAN
METHOD:PUBLISH
X-WR-CALNAME:Progress Career Planning Institute (PCPI)
X-ORIGINAL-URL:https://pcpi.ca
X-WR-CALDESC:Events for Progress Career Planning Institute (PCPI)
REFRESH-INTERVAL;VALUE=DURATION:PT1H
X-Robots-Tag:noindex
X-PUBLISHED-TTL:PT1H
BEGIN:VTIMEZONE
TZID:UTC
BEGIN:STANDARD
TZOFFSETFROM:+0000
TZOFFSETTO:+0000
TZNAME:UTC
DTSTART:20240101T000000
END:STANDARD
END:VTIMEZONE
BEGIN:VEVENT
DTSTART;TZID=UTC:20240411T100000
DTEND;TZID=UTC:20240411T120000
DTSTAMP:20260420T180033
CREATED:20240321T155812Z
LAST-MODIFIED:20240321T155917Z
UID:10002328-1712829600-1712836800@pcpi.ca
SUMMARY:Learn to Write a Cover Letter - In Computer Lab
DESCRIPTION:Learn to Write a Cover Letter – In Computer Lab \nRegister here
URL:https://pcpi.ca/event/learn-to-write-a-cover-letter-in-computer-lab-5/
END:VEVENT
BEGIN:VEVENT
DTSTART;TZID=UTC:20240412T100000
DTEND;TZID=UTC:20240412T120000
DTSTAMP:20260420T180033
CREATED:20240322T125033Z
LAST-MODIFIED:20240322T125033Z
UID:10002331-1712916000-1712923200@pcpi.ca
SUMMARY:Career Cruising - In Person -
DESCRIPTION:Career Cruising – In Person – \nRegister here
URL:https://pcpi.ca/event/career-cruising-in-person-8/
END:VEVENT
BEGIN:VEVENT
DTSTART;TZID=UTC:20240415T080000
DTEND;TZID=UTC:20240415T170000
DTSTAMP:20260420T180033
CREATED:20240321T143354Z
LAST-MODIFIED:20240402T155445Z
UID:10002321-1713168000-1713200400@pcpi.ca
SUMMARY:One on One Session with a Resource & Information Specialist To be booked by Career Coach Available within office hours - In Person -
DESCRIPTION:One on One Session with a Resource & Information Specialist To be booked by Career Coach Available within office hours – In Person –
URL:https://pcpi.ca/event/one-on-one-session-with-a-resource-information-specialist-to-be-booked-by-career-coach-available-within-office-hours-in-person-4-2024-04-15/
END:VEVENT
BEGIN:VEVENT
DTSTART;TZID=UTC:20240416T100000
DTEND;TZID=UTC:20240416T120000
DTSTAMP:20260420T180033
CREATED:20240320T125757Z
LAST-MODIFIED:20240320T125832Z
UID:10001910-1713261600-1713268800@pcpi.ca
SUMMARY:I. Job Interview Strategies - In Person –
DESCRIPTION:I. Job Interview Strategies – In Person – \nRegister here
URL:https://pcpi.ca/event/i-job-interview-strategies-in-person-12-2024-04-16/
END:VEVENT
BEGIN:VEVENT
DTSTART;TZID=UTC:20240416T130000
DTEND;TZID=UTC:20240416T140000
DTSTAMP:20260420T180033
CREATED:20240320T130155Z
LAST-MODIFIED:20240320T131119Z
UID:10001916-1713272400-1713276000@pcpi.ca
SUMMARY:II. Practice Interview Questions
DESCRIPTION:II. Practice Interview Questions \nRegister here
URL:https://pcpi.ca/event/ii-practice-interview-questions-2024-04-16/
END:VEVENT
BEGIN:VEVENT
DTSTART;TZID=UTC:20240417T100000
DTEND;TZID=UTC:20240417T110000
DTSTAMP:20260420T180033
CREATED:20240320T131402Z
LAST-MODIFIED:20240320T131437Z
UID:10002316-1713348000-1713351600@pcpi.ca
SUMMARY:PCPI Employment Ontario Information Session - In Person –
DESCRIPTION:PCPI Employment Ontario Information Session – In Person – \nRegister here
URL:https://pcpi.ca/event/pcpi-employment-ontario-information-session-in-person-13-2024-04-17/
END:VEVENT
BEGIN:VEVENT
DTSTART;TZID=UTC:20240418T100000
DTEND;TZID=UTC:20240418T110000
DTSTAMP:20260420T180033
CREATED:20240322T125635Z
LAST-MODIFIED:20240322T125635Z
UID:10002333-1713434400-1713438000@pcpi.ca
SUMMARY:FINANCIAL PLANNING FOR MENTAL HEALTH - On ZOOM -
DESCRIPTION:FINANCIAL PLANNING FOR MENTAL HEALTH – On ZOOM – \nhttps://us02web.zoom.us/meeting/register/tZYscO6qrDIvGtIdxTP7MDwnvu80yD9Tk-b8#/registration
URL:https://pcpi.ca/event/financial-planning-for-mental-health-on-zoom/
END:VEVENT
BEGIN:VEVENT
DTSTART;TZID=UTC:20240418T100000
DTEND;TZID=UTC:20240418T120000
DTSTAMP:20260420T180033
CREATED:20240322T125434Z
LAST-MODIFIED:20240322T125502Z
UID:10002332-1713434400-1713441600@pcpi.ca
SUMMARY:Reading between the Lines of a Job Posting - In Person
DESCRIPTION:Reading between the Lines of a Job Posting – In Person \nRegister here \n 
URL:https://pcpi.ca/event/reading-between-the-lines-of-a-job-posting-in-person-6/
END:VEVENT
BEGIN:VEVENT
DTSTART;TZID=UTC:20240418T130000
DTEND;TZID=UTC:20240418T140000
DTSTAMP:20260420T180033
CREATED:20240412T134514Z
LAST-MODIFIED:20240412T134514Z
UID:10001937-1713445200-1713448800@pcpi.ca
SUMMARY:INLAP Information Session – On ZOOM –
DESCRIPTION:INLAP Information Session – On ZOOM – \nRegister: https://us02web.zoom.us/meeting/register/tZ0of-isrjIuH91LxoIpVxbX_kFThlDu55As \n 
URL:https://pcpi.ca/event/inlap-information-session-on-zoom/
END:VEVENT
BEGIN:VEVENT
DTSTART;TZID=UTC:20240419T100000
DTEND;TZID=UTC:20240419T120000
DTSTAMP:20260420T180033
CREATED:20240322T125754Z
LAST-MODIFIED:20240322T125754Z
UID:10002334-1713520800-1713528000@pcpi.ca
SUMMARY:Labour Market Trends - In Person –
DESCRIPTION:Labour Market Trends – In Person – \nRegister here
URL:https://pcpi.ca/event/labour-market-trends-in-person-7/
END:VEVENT
BEGIN:VEVENT
DTSTART;TZID=UTC:20240422T080000
DTEND;TZID=UTC:20240422T170000
DTSTAMP:20260420T180033
CREATED:20240321T143354Z
LAST-MODIFIED:20240402T173559Z
UID:10002322-1713772800-1713805200@pcpi.ca
SUMMARY:One on One Session with a Resource & Information Specialist To be booked by Career Coach Available within office hours - In Person -
DESCRIPTION:One on One Session with a Resource & Information Specialist To be booked by Career Coach Available within office hours – In Person –
URL:https://pcpi.ca/event/one-on-one-session-with-a-resource-information-specialist-to-be-booked-by-career-coach-available-within-office-hours-in-person-4-2024-04-22/
END:VEVENT
BEGIN:VEVENT
DTSTART;TZID=UTC:20240422T100000
DTEND;TZID=UTC:20240422T110000
DTSTAMP:20260420T180033
CREATED:20240326T144855Z
LAST-MODIFIED:20240326T144855Z
UID:10002335-1713780000-1713783600@pcpi.ca
SUMMARY:UNDERSTANDING CANADIAN EDUCATION - On ZOOM -
DESCRIPTION:UNDERSTANDING CANADIAN EDUCATION – On ZOOM – \nhttps://us02web.zoom.us/meeting/register/tZcpd-iurDMpHdIwIDV13TejrakE6JNpoyR2#/registration \n 
URL:https://pcpi.ca/event/understanding-canadian-education-on-zoom/
END:VEVENT
BEGIN:VEVENT
DTSTART;TZID=UTC:20240423T100000
DTEND;TZID=UTC:20240423T113000
DTSTAMP:20260420T180033
CREATED:20240326T145128Z
LAST-MODIFIED:20240326T145128Z
UID:10001926-1713866400-1713871800@pcpi.ca
SUMMARY:HOUSING INFOMRATION FOR NEWCOMERS - On ZOOM -
DESCRIPTION:HOUSING INFOMRATION FOR NEWCOMERS – On ZOOM – \nhttps://us02web.zoom.us/meeting/register/tZItd-ihqDgtG929IsxIlseAAh97Pw913bNo#/registration \n 
URL:https://pcpi.ca/event/housing-infomration-for-newcomers-on-zoom/
END:VEVENT
BEGIN:VEVENT
DTSTART;TZID=UTC:20240423T100000
DTEND;TZID=UTC:20240423T120000
DTSTAMP:20260420T180033
CREATED:20240321T154718Z
LAST-MODIFIED:20240321T154822Z
UID:10002324-1713866400-1713873600@pcpi.ca
SUMMARY:I. Create a Resume that Sells You! - In Person
DESCRIPTION:I. Create a Resume that Sells You! – In Person \nRegister here
URL:https://pcpi.ca/event/i-create-a-resume-that-sells-you-in-person-10-2024-04-23/
END:VEVENT
BEGIN:VEVENT
DTSTART;TZID=UTC:20240423T130000
DTEND;TZID=UTC:20240423T150000
DTSTAMP:20260420T180033
CREATED:20240321T155136Z
LAST-MODIFIED:20240321T155225Z
UID:10002326-1713877200-1713884400@pcpi.ca
SUMMARY:II. Learn to Write a Resume - In Computer Lab
DESCRIPTION:II. Learn to Write a Resume – In Computer Lab \nRegister here
URL:https://pcpi.ca/event/ii-learn-to-write-a-resume-in-computer-lab-9-2024-04-23/
END:VEVENT
BEGIN:VEVENT
DTSTART;TZID=UTC:20240424T100000
DTEND;TZID=UTC:20240424T113000
DTSTAMP:20260420T180033
CREATED:20240326T145452Z
LAST-MODIFIED:20240326T145452Z
UID:10001930-1713952800-1713958200@pcpi.ca
SUMMARY:IMMIGRATION APPLICATION For Refugees Families - On ZOOM -
DESCRIPTION:IMMIGRATION APPLICATION For Refugees Families – On ZOOM – \nhttps://us02web.zoom.us/meeting/register/tZMrdumuqTIoG9VnXOOrzYmmQfdlQ8BfCb6M#/registration
URL:https://pcpi.ca/event/immigration-application-for-refugees-families-on-zoom/
END:VEVENT
BEGIN:VEVENT
DTSTART;TZID=UTC:20240424T130000
DTEND;TZID=UTC:20240424T160000
DTSTAMP:20260420T180033
CREATED:20240326T145228Z
LAST-MODIFIED:20240326T145228Z
UID:10001928-1713963600-1713974400@pcpi.ca
SUMMARY:Sector Specific - Referral by Career Coach Only
DESCRIPTION:Sector Specific – Referral by Career Coach Only
URL:https://pcpi.ca/event/sector-specific-referral-by-career-coach-only-10/
END:VEVENT
BEGIN:VEVENT
DTSTART;TZID=UTC:20240425T100000
DTEND;TZID=UTC:20240425T120000
DTSTAMP:20260420T180033
CREATED:20240321T155812Z
LAST-MODIFIED:20240321T155850Z
UID:10002329-1714039200-1714046400@pcpi.ca
SUMMARY:Learn to Write a Cover Letter - In Computer Lab
DESCRIPTION:Learn to Write a Cover Letter – In Computer Lab \nRegister here
URL:https://pcpi.ca/event/learn-to-write-a-cover-letter-in-computer-lab-5-2024-04-25/
END:VEVENT
BEGIN:VEVENT
DTSTART;TZID=UTC:20240426T100000
DTEND;TZID=UTC:20240426T120000
DTSTAMP:20260420T180033
CREATED:20240326T145812Z
LAST-MODIFIED:20240326T145812Z
UID:10001932-1714125600-1714132800@pcpi.ca
SUMMARY:Occupational Health & Safety & Know Your Rights In the Workplace - In Person -
DESCRIPTION:Occupational Health & Safety & Know Your Rights In the Workplace – In Person – \nRegister here
URL:https://pcpi.ca/event/occupational-health-safety-know-your-rights-in-the-workplace-in-person-10/
END:VEVENT
BEGIN:VEVENT
DTSTART;TZID=UTC:20240429T100000
DTEND;TZID=UTC:20240429T110000
DTSTAMP:20260420T180033
CREATED:20240320T131402Z
LAST-MODIFIED:20240320T131756Z
UID:10002317-1714384800-1714388400@pcpi.ca
SUMMARY:PCPI Employment Ontario Information Session - In Person –
DESCRIPTION:PCPI Employment Ontario Information Session – In Person – \nRegister here
URL:https://pcpi.ca/event/pcpi-employment-ontario-information-session-in-person-13-2024-04-29/
END:VEVENT
BEGIN:VEVENT
DTSTART;TZID=UTC:20240430T100000
DTEND;TZID=UTC:20240430T110000
DTSTAMP:20260420T180033
CREATED:20240326T145935Z
LAST-MODIFIED:20240326T145935Z
UID:10001934-1714471200-1714474800@pcpi.ca
SUMMARY:SCAM PREVENTION - On ZOOM -
DESCRIPTION:SCAM PREVENTION – On ZOOM – \nhttps://us02web.zoom.us/meeting/register/tZIpcuChrT4rE9L0vKONCBH6GRzIOnlpbbuj#/registration
URL:https://pcpi.ca/event/scam-prevention-on-zoom-3/
END:VEVENT
BEGIN:VEVENT
DTSTART;TZID=UTC:20240430T100000
DTEND;TZID=UTC:20240430T120000
DTSTAMP:20260420T180033
CREATED:20240320T125757Z
LAST-MODIFIED:20240320T125846Z
UID:10001912-1714471200-1714478400@pcpi.ca
SUMMARY:I. Job Interview Strategies - In Person –
DESCRIPTION:I. Job Interview Strategies – In Person – \nRegister here
URL:https://pcpi.ca/event/i-job-interview-strategies-in-person-12-2024-04-30/
END:VEVENT
BEGIN:VEVENT
DTSTART;TZID=UTC:20240430T130000
DTEND;TZID=UTC:20240430T140000
DTSTAMP:20260420T180033
CREATED:20240320T130155Z
LAST-MODIFIED:20240320T131048Z
UID:10002314-1714482000-1714485600@pcpi.ca
SUMMARY:II. Practice Interview Questions
DESCRIPTION:II. Practice Interview Questions \nRegister here
URL:https://pcpi.ca/event/ii-practice-interview-questions-2024-04-30/
END:VEVENT
BEGIN:VEVENT
DTSTART;TZID=UTC:20240501T090000
DTEND;TZID=UTC:20240501T160000
DTSTAMP:20260420T180033
CREATED:20240423T135622Z
LAST-MODIFIED:20240423T135705Z
UID:10001939-1714554000-1714579200@pcpi.ca
SUMMARY:One on One Session with a Resource & Information Specialist - To be booked by Career Coach Available within office hours - In Person -
DESCRIPTION:One on One Session with a Resource & Information Specialist – To be booked by Career Coach Available within office hours – In Person – \nRegister here
URL:https://pcpi.ca/event/one-on-one-session-with-a-resource-information-specialist-to-be-booked-by-career-coach-available-within-office-hours-in-person-5/
END:VEVENT
BEGIN:VEVENT
DTSTART;TZID=UTC:20240502T100000
DTEND;TZID=UTC:20240502T130000
DTSTAMP:20260420T180033
CREATED:20240423T140233Z
LAST-MODIFIED:20240423T140325Z
UID:10002337-1714644000-1714654800@pcpi.ca
SUMMARY:The Employment Network with Practice - In Person –
DESCRIPTION:The Employment Network with Practice – In Person – \nRegister here
URL:https://pcpi.ca/event/the-employment-network-with-practice-in-person-11/
END:VEVENT
BEGIN:VEVENT
DTSTART;TZID=UTC:20240503T100000
DTEND;TZID=UTC:20240503T120000
DTSTAMP:20260420T180033
CREATED:20240423T140716Z
LAST-MODIFIED:20240423T141115Z
UID:10002338-1714730400-1714737600@pcpi.ca
SUMMARY:Better Jobs Ontario - In Person –
DESCRIPTION:Better Jobs Ontario – In Person – \nRegister here
URL:https://pcpi.ca/event/better-jobs-ontario-in-person/
END:VEVENT
BEGIN:VEVENT
DTSTART;TZID=UTC:20240506T090000
DTEND;TZID=UTC:20240506T160000
DTSTAMP:20260420T180033
CREATED:20240423T135622Z
LAST-MODIFIED:20240423T135726Z
UID:10001941-1714986000-1715011200@pcpi.ca
SUMMARY:One on One Session with a Resource & Information Specialist - To be booked by Career Coach Available within office hours - In Person -
DESCRIPTION:One on One Session with a Resource & Information Specialist – To be booked by Career Coach Available within office hours – In Person – \nRegister here
URL:https://pcpi.ca/event/one-on-one-session-with-a-resource-information-specialist-to-be-booked-by-career-coach-available-within-office-hours-in-person-5-2024-05-06/
END:VEVENT
BEGIN:VEVENT
DTSTART;TZID=UTC:20240507T093000
DTEND;TZID=UTC:20240507T143000
DTSTAMP:20260420T180033
CREATED:20240423T142413Z
LAST-MODIFIED:20240423T142453Z
UID:10002344-1715074200-1715092200@pcpi.ca
SUMMARY:Digital Skills for the Workplace - WOMEN/2SLGBTQ+ ONLY - In Person -
DESCRIPTION:Digital Skills for the Workplace – WOMEN/2SLGBTQ+ ONLY – In Person – \nRegister here
URL:https://pcpi.ca/event/digital-skills-for-the-workplace-women-2slgbtq-only-in-person/
END:VEVENT
BEGIN:VEVENT
DTSTART;TZID=UTC:20240507T100000
DTEND;TZID=UTC:20240507T120000
DTSTAMP:20260420T180033
CREATED:20240423T141556Z
LAST-MODIFIED:20240423T141630Z
UID:10002340-1715076000-1715083200@pcpi.ca
SUMMARY:I. Create a Resume that Sells You! - In Person -
DESCRIPTION:I. Create a Resume that Sells You! – In Person – \nRegister here
URL:https://pcpi.ca/event/i-create-a-resume-that-sells-you-in-person-11/
END:VEVENT
BEGIN:VEVENT
DTSTART;TZID=UTC:20240507T130000
DTEND;TZID=UTC:20240507T150000
DTSTAMP:20260420T180033
CREATED:20240423T142050Z
LAST-MODIFIED:20240423T142126Z
UID:10002342-1715086800-1715094000@pcpi.ca
SUMMARY:II. Learn to Write a Resume - In Computer Lab -
DESCRIPTION:II. Learn to Write a Resume – In Computer Lab – \nRegister here
URL:https://pcpi.ca/event/ii-learn-to-write-a-resume-in-computer-lab-10/
END:VEVENT
END:VCALENDAR