BEGIN:VCALENDAR
VERSION:2.0
PRODID:-//Progress Career Planning Institute (PCPI) - ECPv6.9.0//NONSGML v1.0//EN
CALSCALE:GREGORIAN
METHOD:PUBLISH
X-ORIGINAL-URL:https://pcpi.ca
X-WR-CALDESC:Events for Progress Career Planning Institute (PCPI)
REFRESH-INTERVAL;VALUE=DURATION:PT1H
X-Robots-Tag:noindex
X-PUBLISHED-TTL:PT1H
BEGIN:VTIMEZONE
TZID:UTC
BEGIN:STANDARD
TZOFFSETFROM:+0000
TZOFFSETTO:+0000
TZNAME:UTC
DTSTART:20240101T000000
END:STANDARD
END:VTIMEZONE
BEGIN:VEVENT
DTSTART;TZID=UTC:20240222T100000
DTEND;TZID=UTC:20240222T120000
DTSTAMP:20260420T111818
CREATED:20240130T171813Z
LAST-MODIFIED:20240130T171813Z
UID:10001893-1708596000-1708603200@pcpi.ca
SUMMARY:Labour Market Trends - In Person –
DESCRIPTION:Labour Market Trends – In Person – \nRegister here
URL:https://pcpi.ca/event/labour-market-trends-in-person-5/
END:VEVENT
BEGIN:VEVENT
DTSTART;TZID=UTC:20240223T100000
DTEND;TZID=UTC:20240223T120000
DTSTAMP:20260420T111818
CREATED:20240130T172042Z
LAST-MODIFIED:20240130T172042Z
UID:10002285-1708682400-1708689600@pcpi.ca
SUMMARY:Occupational Health & Safety & Know Your Rights In the Workplace - In Person -
DESCRIPTION:Occupational Health & Safety & Know Your Rights In the Workplace – In Person – \nRegister here
URL:https://pcpi.ca/event/occupational-health-safety-know-your-rights-in-the-workplace-in-person-8/
END:VEVENT
BEGIN:VEVENT
DTSTART;TZID=UTC:20240226T100000
DTEND;TZID=UTC:20240226T110000
DTSTAMP:20260420T111818
CREATED:20240126T135629Z
LAST-MODIFIED:20240126T135652Z
UID:10002281-1708941600-1708945200@pcpi.ca
SUMMARY:PCPI Employment Ontario Information Session - In Person-
DESCRIPTION:PCPI Employment Ontario Information Session – In Person- \nRegister here
URL:https://pcpi.ca/event/pcpi-employment-ontario-information-session-in-person-11-2024-02-26/
END:VEVENT
BEGIN:VEVENT
DTSTART;TZID=UTC:20240227T100000
DTEND;TZID=UTC:20240227T120000
DTSTAMP:20260420T111818
CREATED:20240126T140234Z
LAST-MODIFIED:20240126T140321Z
UID:10001875-1709028000-1709035200@pcpi.ca
SUMMARY:I. Create a Resume that Sells You! - In Person -
DESCRIPTION:I. Create a Resume that Sells You! – In Person – \nRegister here
URL:https://pcpi.ca/event/i-create-a-resume-that-sells-you-in-person-8-2024-02-27/
END:VEVENT
BEGIN:VEVENT
DTSTART;TZID=UTC:20240227T130000
DTEND;TZID=UTC:20240227T150000
DTSTAMP:20260420T111818
CREATED:20240126T140724Z
LAST-MODIFIED:20240126T140741Z
UID:10001879-1709038800-1709046000@pcpi.ca
SUMMARY:II. Learn to Write a Resume In Computer Lab
DESCRIPTION:II. Learn to Write a Resume In Computer Lab \nRegister here
URL:https://pcpi.ca/event/ii-learn-to-write-a-resume-in-computer-lab-7-2024-02-27/
END:VEVENT
BEGIN:VEVENT
DTSTART;TZID=UTC:20240228T110000
DTEND;TZID=UTC:20240228T123000
DTSTAMP:20260420T111818
CREATED:20240130T172213Z
LAST-MODIFIED:20240130T172213Z
UID:10002286-1709118000-1709123400@pcpi.ca
SUMMARY:THE WORLD OF IT INFO SESSION – On ZOOM-
DESCRIPTION:THE WORLD OF IT INFO SESSION – On ZOOM- \nhttps://forms.office.com/pages/responsepage.aspx?id=IxeCBG1qR0Wjqalvfsm2Oxj97rtupLpEjiJQ9ZZFAT1UNklSOEg3WDVZU0lST0lTVVBSR1owOENDOS4u
URL:https://pcpi.ca/event/the-world-of-it-info-session-on-zoom/
END:VEVENT
BEGIN:VEVENT
DTSTART;TZID=UTC:20240229T100000
DTEND;TZID=UTC:20240229T110000
DTSTAMP:20260420T111818
CREATED:20240130T172352Z
LAST-MODIFIED:20240130T172352Z
UID:10002287-1709200800-1709204400@pcpi.ca
SUMMARY:CITIZENSHIP PREPARTATION – On ZOOM-
DESCRIPTION:CITIZENSHIP PREPARTATION – On ZOOM- \nhttps://us02web.zoom.us/meeting/register/tZAude6rrT0sEtzGYaJf71HRadv6I-YlGstk#/registration
URL:https://pcpi.ca/event/citizenship-prepartation-on-zoom/
END:VEVENT
BEGIN:VEVENT
DTSTART;TZID=UTC:20240301T100000
DTEND;TZID=UTC:20240301T130000
DTSTAMP:20260420T111818
CREATED:20240222T141333Z
LAST-MODIFIED:20240222T141333Z
UID:10002289-1709287200-1709298000@pcpi.ca
SUMMARY:The Employment Network with Practice – In Person –
DESCRIPTION:The Employment Network with Practice – In Person – \nRegister here
URL:https://pcpi.ca/event/the-employment-network-with-practice-in-person-9/
END:VEVENT
BEGIN:VEVENT
DTSTART;TZID=UTC:20240304T100000
DTEND;TZID=UTC:20240304T113000
DTSTAMP:20260420T111818
CREATED:20240222T141526Z
LAST-MODIFIED:20240222T141526Z
UID:10002290-1709546400-1709551800@pcpi.ca
SUMMARY:Landlord\, Tenant & Housing Information for Newcomers - On ZOOM -
DESCRIPTION:Landlord\, Tenant & Housing Information for Newcomers – On ZOOM – \nhttps://us02web.zoom.us/meeting/register/tZAvcO2hqjIjHdQD2zTlJDYoJFY6xW6HnH7i#/registration
URL:https://pcpi.ca/event/landlord-tenant-housing-information-for-newcomers-on-zoom/
END:VEVENT
BEGIN:VEVENT
DTSTART;TZID=UTC:20240305T100000
DTEND;TZID=UTC:20240305T120000
DTSTAMP:20260420T111818
CREATED:20240222T141738Z
LAST-MODIFIED:20240222T141831Z
UID:10002291-1709632800-1709640000@pcpi.ca
SUMMARY:I. Job Interview Strategies - In Person –
DESCRIPTION:I. Job Interview Strategies – In Person – \nRegister here
URL:https://pcpi.ca/event/i-job-interview-strategies-in-person-11/
END:VEVENT
BEGIN:VEVENT
DTSTART;TZID=UTC:20240305T130000
DTEND;TZID=UTC:20240305T150000
DTSTAMP:20260420T111818
CREATED:20240222T142122Z
LAST-MODIFIED:20240222T142205Z
UID:10002292-1709643600-1709650800@pcpi.ca
SUMMARY:II. Practice Interview Questions - In Person –
DESCRIPTION:II. Practice Interview Questions – In Person – \nRegister here
URL:https://pcpi.ca/event/ii-practice-interview-questions-in-person-8/
END:VEVENT
BEGIN:VEVENT
DTSTART;TZID=UTC:20240306T110000
DTEND;TZID=UTC:20240306T120000
DTSTAMP:20260420T111818
CREATED:20240222T142459Z
LAST-MODIFIED:20240222T142459Z
UID:10002295-1709722800-1709726400@pcpi.ca
SUMMARY:GUEST SPEAKER Find your way back to Professional Engineering - In Person -
DESCRIPTION:GUEST SPEAKER Find your way back to Professional Engineering – In Person – \nRegister here
URL:https://pcpi.ca/event/guest-speaker-find-your-way-back-to-professional-engineering-in-person-2/
END:VEVENT
BEGIN:VEVENT
DTSTART;TZID=UTC:20240307T100000
DTEND;TZID=UTC:20240307T110000
DTSTAMP:20260420T111818
CREATED:20240222T142957Z
LAST-MODIFIED:20240222T142957Z
UID:10002297-1709805600-1709809200@pcpi.ca
SUMMARY:OSAP Information - On ZOOM -
DESCRIPTION:OSAP Information – On ZOOM – \nhttps://us02web.zoom.us/meeting/register/tZUrc-CsrTwsE91PC7-D-s1DMYDAwiomV-Qh#/registration
URL:https://pcpi.ca/event/osap-information-on-zoom/
END:VEVENT
BEGIN:VEVENT
DTSTART;TZID=UTC:20240307T100000
DTEND;TZID=UTC:20240307T120000
DTSTAMP:20260420T111818
CREATED:20240222T142821Z
LAST-MODIFIED:20240222T142821Z
UID:10002296-1709805600-1709812800@pcpi.ca
SUMMARY:Employer Expectations - In Person -
DESCRIPTION:Employer Expectations – In Person – \nRegister here
URL:https://pcpi.ca/event/employer-expectations-in-person-8/
END:VEVENT
BEGIN:VEVENT
DTSTART;TZID=UTC:20240308T100000
DTEND;TZID=UTC:20240308T110000
DTSTAMP:20260420T111818
CREATED:20240222T143233Z
LAST-MODIFIED:20240222T143233Z
UID:10002299-1709892000-1709895600@pcpi.ca
SUMMARY:Citizenship Preparation - On ZOOM -
DESCRIPTION:Citizenship Preparation – On ZOOM – \nhttps://us02web.zoom.us/meeting/register/tZUtf-Crpj8jHtIQcaYDCyPyCKJLYZCyenpe#/registration
URL:https://pcpi.ca/event/citizenship-preparation-on-zoom-2/
END:VEVENT
BEGIN:VEVENT
DTSTART;TZID=UTC:20240308T100000
DTEND;TZID=UTC:20240308T120000
DTSTAMP:20260420T111818
CREATED:20240222T143132Z
LAST-MODIFIED:20240222T143132Z
UID:10002298-1709892000-1709899200@pcpi.ca
SUMMARY:Career Cruising - In Person -
DESCRIPTION:Career Cruising – In Person – \nhttps://forms.office.com/pages/responsepage.aspx?id=IxeCBG1qR0Wjqalvfsm2Oxj97rtupLpEjiJQ9ZZFAT1UN1dFQjBINlBRQ1VOMENCWFVTNFY4VDNGTS4u
URL:https://pcpi.ca/event/career-cruising-in-person-7/
END:VEVENT
BEGIN:VEVENT
DTSTART;TZID=UTC:20240311T090000
DTEND;TZID=UTC:20240311T160000
DTSTAMP:20260420T111818
CREATED:20240226T141731Z
LAST-MODIFIED:20240226T141805Z
UID:10002300-1710147600-1710172800@pcpi.ca
SUMMARY:One on One Session with a Resource & Information Specialist To be booked by Career Coach Available within office hours - In Person –
DESCRIPTION:One on One Session with a Resource & Information Specialist To be booked by Career Coach Available within office hours – In Person – \nRegister here
URL:https://pcpi.ca/event/one-on-one-session-with-a-resource-information-specialist-to-be-booked-by-career-coach-available-within-office-hours-in-person-3/
END:VEVENT
BEGIN:VEVENT
DTSTART;TZID=UTC:20240312T100000
DTEND;TZID=UTC:20240312T120000
DTSTAMP:20260420T111818
CREATED:20240226T142001Z
LAST-MODIFIED:20240226T142337Z
UID:10002302-1710237600-1710244800@pcpi.ca
SUMMARY:I. Create a Resume that Sells You! - In Person -
DESCRIPTION:I. Create a Resume that Sells You! – In Person – \nRegister here
URL:https://pcpi.ca/event/i-create-a-resume-that-sells-you-in-person-9/
END:VEVENT
BEGIN:VEVENT
DTSTART;TZID=UTC:20240312T130000
DTEND;TZID=UTC:20240312T150000
DTSTAMP:20260420T111818
CREATED:20240226T142632Z
LAST-MODIFIED:20240226T142708Z
UID:10002304-1710248400-1710255600@pcpi.ca
SUMMARY:II. Learn to Write a Resume - In Computer Lab -
DESCRIPTION:II. Learn to Write a Resume – In Computer Lab – \nRegister here
URL:https://pcpi.ca/event/ii-learn-to-write-a-resume-in-computer-lab-8/
END:VEVENT
BEGIN:VEVENT
DTSTART;TZID=UTC:20240313T130000
DTEND;TZID=UTC:20240313T160000
DTSTAMP:20260420T111818
CREATED:20240226T142802Z
LAST-MODIFIED:20240226T142802Z
UID:10002306-1710334800-1710345600@pcpi.ca
SUMMARY:Sector Specific Referral by Career Coach Only
DESCRIPTION:Sector Specific Referral by Career Coach Only
URL:https://pcpi.ca/event/sector-specific-referral-by-career-coach-only-9/
END:VEVENT
BEGIN:VEVENT
DTSTART;TZID=UTC:20240314T100000
DTEND;TZID=UTC:20240314T110000
DTSTAMP:20260420T111818
CREATED:20240226T143210Z
LAST-MODIFIED:20240226T143210Z
UID:10002308-1710410400-1710414000@pcpi.ca
SUMMARY:Scam Smart Info Session - On ZOOM -
DESCRIPTION:Scam Smart Info Session – On ZOOM – \nhttps://us02web.zoom.us/meeting/register/tZUkfuirrz0sHdBwAxhJnCpnIYBRsUMnCxh2#/registration \n 
URL:https://pcpi.ca/event/scam-smart-info-session-on-zoom/
END:VEVENT
BEGIN:VEVENT
DTSTART;TZID=UTC:20240314T100000
DTEND;TZID=UTC:20240314T120000
DTSTAMP:20260420T111818
CREATED:20240226T143027Z
LAST-MODIFIED:20240226T143027Z
UID:10002307-1710410400-1710417600@pcpi.ca
SUMMARY:Reading between the Lines of a Job Posting - In Person -
DESCRIPTION:Reading between the Lines of a Job Posting – In Person – \nRegister here
URL:https://pcpi.ca/event/reading-between-the-lines-of-a-job-posting-in-person-5/
END:VEVENT
BEGIN:VEVENT
DTSTART;TZID=UTC:20240315T130000
DTEND;TZID=UTC:20240315T150000
DTSTAMP:20260420T111818
CREATED:20240226T143354Z
LAST-MODIFIED:20240226T143354Z
UID:10002309-1710507600-1710514800@pcpi.ca
SUMMARY:Learn to Write a Cover Letter - In Computer Lab -
DESCRIPTION:Learn to Write a Cover Letter – In Computer Lab – \nRegister here
URL:https://pcpi.ca/event/learn-to-write-a-cover-letter-in-computer-lab-4/
END:VEVENT
BEGIN:VEVENT
DTSTART;TZID=UTC:20240318T100000
DTEND;TZID=UTC:20240318T110000
DTSTAMP:20260420T111818
CREATED:20240226T160845Z
LAST-MODIFIED:20240226T160929Z
UID:10002310-1710756000-1710759600@pcpi.ca
SUMMARY:PCPI Employment Ontario Information Session - In Person -
DESCRIPTION:PCPI Employment Ontario Information Session – In Person – \nRegister here
URL:https://pcpi.ca/event/pcpi-employment-ontario-information-session-in-person-12/
END:VEVENT
BEGIN:VEVENT
DTSTART;TZID=UTC:20240319T100000
DTEND;TZID=UTC:20240319T113000
DTSTAMP:20260420T111818
CREATED:20240226T161114Z
LAST-MODIFIED:20240226T161114Z
UID:10002312-1710842400-1710847800@pcpi.ca
SUMMARY:Canada Taxation/ Residency Status for Income Tax - On ZOOM -
DESCRIPTION:Canada Taxation/ Residency Status for Income Tax – On ZOOM – \nhttps://us02web.zoom.us/meeting/register/tZModu2hpzspGdJvBGDmJ85d5g1hOQEJxTz9#/registration
URL:https://pcpi.ca/event/canada-taxation-residency-status-for-income-tax-on-zoom/
END:VEVENT
BEGIN:VEVENT
DTSTART;TZID=UTC:20240319T100000
DTEND;TZID=UTC:20240319T120000
DTSTAMP:20260420T111818
CREATED:20240222T141738Z
LAST-MODIFIED:20240222T141849Z
UID:10002293-1710842400-1710849600@pcpi.ca
SUMMARY:I. Job Interview Strategies - In Person –
DESCRIPTION:I. Job Interview Strategies – In Person – \nRegister here
URL:https://pcpi.ca/event/i-job-interview-strategies-in-person-11-2024-03-19/
END:VEVENT
BEGIN:VEVENT
DTSTART;TZID=UTC:20240319T130000
DTEND;TZID=UTC:20240319T150000
DTSTAMP:20260420T111818
CREATED:20240222T142122Z
LAST-MODIFIED:20240222T142230Z
UID:10002294-1710853200-1710860400@pcpi.ca
SUMMARY:II. Practice Interview Questions - In Person –
DESCRIPTION:II. Practice Interview Questions – In Person – \nRegister here
URL:https://pcpi.ca/event/ii-practice-interview-questions-in-person-8-2024-03-19/
END:VEVENT
BEGIN:VEVENT
DTSTART;TZID=UTC:20240320T083000
DTEND;TZID=UTC:20240320T163000
DTSTAMP:20260420T111818
CREATED:20240226T161439Z
LAST-MODIFIED:20240226T161439Z
UID:10001904-1710923400-1710952200@pcpi.ca
SUMMARY:International Day of Happiness
DESCRIPTION:International Day of Happiness
URL:https://pcpi.ca/event/international-day-of-happiness/
END:VEVENT
BEGIN:VEVENT
DTSTART;TZID=UTC:20240320T110000
DTEND;TZID=UTC:20240320T120000
DTSTAMP:20260420T111818
CREATED:20240226T161333Z
LAST-MODIFIED:20240226T161333Z
UID:10002313-1710932400-1710936000@pcpi.ca
SUMMARY:LEARN ABOUT HEALTHCARE – Hybrid –
DESCRIPTION:LEARN ABOUT HEALTHCARE – Hybrid – \nRegister here
URL:https://pcpi.ca/event/learn-about-healthcare-hybrid/
END:VEVENT
BEGIN:VEVENT
DTSTART;TZID=UTC:20240321T100000
DTEND;TZID=UTC:20240321T120000
DTSTAMP:20260420T111818
CREATED:20240226T161609Z
LAST-MODIFIED:20240226T161609Z
UID:10001905-1711015200-1711022400@pcpi.ca
SUMMARY:Labour Market Trends - In Person –
DESCRIPTION:Labour Market Trends – In Person – \nRegister here \n 
URL:https://pcpi.ca/event/labour-market-trends-in-person-6/
END:VEVENT
END:VCALENDAR