BEGIN:VCALENDAR
VERSION:2.0
PRODID:-//Progress Career Planning Institute (PCPI) - ECPv6.9.0//NONSGML v1.0//EN
CALSCALE:GREGORIAN
METHOD:PUBLISH
X-WR-CALNAME:Progress Career Planning Institute (PCPI)
X-ORIGINAL-URL:https://pcpi.ca
X-WR-CALDESC:Events for Progress Career Planning Institute (PCPI)
REFRESH-INTERVAL;VALUE=DURATION:PT1H
X-Robots-Tag:noindex
X-PUBLISHED-TTL:PT1H
BEGIN:VTIMEZONE
TZID:UTC
BEGIN:STANDARD
TZOFFSETFROM:+0000
TZOFFSETTO:+0000
TZNAME:UTC
DTSTART:20230101T000000
END:STANDARD
END:VTIMEZONE
BEGIN:VEVENT
DTSTART;TZID=UTC:20230629T130000
DTEND;TZID=UTC:20230629T140000
DTSTAMP:20260420T070522
CREATED:20230525T180205Z
LAST-MODIFIED:20230525T180205Z
UID:10001672-1688043600-1688047200@pcpi.ca
SUMMARY:II. Career Cruising (In Person)
DESCRIPTION:II. Career Cruising (In Person) \nIn computer lab \nClick here to register
URL:https://pcpi.ca/event/ii-career-cruising-in-person/
END:VEVENT
BEGIN:VEVENT
DTSTART;TZID=UTC:20230629T100000
DTEND;TZID=UTC:20230629T120000
DTSTAMP:20260420T070522
CREATED:20230525T175939Z
LAST-MODIFIED:20230525T175939Z
UID:10001670-1688032800-1688040000@pcpi.ca
SUMMARY:I. Labour Market Trends (In Person)
DESCRIPTION:I. Labour Market Trends (In Person) \nClick here to register
URL:https://pcpi.ca/event/i-labour-market-trends-in-person/
END:VEVENT
BEGIN:VEVENT
DTSTART;TZID=UTC:20230629T090000
DTEND;TZID=UTC:20230629T163000
DTSTAMP:20260420T070522
CREATED:20230525T180411Z
LAST-MODIFIED:20230525T180411Z
UID:10001674-1688029200-1688056200@pcpi.ca
SUMMARY:Field Trip to Mountsberg Conservation Area for Newcomers (In Person)
DESCRIPTION:Field Trip to Mountsberg Conservation Area for Newcomers (In Person) \nClick here to register
URL:https://pcpi.ca/event/field-trip-to-mountsberg-conservation-area-for-newcomers-in-person/
END:VEVENT
BEGIN:VEVENT
DTSTART;TZID=UTC:20230628T100000
DTEND;TZID=UTC:20230628T110000
DTSTAMP:20260420T070522
CREATED:20230525T175715Z
LAST-MODIFIED:20230525T175715Z
UID:10001668-1687946400-1687950000@pcpi.ca
SUMMARY:Effective Job Search for Newcomers (On ZOOM)
DESCRIPTION:Effective Job Search for Newcomers (On ZOOM) \nhttps://us02web.zoom.us/meeting/register/tZ0pceGhrj0rGNBD-hhN09vSqUXGG_kGUkiT#/registration
URL:https://pcpi.ca/event/effective-job-search-for-newcomers-on-zoom/
END:VEVENT
BEGIN:VEVENT
DTSTART;TZID=UTC:20230628T100000
DTEND;TZID=UTC:20230628T110000
DTSTAMP:20260420T070522
CREATED:20230327T153832Z
LAST-MODIFIED:20230525T145500Z
UID:10001997-1687946400-1687950000@pcpi.ca
SUMMARY:Foreign Credentials Nurses Info Session (On ZOOM)
DESCRIPTION:Foreign Credentials Nurses Info Session (On ZOOM) \nhttps://us02web.zoom.us/meeting/register/tZYrce-rqjgjGNPDzOmh1Thviyhrc39ycG0x#/registration
URL:https://pcpi.ca/event/foreign-credentials-nurses-info-session-online-event-via-zoom-2023-05-03-2023-06-28/
END:VEVENT
BEGIN:VEVENT
DTSTART;TZID=UTC:20230627T130000
DTEND;TZID=UTC:20230627T150000
DTSTAMP:20260420T070522
CREATED:20230426T185024Z
LAST-MODIFIED:20230525T155050Z
UID:10002017-1687870800-1687878000@pcpi.ca
SUMMARY:II. Practice Interview Questions (In Person Event)
DESCRIPTION:II. Practice Interview Questions (In Person Event) \nClick here to register
URL:https://pcpi.ca/event/ii-practice-interview-questions-in-person-event-2023-05-23-2023-06-27/
END:VEVENT
BEGIN:VEVENT
DTSTART;TZID=UTC:20230627T100000
DTEND;TZID=UTC:20230627T120000
DTSTAMP:20260420T070522
CREATED:20230426T184308Z
LAST-MODIFIED:20230525T154301Z
UID:10002013-1687860000-1687867200@pcpi.ca
SUMMARY:I. Job Interview Strategies (In Person Event)
DESCRIPTION:I. Job Interview Strategies (In Person Event) \nClick here to register
URL:https://pcpi.ca/event/i-job-interview-strategies-in-person-event-2023-05-23-2023-06-27/
END:VEVENT
BEGIN:VEVENT
DTSTART;TZID=UTC:20230626T100000
DTEND;TZID=UTC:20230626T110000
DTSTAMP:20260420T070522
CREATED:20230120T174048Z
LAST-MODIFIED:20230525T135348Z
UID:10001996-1687773600-1687777200@pcpi.ca
SUMMARY:PCPI  Employment Ontario Information Session (In Person Event)
DESCRIPTION:PCPI Employment Ontario Information Session (In Person Event) \nClick here to register \n 
URL:https://pcpi.ca/event/pcpi-employment-ontario-information-session-in-person-2023-03-29-2023-05-15-2023-06-26/
END:VEVENT
BEGIN:VEVENT
DTSTART;TZID=UTC:20230623T100000
DTEND;TZID=UTC:20230623T113000
DTSTAMP:20260420T070522
CREATED:20230426T191440Z
LAST-MODIFIED:20230525T153306Z
UID:10002009-1687514400-1687519800@pcpi.ca
SUMMARY:Better Jobs Ontario Information Session (In Person Event)
DESCRIPTION:Better Jobs Ontario Information Session (In Person Event) \nClick here to register
URL:https://pcpi.ca/event/better-jobs-ontario-information-session-in-person-event-3-2023-06-23/
END:VEVENT
BEGIN:VEVENT
DTSTART;TZID=UTC:20230622T100000
DTEND;TZID=UTC:20230622T123000
DTSTAMP:20260420T070522
CREATED:20230525T175439Z
LAST-MODIFIED:20230525T175439Z
UID:10001666-1687428000-1687437000@pcpi.ca
SUMMARY:Job Search and Job Boards with Google Career for Newcomers (On ZOOM)
DESCRIPTION:Job Search and Job Boards with Google Career for Newcomers (On ZOOM) \nhttps://us02web.zoom.us/meeting/register/tZYvdO2prDItE90rLC_4O66I-VHvcQLGOsm2#/registration
URL:https://pcpi.ca/event/job-search-and-job-boards-with-google-career-for-newcomers-on-zoom/
END:VEVENT
BEGIN:VEVENT
DTSTART;TZID=UTC:20230622T100000
DTEND;TZID=UTC:20230622T120000
DTSTAMP:20260420T070522
CREATED:20230525T175257Z
LAST-MODIFIED:20230525T175257Z
UID:10002028-1687428000-1687435200@pcpi.ca
SUMMARY:Guest Speaker: Service Canada - Discusses How to Apply for SIN\, CPP\, OAS Pension (In Person)
DESCRIPTION:Guest Speaker: Service Canada – Discusses How to Apply for SIN\, CPP\, OAS Pension (In Person) \nClick here to register
URL:https://pcpi.ca/event/guest-speaker-service-canada-discusses-how-to-apply-for-sin-cpp-oas-pension-in-person/
END:VEVENT
BEGIN:VEVENT
DTSTART;TZID=UTC:20230621T100000
DTEND;TZID=UTC:20230621T110000
DTSTAMP:20260420T070522
CREATED:20230525T175027Z
LAST-MODIFIED:20230525T175027Z
UID:10002027-1687341600-1687345200@pcpi.ca
SUMMARY:Tenants’ Rights for Newcomers (On ZOOM)
DESCRIPTION:Tenants’ Rights for Newcomers (On ZOOM) \nhttps://us02web.zoom.us/meeting/register/tZUvd-GgqTosGNz8v6dkbegciGT7rxUnCOoU#/registration
URL:https://pcpi.ca/event/tenants-rights-for-newcomers-on-zoom/
END:VEVENT
BEGIN:VEVENT
DTSTART;TZID=UTC:20230620T130000
DTEND;TZID=UTC:20230620T150000
DTSTAMP:20260420T070522
CREATED:20230327T151001Z
LAST-MODIFIED:20230525T144126Z
UID:10001654-1687266000-1687273200@pcpi.ca
SUMMARY:II. Learn to Write a Resume (In Person Event)
DESCRIPTION:II. Learn to Write a Resume (In Person Event) \nIn computer lab \nClick here to register
URL:https://pcpi.ca/event/ii-learn-to-write-a-resume-in-person-event-2023-05-16-2023-06-20/
END:VEVENT
BEGIN:VEVENT
DTSTART;TZID=UTC:20230620T100000
DTEND;TZID=UTC:20230620T123000
DTSTAMP:20260420T070522
CREATED:20230525T172813Z
LAST-MODIFIED:20230525T172813Z
UID:10002026-1687255200-1687264200@pcpi.ca
SUMMARY:Google Drive and Internet Safety for Newcomers (On ZOOM)
DESCRIPTION:Google Drive and Internet Safety for Newcomers (On ZOOM) \nhttps://us02web.zoom.us/meeting/register/tZEqduugqTMrHtcisGID_xJxaOih4b2Nf70F#/registration
URL:https://pcpi.ca/event/google-drive-and-internet-safety-for-newcomers-on-zoom/
END:VEVENT
BEGIN:VEVENT
DTSTART;TZID=UTC:20230620T100000
DTEND;TZID=UTC:20230620T120000
DTSTAMP:20260420T070522
CREATED:20230327T150429Z
LAST-MODIFIED:20230525T143245Z
UID:10001652-1687255200-1687262400@pcpi.ca
SUMMARY:I. Create a Resume that Sells You! (In Person Event)
DESCRIPTION:I. Create a Resume that Sells You! (In Person Event) \nClick here to register
URL:https://pcpi.ca/event/i-create-a-resume-that-sells-you-in-person-event-2023-05-16-2023-06-20/
END:VEVENT
BEGIN:VEVENT
DTSTART;TZID=UTC:20230619T090000
DTEND;TZID=UTC:20230619T163000
DTSTAMP:20260420T070522
CREATED:20230327T155047Z
LAST-MODIFIED:20230525T141556Z
UID:10001649-1687165200-1687192200@pcpi.ca
SUMMARY:One on One (1:1) Session with a Resource & Information Specialist (RIS) (In Person Event)
DESCRIPTION:One on One (1:1) Session with a Resource & Information Specialist (RIS) (In Person Event) \nTo be booked by Career Coach. Available within office hours
URL:https://pcpi.ca/event/one-on-one-session-with-a-resource-information-specialist-in-person-event-2023-05-08-2023-06-19/
END:VEVENT
BEGIN:VEVENT
DTSTART;TZID=UTC:20230616T100000
DTEND;TZID=UTC:20230616T120000
DTSTAMP:20260420T070522
CREATED:20230525T172442Z
LAST-MODIFIED:20230525T172442Z
UID:10002025-1686909600-1686916800@pcpi.ca
SUMMARY:Occupational Health & Safety & Know Your Rights In the Workplace (In Person)
DESCRIPTION:Occupational Health & Safety & Know Your Rights In the Workplace (In Person) \nClick here to register
URL:https://pcpi.ca/event/occupational-health-safety-know-your-rights-in-the-workplace-in-person/
END:VEVENT
BEGIN:VEVENT
DTSTART;TZID=UTC:20230615T133000
DTEND;TZID=UTC:20230615T143000
DTSTAMP:20260420T070522
CREATED:20230525T171845Z
LAST-MODIFIED:20230525T171845Z
UID:10002024-1686835800-1686839400@pcpi.ca
SUMMARY:Guest Speaker: Volunteer Toronto – Learn the Benefits and Where to Volunteer (In Person)
DESCRIPTION:Guest Speaker: Volunteer Toronto – Learn the Benefits and Where to Volunteer (In Person) \nClick here to register
URL:https://pcpi.ca/event/guest-speaker-volunteer-toronto-learn-the-benefits-and-where-to-volunteer-in-person/
END:VEVENT
BEGIN:VEVENT
DTSTART;TZID=UTC:20230615T100000
DTEND;TZID=UTC:20230615T130000
DTSTAMP:20260420T070522
CREATED:20230525T171432Z
LAST-MODIFIED:20230525T171432Z
UID:10002022-1686823200-1686834000@pcpi.ca
SUMMARY:I. The Employment Network with Practice (In Person)
DESCRIPTION:I. The Employment Network with Practice (In Person) \nClick here to register
URL:https://pcpi.ca/event/i-the-employment-network-with-practice-in-person/
END:VEVENT
BEGIN:VEVENT
DTSTART;TZID=UTC:20230615T100000
DTEND;TZID=UTC:20230615T123000
DTSTAMP:20260420T070522
CREATED:20230525T171617Z
LAST-MODIFIED:20230525T171617Z
UID:10002023-1686823200-1686832200@pcpi.ca
SUMMARY:Google Sheets and Google Calendar for Newcomers (On ZOOM)
DESCRIPTION:Google Sheets and Google Calendar for Newcomers (On ZOOM) \nhttps://us02web.zoom.us/meeting/register/tZEpc-2orDMoGtPB5BpVPy31I_3sefWbG1-5#/registration
URL:https://pcpi.ca/event/google-sheets-and-google-calendar-for-newcomers-on-zoom/
END:VEVENT
BEGIN:VEVENT
DTSTART;TZID=UTC:20230614T130000
DTEND;TZID=UTC:20230614T160000
DTSTAMP:20260420T070522
CREATED:20230525T171120Z
LAST-MODIFIED:20230525T171120Z
UID:10002021-1686747600-1686758400@pcpi.ca
SUMMARY:Sector Specific Mentoring Referral by Career Coach only! (On ZOOM)
DESCRIPTION:Sector Specific Mentoring Referral by Career Coach only! (On ZOOM)
URL:https://pcpi.ca/event/sector-specific-mentoring-referral-by-career-coach-only-on-zoom/
END:VEVENT
BEGIN:VEVENT
DTSTART;TZID=UTC:20230614T100000
DTEND;TZID=UTC:20230614T110000
DTSTAMP:20260420T070522
CREATED:20230525T170941Z
LAST-MODIFIED:20230525T170941Z
UID:10002020-1686736800-1686740400@pcpi.ca
SUMMARY:Citizenship Preparation for Newcomers (On ZOOM)
DESCRIPTION:Citizenship Preparation for Newcomers (On ZOOM) \nhttps://us02web.zoom.us/meeting/register/tZMlcO6qpj4rHtyjywYOLxlDrz_QAqd5Dqea#/registration
URL:https://pcpi.ca/event/citizenship-preparation-for-newcomers-on-zoom/
END:VEVENT
BEGIN:VEVENT
DTSTART;TZID=UTC:20230614T100000
DTEND;TZID=UTC:20230614T110000
DTSTAMP:20260420T070522
CREATED:20230525T170719Z
LAST-MODIFIED:20230525T170719Z
UID:10002019-1686736800-1686740400@pcpi.ca
SUMMARY:Foreign Credentials CPA Info Session (On ZOOM)
DESCRIPTION:Foreign Credentials CPA Info Session (On ZOOM) \nhttps://us02web.zoom.us/meeting/register/tZ0vc-CurT4iG9Icwez83NZl7cqVGMouuXfb#/registration
URL:https://pcpi.ca/event/foreign-credentials-cpa-info-session-on-zoom-2/
END:VEVENT
BEGIN:VEVENT
DTSTART;TZID=UTC:20230613T130000
DTEND;TZID=UTC:20230613T150000
DTSTAMP:20260420T070522
CREATED:20230426T185024Z
LAST-MODIFIED:20230525T154952Z
UID:10002015-1686661200-1686668400@pcpi.ca
SUMMARY:II. Practice Interview Questions (In Person Event)
DESCRIPTION:II. Practice Interview Questions (In Person Event) \nClick here to register
URL:https://pcpi.ca/event/ii-practice-interview-questions-in-person-event-2023-05-23-2023-06-13/
END:VEVENT
BEGIN:VEVENT
DTSTART;TZID=UTC:20230613T100000
DTEND;TZID=UTC:20230613T123000
DTSTAMP:20260420T070522
CREATED:20230525T155553Z
LAST-MODIFIED:20230525T155553Z
UID:10002018-1686650400-1686659400@pcpi.ca
SUMMARY:Google Docs and Google Slides for Newcomers (On ZOOM)
DESCRIPTION:Google Docs and Google Slides for Newcomers (On ZOOM) \nhttps://us02web.zoom.us/meeting/register/tZAucuGgqz8jHNXtt1sn0w3nqtDPLoXJ6Ur_#/registration
URL:https://pcpi.ca/event/google-docs-and-google-slides-for-newcomers-on-zoom/
END:VEVENT
BEGIN:VEVENT
DTSTART;TZID=UTC:20230613T100000
DTEND;TZID=UTC:20230613T120000
DTSTAMP:20260420T070522
CREATED:20230426T184308Z
LAST-MODIFIED:20230525T154233Z
UID:10002011-1686650400-1686657600@pcpi.ca
SUMMARY:I. Job Interview Strategies (In Person Event)
DESCRIPTION:I. Job Interview Strategies (In Person Event) \nClick here to register
URL:https://pcpi.ca/event/i-job-interview-strategies-in-person-event-2023-05-23-2023-06-13/
END:VEVENT
BEGIN:VEVENT
DTSTART;TZID=UTC:20230612T100000
DTEND;TZID=UTC:20230612T110000
DTSTAMP:20260420T070522
CREATED:20230120T174048Z
LAST-MODIFIED:20230525T135330Z
UID:10001995-1686564000-1686567600@pcpi.ca
SUMMARY:PCPI  Employment Ontario Information Session (In Person Event)
DESCRIPTION:PCPI Employment Ontario Information Session (In Person Event) \nClick here to register \n 
URL:https://pcpi.ca/event/pcpi-employment-ontario-information-session-in-person-2023-03-29-2023-05-15-2023-06-12/
END:VEVENT
BEGIN:VEVENT
DTSTART;TZID=UTC:20230609T100000
DTEND;TZID=UTC:20230609T113000
DTSTAMP:20260420T070522
CREATED:20230426T191440Z
LAST-MODIFIED:20230525T153241Z
UID:10002002-1686304800-1686310200@pcpi.ca
SUMMARY:Better Jobs Ontario Information Session (In Person Event)
DESCRIPTION:Better Jobs Ontario Information Session (In Person Event) \nClick here to register
URL:https://pcpi.ca/event/better-jobs-ontario-information-session-in-person-event-3-2023-06-09/
END:VEVENT
BEGIN:VEVENT
DTSTART;TZID=UTC:20230608T130000
DTEND;TZID=UTC:20230608T150000
DTSTAMP:20260420T070522
CREATED:20230426T192820Z
LAST-MODIFIED:20230525T151918Z
UID:10002000-1686229200-1686236400@pcpi.ca
SUMMARY:II. Learn to Write a Cover Letter (In Person Event)
DESCRIPTION:II. Learn to Write a Cover Letter (In Person Event) \nIn computer lab \nClick here to register
URL:https://pcpi.ca/event/ii-learn-to-write-a-cover-letter-in-person-event-2023-06-08/
END:VEVENT
BEGIN:VEVENT
DTSTART;TZID=UTC:20230608T100000
DTEND;TZID=UTC:20230608T120000
DTSTAMP:20260420T070522
CREATED:20230426T192601Z
LAST-MODIFIED:20230525T150726Z
UID:10001999-1686218400-1686225600@pcpi.ca
SUMMARY:I. Reading between the Lines of a Job Posting (In Person Event)
DESCRIPTION:I. Reading between the Lines of a Job Posting (In Person Event) \nClick here to register
URL:https://pcpi.ca/event/i-reading-between-the-lines-of-a-job-posting-in-person-event-2023-06-08/
END:VEVENT
END:VCALENDAR