BEGIN:VCALENDAR
VERSION:2.0
PRODID:-//Progress Career Planning Institute (PCPI) - ECPv6.9.0//NONSGML v1.0//EN
CALSCALE:GREGORIAN
METHOD:PUBLISH
X-ORIGINAL-URL:https://pcpi.ca
X-WR-CALDESC:Events for Progress Career Planning Institute (PCPI)
REFRESH-INTERVAL;VALUE=DURATION:PT1H
X-Robots-Tag:noindex
X-PUBLISHED-TTL:PT1H
BEGIN:VTIMEZONE
TZID:UTC
BEGIN:STANDARD
TZOFFSETFROM:+0000
TZOFFSETTO:+0000
TZNAME:UTC
DTSTART:20240101T000000
END:STANDARD
END:VTIMEZONE
BEGIN:VEVENT
DTSTART;TZID=UTC:20240116T100000
DTEND;TZID=UTC:20240116T113000
DTSTAMP:20260420T031950
CREATED:20240104T154725Z
LAST-MODIFIED:20240104T154725Z
UID:10001852-1705399200-1705404600@pcpi.ca
SUMMARY:SUBSIDIZED HOUSING & BENEFITS - On ZOOM -
DESCRIPTION:SUBSIDIZED HOUSING & BENEFITS – On ZOOM – \nhttps://us02web.zoom.us/meeting/register/tZYqdOqhrDksH9M-m3pQc3g-NB_dJBinGqgc#/registration
URL:https://pcpi.ca/event/subsidized-housing-benefits-on-zoom/
END:VEVENT
BEGIN:VEVENT
DTSTART;TZID=UTC:20240116T100000
DTEND;TZID=UTC:20240116T120000
DTSTAMP:20260420T031950
CREATED:20240103T142721Z
LAST-MODIFIED:20240103T142807Z
UID:10002240-1705399200-1705406400@pcpi.ca
SUMMARY:I. Create a Resume that Sells You! - In Person
DESCRIPTION:I. Create a Resume that Sells You! – In Person \nRegister here
URL:https://pcpi.ca/event/i-create-a-resume-that-sells-you-in-person-7-2024-01-16/
END:VEVENT
BEGIN:VEVENT
DTSTART;TZID=UTC:20240116T130000
DTEND;TZID=UTC:20240116T150000
DTSTAMP:20260420T031950
CREATED:20240103T211552Z
LAST-MODIFIED:20240103T211950Z
UID:10002243-1705410000-1705417200@pcpi.ca
SUMMARY:II. Learn to Write a Resume - In Computer Lab
DESCRIPTION:II. Learn to Write a Resume – In Computer Lab \nRegister here
URL:https://pcpi.ca/event/ii-learn-to-write-a-resume-in-computer-lab-6-2024-01-16/
END:VEVENT
BEGIN:VEVENT
DTSTART;TZID=UTC:20240117T100000
DTEND;TZID=UTC:20240117T113000
DTSTAMP:20260420T031950
CREATED:20240104T155008Z
LAST-MODIFIED:20240104T155008Z
UID:10001854-1705485600-1705491000@pcpi.ca
SUMMARY:CURRENT EMPLOYMENT LAW - On ZOOM -
DESCRIPTION:CURRENT EMPLOYMENT LAW – On ZOOM – \nhttps://us02web.zoom.us/meeting/register/tZ0kf-CrqT8pHdB0x8vsDHxUgRXPSQSHNT9k#/registration
URL:https://pcpi.ca/event/current-employment-law-on-zoom/
END:VEVENT
BEGIN:VEVENT
DTSTART;TZID=UTC:20240118T100000
DTEND;TZID=UTC:20240118T110000
DTSTAMP:20260420T031950
CREATED:20240104T155531Z
LAST-MODIFIED:20240104T155531Z
UID:10001856-1705572000-1705575600@pcpi.ca
SUMMARY:SCAM PREVENTION - On ZOOM -
DESCRIPTION:SCAM PREVENTION – On ZOOM – \nhttps://us02web.zoom.us/meeting/register/tZUlf-msrDoiE9bSy_hVHAVT-_pZ0Uceozoi#/registration \n 
URL:https://pcpi.ca/event/scam-prevention-on-zoom-2/
END:VEVENT
BEGIN:VEVENT
DTSTART;TZID=UTC:20240118T100000
DTEND;TZID=UTC:20240118T120000
DTSTAMP:20260420T031950
CREATED:20240104T155300Z
LAST-MODIFIED:20240104T155401Z
UID:10001855-1705572000-1705579200@pcpi.ca
SUMMARY:Reading between the Lines of a Job Posting - In Person
DESCRIPTION:Reading between the Lines of a Job Posting – In Person \nRegister here
URL:https://pcpi.ca/event/reading-between-the-lines-of-a-job-posting-in-person-3/
END:VEVENT
BEGIN:VEVENT
DTSTART;TZID=UTC:20240119T130000
DTEND;TZID=UTC:20240119T150000
DTSTAMP:20260420T031950
CREATED:20240104T155749Z
LAST-MODIFIED:20240104T160118Z
UID:10001857-1705669200-1705676400@pcpi.ca
SUMMARY:Learn to Write a Cover Letter - In Computer Lab
DESCRIPTION:Learn to Write a Cover Letter – In Computer Lab \nRegister here
URL:https://pcpi.ca/event/learn-to-write-a-cover-letter-in-computer-lab-2/
END:VEVENT
BEGIN:VEVENT
DTSTART;TZID=UTC:20240122T090000
DTEND;TZID=UTC:20240122T160000
DTSTAMP:20260420T031950
CREATED:20240104T134226Z
LAST-MODIFIED:20240104T134246Z
UID:10002251-1705914000-1705939200@pcpi.ca
SUMMARY:One on One Session with a Resource & Information Specialist To be booked by Career Coach Available within office hours - In Person -
DESCRIPTION:One on One Session with a Resource & Information Specialist To be booked by Career Coach Available within office hours – In Person – \nRegister here
URL:https://pcpi.ca/event/one-on-one-session-with-a-resource-information-specialist-to-be-booked-by-career-coach-available-within-office-hours-in-person-2024-01-22/
END:VEVENT
BEGIN:VEVENT
DTSTART;TZID=UTC:20240122T100000
DTEND;TZID=UTC:20240122T113000
DTSTAMP:20260420T031950
CREATED:20240105T134701Z
LAST-MODIFIED:20240105T134701Z
UID:10001858-1705917600-1705923000@pcpi.ca
SUMMARY:SENIORS BENEFITS CPP/OAS/GIS - On ZOOM -
DESCRIPTION:SENIORS BENEFITS CPP/OAS/GIS – On ZOOM – \nhttps://us02web.zoom.us/meeting/register/tZwkdu-pqj8uGNKuRvAhmtCkjfvIdV-VwLmA#/registration
URL:https://pcpi.ca/event/seniors-benefits-cpp-oas-gis-on-zoom/
END:VEVENT
BEGIN:VEVENT
DTSTART;TZID=UTC:20240123T100000
DTEND;TZID=UTC:20240123T110000
DTSTAMP:20260420T031950
CREATED:20240105T134848Z
LAST-MODIFIED:20240105T134848Z
UID:10001859-1706004000-1706007600@pcpi.ca
SUMMARY:EMPLOYMENT NETOWRKING FOR NEWCOMERS – On ZOOM –
DESCRIPTION:EMPLOYMENT NETOWRKING FOR NEWCOMERS – On ZOOM – \nhttps://us02web.zoom.us/meeting/register/tZUsf-qurzgiHtTgmPFxfIcM209Xf-f2nIxe#/registration
URL:https://pcpi.ca/event/employment-netowrking-for-newcomers-on-zoom/
END:VEVENT
BEGIN:VEVENT
DTSTART;TZID=UTC:20240123T100000
DTEND;TZID=UTC:20240123T120000
DTSTAMP:20260420T031950
CREATED:20240104T134709Z
LAST-MODIFIED:20240104T134738Z
UID:10002253-1706004000-1706011200@pcpi.ca
SUMMARY:I. Job Interview Strategies - In Person –
DESCRIPTION:I. Job Interview Strategies – In Person – \nRegister here
URL:https://pcpi.ca/event/i-job-interview-strategies-in-person-9-2024-01-23/
END:VEVENT
BEGIN:VEVENT
DTSTART;TZID=UTC:20240123T130000
DTEND;TZID=UTC:20240123T150000
DTSTAMP:20260420T031950
CREATED:20240104T135505Z
LAST-MODIFIED:20240104T135525Z
UID:10002255-1706014800-1706022000@pcpi.ca
SUMMARY:II. Practice Interview Questions - In Person –
DESCRIPTION:II. Practice Interview Questions – In Person – \nRegister here
URL:https://pcpi.ca/event/ii-practice-interview-questions-in-person-6-2024-01-23/
END:VEVENT
BEGIN:VEVENT
DTSTART;TZID=UTC:20240124T110000
DTEND;TZID=UTC:20240124T120000
DTSTAMP:20260420T031950
CREATED:20240105T135032Z
LAST-MODIFIED:20240105T135032Z
UID:10001860-1706094000-1706097600@pcpi.ca
SUMMARY:GUEST SPEAKER Find your way back to Professional Engineering - In Person –
DESCRIPTION:GUEST SPEAKER Find your way back to Professional Engineering – In Person – \nRegister here
URL:https://pcpi.ca/event/guest-speaker-find-your-way-back-to-professional-engineering-in-person/
END:VEVENT
BEGIN:VEVENT
DTSTART;TZID=UTC:20240125T100000
DTEND;TZID=UTC:20240125T110000
DTSTAMP:20260420T031950
CREATED:20240105T135215Z
LAST-MODIFIED:20240105T135215Z
UID:10001862-1706176800-1706180400@pcpi.ca
SUMMARY:Labour Market Trends  - In Person –
DESCRIPTION:Labour Market Trends – In Person – \nRegister here
URL:https://pcpi.ca/event/labour-market-trends-in-person-4/
END:VEVENT
BEGIN:VEVENT
DTSTART;TZID=UTC:20240125T100000
DTEND;TZID=UTC:20240125T120000
DTSTAMP:20260420T031950
CREATED:20240105T135344Z
LAST-MODIFIED:20240105T135352Z
UID:10001864-1706176800-1706184000@pcpi.ca
SUMMARY:MENTAL HEALTH & WELLBEING – On ZOOM –
DESCRIPTION:MENTAL HEALTH & WELLBEING – On ZOOM – \nhttps://us02web.zoom.us/meeting/register/tZ0vcuGvrz0sGdcomjzZrrDW4B8j_LKkFXyu#/registration
URL:https://pcpi.ca/event/mental-health-wellbeing-on-zoom/
END:VEVENT
BEGIN:VEVENT
DTSTART;TZID=UTC:20240126T100000
DTEND;TZID=UTC:20240126T120000
DTSTAMP:20260420T031950
CREATED:20240105T135500Z
LAST-MODIFIED:20240105T135508Z
UID:10002262-1706263200-1706270400@pcpi.ca
SUMMARY:Occupational Health & Safety & Know Your Rights In the Workplace - In Person -
DESCRIPTION:Occupational Health & Safety & Know Your Rights In the Workplace – In Person – \nRegister here
URL:https://pcpi.ca/event/occupational-health-safety-know-your-rights-in-the-workplace-in-person-7/
END:VEVENT
BEGIN:VEVENT
DTSTART;TZID=UTC:20240129T100000
DTEND;TZID=UTC:20240129T110000
DTSTAMP:20260420T031950
CREATED:20240103T212423Z
LAST-MODIFIED:20240103T212547Z
UID:10002247-1706522400-1706526000@pcpi.ca
SUMMARY:PCPI  Employment Ontario Information Session - In Person –
DESCRIPTION:PCPI Employment Ontario Information Session – In Person – \nRegister here
URL:https://pcpi.ca/event/pcpi-employment-ontario-information-session-in-person-10-2024-01-29/
END:VEVENT
BEGIN:VEVENT
DTSTART;TZID=UTC:20240130T100000
DTEND;TZID=UTC:20240130T120000
DTSTAMP:20260420T031950
CREATED:20240103T142721Z
LAST-MODIFIED:20240103T142958Z
UID:10002241-1706608800-1706616000@pcpi.ca
SUMMARY:I. Create a Resume that Sells You! - In Person
DESCRIPTION:I. Create a Resume that Sells You! – In Person \nRegister here
URL:https://pcpi.ca/event/i-create-a-resume-that-sells-you-in-person-7-2024-01-30/
END:VEVENT
BEGIN:VEVENT
DTSTART;TZID=UTC:20240130T130000
DTEND;TZID=UTC:20240130T150000
DTSTAMP:20260420T031950
CREATED:20240103T211552Z
LAST-MODIFIED:20240103T212158Z
UID:10002244-1706619600-1706626800@pcpi.ca
SUMMARY:II. Learn to Write a Resume - In Computer Lab
DESCRIPTION:II. Learn to Write a Resume – In Computer Lab \nRegister here
URL:https://pcpi.ca/event/ii-learn-to-write-a-resume-in-computer-lab-6-2024-01-30/
END:VEVENT
BEGIN:VEVENT
DTSTART;TZID=UTC:20240131T100000
DTEND;TZID=UTC:20240131T110000
DTSTAMP:20260420T031950
CREATED:20240105T135912Z
LAST-MODIFIED:20240105T135912Z
UID:10002265-1706695200-1706698800@pcpi.ca
SUMMARY:FINANCIAL PLANNING For Better Mental Health – On ZOOM –
DESCRIPTION:FINANCIAL PLANNING For Better Mental Health – On ZOOM – \nhttps://us02web.zoom.us/meeting/register/tZEsc-2pqTkuH9wOB69M6cnTuSgCALp6GMW_#/registration \n 
URL:https://pcpi.ca/event/financial-planning-for-better-mental-health-on-zoom-2/
END:VEVENT
BEGIN:VEVENT
DTSTART;TZID=UTC:20240131T100000
DTEND;TZID=UTC:20240131T120000
DTSTAMP:20260420T031950
CREATED:20240105T135648Z
LAST-MODIFIED:20240105T135648Z
UID:10002263-1706695200-1706702400@pcpi.ca
SUMMARY:UofT Employment  Info Session - In Person
DESCRIPTION:UofT Employment Info Session – In Person \nRegister here
URL:https://pcpi.ca/event/uoft-employment-info-session-in-person/
END:VEVENT
BEGIN:VEVENT
DTSTART;TZID=UTC:20240131T130000
DTEND;TZID=UTC:20240131T150000
DTSTAMP:20260420T031950
CREATED:20240105T135806Z
LAST-MODIFIED:20240105T135806Z
UID:10002264-1706706000-1706713200@pcpi.ca
SUMMARY:Career in Corrections Info Session - In Person-
DESCRIPTION:Career in Corrections Info Session – In Person- \nRegister here
URL:https://pcpi.ca/event/career-in-corrections-info-session-in-person/
END:VEVENT
BEGIN:VEVENT
DTSTART;TZID=UTC:20240201T100000
DTEND;TZID=UTC:20240201T113000
DTSTAMP:20260420T031950
CREATED:20240124T192716Z
LAST-MODIFIED:20240124T192716Z
UID:10002267-1706781600-1706787000@pcpi.ca
SUMMARY:BRIDGING TO EMPLOYMENT For Newcomers - On ZOOM -
DESCRIPTION:BRIDGING TO EMPLOYMENT For Newcomers – On ZOOM – \nhttps://us02web.zoom.us/meeting/register/tZUuceCqrD0vHd0xXriL-5BrrYRrJUo8kA3o#/registration
URL:https://pcpi.ca/event/bridging-to-employment-for-newcomers-on-zoom/
END:VEVENT
BEGIN:VEVENT
DTSTART;TZID=UTC:20240201T100000
DTEND;TZID=UTC:20240201T120000
DTSTAMP:20260420T031950
CREATED:20240124T192512Z
LAST-MODIFIED:20240124T192512Z
UID:10002266-1706781600-1706788800@pcpi.ca
SUMMARY:The Employment Network with Practice - In Person –
DESCRIPTION:The Employment Network with Practice – In Person – \nRegister here
URL:https://pcpi.ca/event/the-employment-network-with-practice-in-person-8/
END:VEVENT
BEGIN:VEVENT
DTSTART;TZID=UTC:20240202T100000
DTEND;TZID=UTC:20240202T110000
DTSTAMP:20260420T031950
CREATED:20240124T192902Z
LAST-MODIFIED:20240124T192912Z
UID:10002268-1706868000-1706871600@pcpi.ca
SUMMARY:Better Jobs Ontario Information Session - In Person –
DESCRIPTION:Better Jobs Ontario Information Session – In Person – \nRegister here
URL:https://pcpi.ca/event/better-jobs-ontario-information-session-in-person-9/
END:VEVENT
BEGIN:VEVENT
DTSTART;TZID=UTC:20240205T090000
DTEND;TZID=UTC:20240205T163000
DTSTAMP:20260420T031950
CREATED:20240125T142021Z
LAST-MODIFIED:20240125T142629Z
UID:10002269-1707123600-1707150600@pcpi.ca
SUMMARY:One on One Session with a Resource & Information Specialist To be booked by Career Coach Available within office hours - In Person -
DESCRIPTION:One on One Session with a Resource & Information Specialist To be booked by Career Coach Available within office hours – In Person – \nRegister here
URL:https://pcpi.ca/event/one-on-one-session-with-a-resource-information-specialist-to-be-booked-by-career-coach-available-within-office-hours-in-person-2/
END:VEVENT
BEGIN:VEVENT
DTSTART;TZID=UTC:20240206T100000
DTEND;TZID=UTC:20240206T120000
DTSTAMP:20260420T031950
CREATED:20240125T142602Z
LAST-MODIFIED:20240125T142743Z
UID:10002272-1707213600-1707220800@pcpi.ca
SUMMARY:I. Job Interview Strategies - In Person –
DESCRIPTION:I. Job Interview Strategies – In Person – \nRegister here
URL:https://pcpi.ca/event/i-job-interview-strategies-in-person-10/
END:VEVENT
BEGIN:VEVENT
DTSTART;TZID=UTC:20240206T130000
DTEND;TZID=UTC:20240206T150000
DTSTAMP:20260420T031950
CREATED:20240125T143018Z
LAST-MODIFIED:20240125T143119Z
UID:10002274-1707224400-1707231600@pcpi.ca
SUMMARY:II. Practice Interview Questions - In Person –
DESCRIPTION:II. Practice Interview Questions – In Person – \nRegister here
URL:https://pcpi.ca/event/ii-practice-interview-questions-in-person-7/
END:VEVENT
BEGIN:VEVENT
DTSTART;TZID=UTC:20240207T100000
DTEND;TZID=UTC:20240207T113000
DTSTAMP:20260420T031950
CREATED:20240125T143811Z
LAST-MODIFIED:20240125T143811Z
UID:10002276-1707300000-1707305400@pcpi.ca
SUMMARY:INTRODUCTION TO CANADIAN BANKING SYSTEM - Newcomers - On ZOOM -
DESCRIPTION:INTRODUCTION TO CANADIAN BANKING SYSTEM – Newcomers – On ZOOM – \nhttps://us02web.zoom.us/meeting/register/tZMpcOmgqDspHdUEPzVCR_D4w9-4QvzpR45h#/registration
URL:https://pcpi.ca/event/introduction-to-canadian-banking-system-newcomers-on-zoom/
END:VEVENT
BEGIN:VEVENT
DTSTART;TZID=UTC:20240208T100000
DTEND;TZID=UTC:20240208T113000
DTSTAMP:20260420T031950
CREATED:20240125T160943Z
LAST-MODIFIED:20240125T160943Z
UID:10002278-1707386400-1707391800@pcpi.ca
SUMMARY:INFO SESSION: EVICTION PROCESS & PREVENTION - On ZOOM -
DESCRIPTION:INFO SESSION: EVICTION PROCESS & PREVENTION – On ZOOM – \nhttps://us02web.zoom.us/meeting/register/tZIocO6vpjsvHtfxTi8uJ9sZ9fzSQOlrIDzz#/registration
URL:https://pcpi.ca/event/info-session-eviction-process-prevention-on-zoom/
END:VEVENT
END:VCALENDAR