BEGIN:VCALENDAR
VERSION:2.0
PRODID:-//Progress Career Planning Institute (PCPI) - ECPv6.9.0//NONSGML v1.0//EN
CALSCALE:GREGORIAN
METHOD:PUBLISH
X-WR-CALNAME:Progress Career Planning Institute (PCPI)
X-ORIGINAL-URL:https://pcpi.ca
X-WR-CALDESC:Events for Progress Career Planning Institute (PCPI)
REFRESH-INTERVAL;VALUE=DURATION:PT1H
X-Robots-Tag:noindex
X-PUBLISHED-TTL:PT1H
BEGIN:VTIMEZONE
TZID:UTC
BEGIN:STANDARD
TZOFFSETFROM:+0000
TZOFFSETTO:+0000
TZNAME:UTC
DTSTART:20250101T000000
END:STANDARD
END:VTIMEZONE
BEGIN:VEVENT
DTSTART;TZID=UTC:20250924T110000
DTEND;TZID=UTC:20250924T140000
DTSTAMP:20260423T125102
CREATED:20250829T190152Z
LAST-MODIFIED:20250829T190152Z
UID:10002907-1758711600-1758722400@pcpi.ca
SUMMARY:Cooking Healthy Meals on a Budget  IN-PERSON
DESCRIPTION:Cooking Healthy Meals on a Budget IN-PERSON \nhttps://us02web.zoom.us/meeting/register/uotWpO40Qc60rAUynIwkWA#/registration
URL:https://pcpi.ca/event/cooking-healthy-meals-on-a-budget-in-person-4/
END:VEVENT
BEGIN:VEVENT
DTSTART;TZID=UTC:20250926T090000
DTEND;TZID=UTC:20250926T120000
DTSTAMP:20260423T125102
CREATED:20250829T190312Z
LAST-MODIFIED:20250829T190312Z
UID:10002908-1758877200-1758888000@pcpi.ca
SUMMARY:Mindset Skills for Employment  -ZOOM-
DESCRIPTION:Mindset Skills for Employment -ZOOM- \nhttps://us02web.zoom.us/meeting/register/MECpO6FZQWmTjRMHhV9qWw#/registration
URL:https://pcpi.ca/event/mindset-skills-for-employment-zoom/
END:VEVENT
BEGIN:VEVENT
DTSTART;TZID=UTC:20250930T100000
DTEND;TZID=UTC:20250930T120000
DTSTAMP:20260423T125102
CREATED:20250829T190406Z
LAST-MODIFIED:20250829T190406Z
UID:10002909-1759226400-1759233600@pcpi.ca
SUMMARY:Preparation for Regulated Professions  -ZOOM-
DESCRIPTION:Preparation for Regulated Professions -ZOOM- \nhttps://us02web.zoom.us/meeting/register/p7h8gmjbQnWVJRnrrj8Jmg#/registration
URL:https://pcpi.ca/event/preparation-for-regulated-professions-zoom/
END:VEVENT
BEGIN:VEVENT
DTSTART;TZID=UTC:20251001T130000
DTEND;TZID=UTC:20251001T143000
DTSTAMP:20260423T125102
CREATED:20250926T154905Z
LAST-MODIFIED:20250926T154905Z
UID:10002910-1759323600-1759329000@pcpi.ca
SUMMARY:Your Rights at Work: What you need to know  -ZOOM-
DESCRIPTION:Your Rights at Work: What you need to know -ZOOM- \nhttps://us02web.zoom.us/meeting/register/Vqtigm39SqWowwRjLktu5w#/registration
URL:https://pcpi.ca/event/your-rights-at-work-what-you-need-to-know-zoom/
END:VEVENT
BEGIN:VEVENT
DTSTART;TZID=UTC:20251003T110000
DTEND;TZID=UTC:20251003T123000
DTSTAMP:20260423T125102
CREATED:20250926T155021Z
LAST-MODIFIED:20250926T155021Z
UID:10002911-1759489200-1759494600@pcpi.ca
SUMMARY:Jobs In Demand: What Employers Need Now  -ZOOM-
DESCRIPTION:Jobs In Demand: What Employers Need Now -ZOOM- \nhttps://us02web.zoom.us/meeting/register/Mk_NGNmeQmmDx_N6ESzeUg#/registration
URL:https://pcpi.ca/event/jobs-in-demand-what-employers-need-now-zoom/
END:VEVENT
BEGIN:VEVENT
DTSTART;TZID=UTC:20251006T120000
DTEND;TZID=UTC:20251006T170000
DTSTAMP:20260423T125102
CREATED:20250926T155245Z
LAST-MODIFIED:20250926T155245Z
UID:10002912-1759752000-1759770000@pcpi.ca
SUMMARY:Careers in Healthcare: Unlock Your Potential (Guest Speaker INLAP)  -ZOOM-
DESCRIPTION:Careers in Healthcare: Unlock Your Potential (Guest Speaker INLAP) -ZOOM- \nhttps://us02web.zoom.us/meeting/register/0dKe5XNzTMmdzedf1UiQ-A#/registration
URL:https://pcpi.ca/event/careers-in-healthcare-unlock-your-potential-guest-speaker-inlap-zoom/
END:VEVENT
BEGIN:VEVENT
DTSTART;TZID=UTC:20251008T090000
DTEND;TZID=UTC:20251008T120000
DTSTAMP:20260423T125103
CREATED:20250926T155414Z
LAST-MODIFIED:20250926T155414Z
UID:10002913-1759914000-1759924800@pcpi.ca
SUMMARY:Mastering Interview:  Tips and Strategies  -ZOOM-
DESCRIPTION:Mastering Interview: Tips and Strategies -ZOOM- \nhttps://us02web.zoom.us/meeting/register/FxbksBctSvmfMfxlPKuc3w#/registration
URL:https://pcpi.ca/event/mastering-interview-tips-and-strategies-zoom/
END:VEVENT
BEGIN:VEVENT
DTSTART;TZID=UTC:20251010T130000
DTEND;TZID=UTC:20251010T160000
DTSTAMP:20260423T125103
CREATED:20250926T155604Z
LAST-MODIFIED:20250926T155604Z
UID:10002914-1760101200-1760112000@pcpi.ca
SUMMARY:Canadian Workplace Culture: What to Expect  -ZOOM-
DESCRIPTION:Canadian Workplace Culture: What to Expect -ZOOM- \nhttps://us02web.zoom.us/meeting/register/0x3zl2lcSSGaSTBozeYR8A#/registration
URL:https://pcpi.ca/event/canadian-workplace-culture-what-to-expect-zoom/
END:VEVENT
BEGIN:VEVENT
DTSTART;TZID=UTC:20251013T083000
DTEND;TZID=UTC:20251013T170000
DTSTAMP:20260423T125103
CREATED:20250926T160213Z
LAST-MODIFIED:20250926T160213Z
UID:10002915-1760344200-1760374800@pcpi.ca
SUMMARY:PCPI offices are closed on October 13 for Thanksgiving
DESCRIPTION:PCPI offices are closed on October 13 for Thanksgiving.
URL:https://pcpi.ca/event/pcpi-offices-are-closed-on-october-13-for-thanksgiving/
END:VEVENT
BEGIN:VEVENT
DTSTART;TZID=UTC:20251015T130000
DTEND;TZID=UTC:20251015T160000
DTSTAMP:20260423T125103
CREATED:20250926T160407Z
LAST-MODIFIED:20250926T160407Z
UID:10002916-1760533200-1760544000@pcpi.ca
SUMMARY:Networking for Career Success  -ZOOM-
DESCRIPTION:Networking for Career Success -ZOOM- \nhttps://us02web.zoom.us/meeting/register/xiqWD6fCTjClwBhHEEAEDg#/registration
URL:https://pcpi.ca/event/networking-for-career-success-zoom/
END:VEVENT
BEGIN:VEVENT
DTSTART;TZID=UTC:20251016T130000
DTEND;TZID=UTC:20251016T160000
DTSTAMP:20260423T125103
CREATED:20250926T160543Z
LAST-MODIFIED:20250926T160543Z
UID:10002917-1760619600-1760630400@pcpi.ca
SUMMARY:You\, Yourself as a Brand    IN-PERSON
DESCRIPTION:You\, Yourself as a Brand  -IN-PERSON- \nhttps://us02web.zoom.us/meeting/register/aYYiDXOCR9KQFdt8L2_r0Q#/registration
URL:https://pcpi.ca/event/you-yourself-as-a-brand-in-person/
END:VEVENT
BEGIN:VEVENT
DTSTART;TZID=UTC:20251017T130000
DTEND;TZID=UTC:20251017T143000
DTSTAMP:20260423T125103
CREATED:20250926T160720Z
LAST-MODIFIED:20250926T160720Z
UID:10002918-1760706000-1760711400@pcpi.ca
SUMMARY:Staying Safe on the Job: Health and Safety at Work Basics -ZOOM-
DESCRIPTION:Staying Safe on the Job: Health and Safety at Work Basics -ZOOM- \nhttps://us02web.zoom.us/meeting/register/eS3ubHD9QzKPyvvj_tKXKA#/registration
URL:https://pcpi.ca/event/staying-safe-on-the-job-health-and-safety-at-work-basics-zoom/
END:VEVENT
BEGIN:VEVENT
DTSTART;TZID=UTC:20251020T130000
DTEND;TZID=UTC:20251020T160000
DTSTAMP:20260423T125103
CREATED:20250926T160942Z
LAST-MODIFIED:20250926T160942Z
UID:10002919-1760965200-1760976000@pcpi.ca
SUMMARY:Pathways to Regulated Professions in Canada -ZOOM-
DESCRIPTION:Pathways to Regulated Professions in Canada -ZOOM- \nhttps://us02web.zoom.us/meeting/register/Ph3UGCJsQ7mmISoBsWLVXA#/registration
URL:https://pcpi.ca/event/pathways-to-regulated-professions-in-canada-zoom/
END:VEVENT
BEGIN:VEVENT
DTSTART;TZID=UTC:20251021T110000
DTEND;TZID=UTC:20251021T140000
DTSTAMP:20260423T125103
CREATED:20250926T161106Z
LAST-MODIFIED:20250926T161106Z
UID:10002920-1761044400-1761055200@pcpi.ca
SUMMARY:CPR Online   -SELF LED-
DESCRIPTION:CPR Online -SELF LED- \nhttps://us02web.zoom.us/meeting/register/KlKwVwBNRB-PonH6aJJoSQ#/registration
URL:https://pcpi.ca/event/cpr-online-self-led/
END:VEVENT
BEGIN:VEVENT
DTSTART;TZID=UTC:20251022T090000
DTEND;TZID=UTC:20251022T163000
DTSTAMP:20260423T125103
CREATED:20250926T161315Z
LAST-MODIFIED:20250926T161315Z
UID:10002921-1761123600-1761150600@pcpi.ca
SUMMARY:CPR Offline  -IN PERSON-
DESCRIPTION:CPR Offline -IN PERSON- \n 
URL:https://pcpi.ca/event/cpr-offline-in-person/
END:VEVENT
BEGIN:VEVENT
DTSTART;TZID=UTC:20251023T090000
DTEND;TZID=UTC:20251023T120000
DTSTAMP:20260423T125103
CREATED:20250926T161435Z
LAST-MODIFIED:20250926T161435Z
UID:10002922-1761210000-1761220800@pcpi.ca
SUMMARY:Marketing Your Skills Online   -ZOOM-
DESCRIPTION:Marketing Your Skills Online -ZOOM- \nhttps://us02web.zoom.us/meeting/register/9Bdh5sBvROGGRNF3POkI1w#/registration
URL:https://pcpi.ca/event/marketing-your-skills-online-zoom/
END:VEVENT
BEGIN:VEVENT
DTSTART;TZID=UTC:20251024T090000
DTEND;TZID=UTC:20251024T120000
DTSTAMP:20260423T125103
CREATED:20250926T161611Z
LAST-MODIFIED:20250926T161611Z
UID:10002923-1761296400-1761307200@pcpi.ca
SUMMARY:Job Search Strategies  -ZOOM-
DESCRIPTION:Job Search Strategies -ZOOM- \nhttps://us02web.zoom.us/meeting/register/Zq8gDW9RSAuvmP4NSN7COw#/registration
URL:https://pcpi.ca/event/job-search-strategies-zoom/
END:VEVENT
BEGIN:VEVENT
DTSTART;TZID=UTC:20251027T130000
DTEND;TZID=UTC:20251027T160000
DTSTAMP:20260423T125103
CREATED:20250926T161725Z
LAST-MODIFIED:20250926T161725Z
UID:10002924-1761570000-1761580800@pcpi.ca
SUMMARY:Communicating with Confidence at Work: Strategies  -ZOOM-
DESCRIPTION:Communicating with Confidence at Work: Strategies -ZOOM- \nhttps://us02web.zoom.us/meeting/register/dCAYrS0-SO6AKNZ1TDxUkA#/registration
URL:https://pcpi.ca/event/communicating-with-confidence-at-work-strategies-zoom/
END:VEVENT
BEGIN:VEVENT
DTSTART;TZID=UTC:20251029T110000
DTEND;TZID=UTC:20251029T140000
DTSTAMP:20260423T125103
CREATED:20250926T161949Z
LAST-MODIFIED:20250926T161949Z
UID:10002925-1761735600-1761746400@pcpi.ca
SUMMARY:Cooking Healthy Meals on a Budget   IN-PERSON
DESCRIPTION:Cooking Healthy Meals on a Budget -IN-PERSON- \nhttps://us02web.zoom.us/meeting/register/8_75McjPRa-vbHWFoWzxjQ#/registration
URL:https://pcpi.ca/event/cooking-healthy-meals-on-a-budget-in-person-5/
END:VEVENT
BEGIN:VEVENT
DTSTART;TZID=UTC:20251031T090000
DTEND;TZID=UTC:20251031T120000
DTSTAMP:20260423T125103
CREATED:20250926T162126Z
LAST-MODIFIED:20250926T162126Z
UID:10002926-1761901200-1761912000@pcpi.ca
SUMMARY:How Mindset Lands You a Job   -ZOOM-
DESCRIPTION:How Mindset Lands You a Job -ZOOM- \nhttps://us02web.zoom.us/meeting/register/hLTAmLoeSQWQTQfP2uETjg#/registration
URL:https://pcpi.ca/event/how-mindset-lands-you-a-job-zoom/
END:VEVENT
BEGIN:VEVENT
DTSTART;TZID=UTC:20251103T100000
DTEND;TZID=UTC:20251103T110000
DTSTAMP:20260423T125103
CREATED:20251030T024241Z
LAST-MODIFIED:20251030T024241Z
UID:10002927-1762164000-1762167600@pcpi.ca
SUMMARY:Maximize Your Job Search: Job Bank Tips and Strategies  -ZOOM-
DESCRIPTION:Maximize Your Job Search: Job Bank Tips and Strategies -ZOOM- \nhttps://us02web.zoom.us/meeting/register/jBzGqDJBTwylc4S7x72EuA#/registration
URL:https://pcpi.ca/event/maximize-your-job-search-job-bank-tips-and-strategies-zoom/
END:VEVENT
BEGIN:VEVENT
DTSTART;TZID=UTC:20251105T100000
DTEND;TZID=UTC:20251105T130000
DTSTAMP:20260423T125103
CREATED:20251030T024420Z
LAST-MODIFIED:20251030T024420Z
UID:10002928-1762336800-1762347600@pcpi.ca
SUMMARY:Career Reboot: Your Path Back to Work  -ZOOM-
DESCRIPTION:Career Reboot: Your Path Back to Work -ZOOM- \nhttps://us02web.zoom.us/meeting/register/ZkPH6q_PSrOjsYHICbZ2gg#/registration
URL:https://pcpi.ca/event/career-reboot-your-path-back-to-work-zoom/
END:VEVENT
BEGIN:VEVENT
DTSTART;TZID=UTC:20251107T100000
DTEND;TZID=UTC:20251107T120000
DTSTAMP:20260423T125103
CREATED:20251030T024620Z
LAST-MODIFIED:20251030T024620Z
UID:10002929-1762509600-1762516800@pcpi.ca
SUMMARY:Jobs in Demand Information Session  -ZOOM-
DESCRIPTION:Jobs in Demand Information Session -ZOOM- \nhttps://us02web.zoom.us/meeting/register/QsPB4P_iR2O8mhAL2lUhug#/registration
URL:https://pcpi.ca/event/jobs-in-demand-information-session-zoom-6/
END:VEVENT
BEGIN:VEVENT
DTSTART;TZID=UTC:20251110T130000
DTEND;TZID=UTC:20251110T160000
DTSTAMP:20260423T125103
CREATED:20251030T024835Z
LAST-MODIFIED:20251030T024835Z
UID:10002930-1762779600-1762790400@pcpi.ca
SUMMARY:Workplace Communication Strategies  -ZOOM-
DESCRIPTION:Workplace Communication Strategies -ZOOM- \nhttps://us02web.zoom.us/meeting/register/mzvz38alROq2Rs1u5QwLJA?_x_zm_rtaid=ueN74-9ZQzi92zUcHJ8pBA.1761791994952.d7abbb9f38eb82beb2e66e1b24cba484&_x_zm_rhtaid=235#/registration
URL:https://pcpi.ca/event/workplace-communication-strategies-zoom-2/
END:VEVENT
BEGIN:VEVENT
DTSTART;TZID=UTC:20251112T100000
DTEND;TZID=UTC:20251112T110000
DTSTAMP:20260423T125103
CREATED:20251030T025003Z
LAST-MODIFIED:20251030T025003Z
UID:10002931-1762941600-1762945200@pcpi.ca
SUMMARY:Exploring Apprenticeship Programs  -ZOOM-
DESCRIPTION:Exploring Apprenticeship Programs -ZOOM- \nhttps://us02web.zoom.us/meeting/register/YULInka-QpqFJb2B4Izf6A#/registration
URL:https://pcpi.ca/event/exploring-apprenticeship-programs-zoom/
END:VEVENT
BEGIN:VEVENT
DTSTART;TZID=UTC:20251114T100000
DTEND;TZID=UTC:20251114T120000
DTSTAMP:20260423T125103
CREATED:20251030T025127Z
LAST-MODIFIED:20251030T025127Z
UID:10002932-1763114400-1763121600@pcpi.ca
SUMMARY:Job Application Toolkit: Cover Letter & Resume  IN-PERSON
DESCRIPTION:Job Application Toolkit: Cover Letter & Resume IN-PERSON \nhttps://us02web.zoom.us/meeting/register/UtV6S1_CTZmqkHOwwDO61A#/registration
URL:https://pcpi.ca/event/job-application-toolkit-cover-letter-resume-in-person/
END:VEVENT
BEGIN:VEVENT
DTSTART;TZID=UTC:20251117T100000
DTEND;TZID=UTC:20251117T110000
DTSTAMP:20260423T125103
CREATED:20251030T025302Z
LAST-MODIFIED:20251030T025302Z
UID:10002933-1763373600-1763377200@pcpi.ca
SUMMARY:EI Regular Benefits: A Step-by-Step Guide  -ZOOM-
DESCRIPTION:EI Regular Benefits: A Step-by-Step Guide -ZOOM- \nhttps://us02web.zoom.us/meeting/register/HDBWwoRvRg-qER-EtUru4Q#/registration
URL:https://pcpi.ca/event/ei-regular-benefits-a-step-by-step-guide-zoom-2/
END:VEVENT
BEGIN:VEVENT
DTSTART;TZID=UTC:20251119T090000
DTEND;TZID=UTC:20251119T160000
DTSTAMP:20260423T125103
CREATED:20251030T025432Z
LAST-MODIFIED:20251030T025432Z
UID:10002934-1763542800-1763568000@pcpi.ca
SUMMARY:Food Handler Certification Training  -ZOOM-
DESCRIPTION:Food Handler Certification Training -ZOOM- \nhttps://us02web.zoom.us/meeting/register/2ei6CgohTIaHKzcNqaJhqw#/registration
URL:https://pcpi.ca/event/food-handler-certification-training-zoom/
END:VEVENT
BEGIN:VEVENT
DTSTART;TZID=UTC:20251121T100000
DTEND;TZID=UTC:20251121T120000
DTSTAMP:20260423T125103
CREATED:20251030T025616Z
LAST-MODIFIED:20251030T025616Z
UID:10002935-1763719200-1763726400@pcpi.ca
SUMMARY:Job Application Toolkit:   Job Post Analysis\, Resume Matching and Tracking Tools  -ZOOM-
DESCRIPTION:Job Application Toolkit: Job Post Analysis\, Resume Matching and Tracking Tools -ZOOM- \nhttps://us02web.zoom.us/meeting/register/e5dK-F0GTN2gOtjWb-S6GQ#/registration
URL:https://pcpi.ca/event/job-application-toolkit-job-post-analysis-resume-matching-and-tracking-tools-zoom/
END:VEVENT
BEGIN:VEVENT
DTSTART;TZID=UTC:20251124T100000
DTEND;TZID=UTC:20251124T110000
DTSTAMP:20260423T125103
CREATED:20251030T025731Z
LAST-MODIFIED:20251030T025731Z
UID:10002936-1763978400-1763982000@pcpi.ca
SUMMARY:EI Special Benefits: A Step-by-Step Guide  -ZOOM-
DESCRIPTION:EI Special Benefits: A Step-by-Step Guide -ZOOM- \nhttps://us02web.zoom.us/meeting/register/OdMs3nEZRCi7YTr1ynaB4w#/registration
URL:https://pcpi.ca/event/ei-special-benefits-a-step-by-step-guide-zoom-2/
END:VEVENT
END:VCALENDAR