BEGIN:VCALENDAR
VERSION:2.0
PRODID:-//Progress Career Planning Institute (PCPI) - ECPv6.9.0//NONSGML v1.0//EN
CALSCALE:GREGORIAN
METHOD:PUBLISH
X-ORIGINAL-URL:https://pcpi.ca
X-WR-CALDESC:Events for Progress Career Planning Institute (PCPI)
REFRESH-INTERVAL;VALUE=DURATION:PT1H
X-Robots-Tag:noindex
X-PUBLISHED-TTL:PT1H
BEGIN:VTIMEZONE
TZID:UTC
BEGIN:STANDARD
TZOFFSETFROM:+0000
TZOFFSETTO:+0000
TZNAME:UTC
DTSTART:20230101T000000
END:STANDARD
END:VTIMEZONE
BEGIN:VEVENT
DTSTART;TZID=UTC:20231016T090000
DTEND;TZID=UTC:20231016T163000
DTSTAMP:20260421T085415
CREATED:20230929T111859Z
LAST-MODIFIED:20230929T112512Z
UID:10002175-1697446800-1697473800@pcpi.ca
SUMMARY:One on One Session with a Resource & Information Specialist (In Person)
DESCRIPTION:One on One Session with a Resource & Information Specialist (In Person) \nTo be booked by Career Coach Available within office hours
URL:https://pcpi.ca/event/one-on-one-session-with-a-resource-information-specialist-in-person-7/
END:VEVENT
BEGIN:VEVENT
DTSTART;TZID=UTC:20231017T100000
DTEND;TZID=UTC:20231017T120000
DTSTAMP:20260421T085415
CREATED:20230929T120658Z
LAST-MODIFIED:20230929T120658Z
UID:10002176-1697536800-1697544000@pcpi.ca
SUMMARY:I. Create a Resume that Sells You! (In Person)
DESCRIPTION:I. Create a Resume that Sells You! (In Person) \nClick here to register
URL:https://pcpi.ca/event/i-create-a-resume-that-sells-you-in-person-3/
END:VEVENT
BEGIN:VEVENT
DTSTART;TZID=UTC:20231017T130000
DTEND;TZID=UTC:20231017T150000
DTSTAMP:20260421T085415
CREATED:20230929T120807Z
LAST-MODIFIED:20230929T120807Z
UID:10002177-1697547600-1697554800@pcpi.ca
SUMMARY:II. Learn to Write a Resume (In Computer Lab)
DESCRIPTION:II. Learn to Write a Resume (In Computer Lab) \nClick here to register
URL:https://pcpi.ca/event/ii-learn-to-write-a-resume-in-computer-lab-3/
END:VEVENT
BEGIN:VEVENT
DTSTART;TZID=UTC:20231018T130000
DTEND;TZID=UTC:20231018T160000
DTSTAMP:20260421T085415
CREATED:20230929T121131Z
LAST-MODIFIED:20231002T181313Z
UID:10002178-1697634000-1697644800@pcpi.ca
SUMMARY:*** Sector Specific - Referral by Career Coach only! (On ZOOM)
DESCRIPTION:*** Sector Specific – Referral by Career Coach only! (On ZOOM) \n 
URL:https://pcpi.ca/event/sector-specific-referral-by-career-coach-only-on-zoom-4/
END:VEVENT
BEGIN:VEVENT
DTSTART;TZID=UTC:20231019T100000
DTEND;TZID=UTC:20231019T120000
DTSTAMP:20260421T085415
CREATED:20230929T121410Z
LAST-MODIFIED:20230929T121443Z
UID:10002179-1697709600-1697716800@pcpi.ca
SUMMARY:Employer Expectations (In Person)
DESCRIPTION:Employer Expectations (In Person) \nClick here to register
URL:https://pcpi.ca/event/employer-expectations-in-person-3/
END:VEVENT
BEGIN:VEVENT
DTSTART;TZID=UTC:20231019T103000
DTEND;TZID=UTC:20231019T113000
DTSTAMP:20260421T085415
CREATED:20230929T121542Z
LAST-MODIFIED:20230929T121542Z
UID:10002180-1697711400-1697715000@pcpi.ca
SUMMARY:Tenant Rights for Newcomers (On ZOOM)
DESCRIPTION:Tenant Rights for Newcomers (On ZOOM) \nClick here to register
URL:https://pcpi.ca/event/tenant-rights-for-newcomers-on-zoom/
END:VEVENT
BEGIN:VEVENT
DTSTART;TZID=UTC:20231020T100000
DTEND;TZID=UTC:20231020T120000
DTSTAMP:20260421T085415
CREATED:20230929T121651Z
LAST-MODIFIED:20230929T121656Z
UID:10001772-1697796000-1697803200@pcpi.ca
SUMMARY:Occupational Health & Safety & Know Your Rights In the Workplace (In Person)
DESCRIPTION:Occupational Health & Safety & Know Your Rights In the Workplace (In Person) \nClick here to register
URL:https://pcpi.ca/event/occupational-health-safety-know-your-rights-in-the-workplace-in-person-4/
END:VEVENT
BEGIN:VEVENT
DTSTART;TZID=UTC:20231023T100000
DTEND;TZID=UTC:20231023T110000
DTSTAMP:20260421T085415
CREATED:20230929T121832Z
LAST-MODIFIED:20230929T121832Z
UID:10001774-1698055200-1698058800@pcpi.ca
SUMMARY:PCPI  Employment Ontario Information Session (In Person)
DESCRIPTION:PCPI  Employment Ontario Information Session (In Person) \nClick here to register
URL:https://pcpi.ca/event/pcpi-employment-ontario-information-session-in-person-7/
END:VEVENT
BEGIN:VEVENT
DTSTART;TZID=UTC:20231024T100000
DTEND;TZID=UTC:20231024T120000
DTSTAMP:20260421T085415
CREATED:20230929T122006Z
LAST-MODIFIED:20230929T122006Z
UID:10001776-1698141600-1698148800@pcpi.ca
SUMMARY:I. Job Interview Strategies (In Person)
DESCRIPTION:I. Job Interview Strategies (In Person) \nClick here to register
URL:https://pcpi.ca/event/i-job-interview-strategies-in-person-6/
END:VEVENT
BEGIN:VEVENT
DTSTART;TZID=UTC:20231024T130000
DTEND;TZID=UTC:20231024T150000
DTSTAMP:20260421T085415
CREATED:20230929T122210Z
LAST-MODIFIED:20230929T122210Z
UID:10001778-1698152400-1698159600@pcpi.ca
SUMMARY:II. Practice Interview Questions (In Person)
DESCRIPTION:II. Practice Interview Questions (In Person) \nClick here to register
URL:https://pcpi.ca/event/ii-practice-interview-questions-in-person-3/
END:VEVENT
BEGIN:VEVENT
DTSTART;TZID=UTC:20231025T103000
DTEND;TZID=UTC:20231025T113000
DTSTAMP:20260421T085415
CREATED:20230929T122346Z
LAST-MODIFIED:20230929T122354Z
UID:10001780-1698229800-1698233400@pcpi.ca
SUMMARY:Mental Health and Well-being for Newcomers (On ZOOM)
DESCRIPTION:Mental Health and Well-being for Newcomers (On ZOOM) \nClick here to register
URL:https://pcpi.ca/event/mental-health-and-well-being-for-newcomers-on-zoom/
END:VEVENT
BEGIN:VEVENT
DTSTART;VALUE=DATE:20231026
DTEND;VALUE=DATE:20231027
DTSTAMP:20260421T085415
CREATED:20230929T122627Z
LAST-MODIFIED:20230929T122718Z
UID:10001782-1698278400-1698364799@pcpi.ca
SUMMARY:IEP Conference 2023
DESCRIPTION:IEP Conference 2023 \n \nLearn more at http://WWW.IEP.CA
URL:https://pcpi.ca/event/iep-conference-2023/
END:VEVENT
BEGIN:VEVENT
DTSTART;TZID=UTC:20231027T090000
DTEND;TZID=UTC:20231027T163000
DTSTAMP:20260421T085415
CREATED:20231002T152238Z
LAST-MODIFIED:20231002T152238Z
UID:10001790-1698397200-1698424200@pcpi.ca
SUMMARY:One on One Session with a Resource & Information Specialist (In Person)
DESCRIPTION:One on One Session with a Resource & Information Specialist (In Person) \nTo be booked by Career Coach Available within office hours \nClick here to register
URL:https://pcpi.ca/event/one-on-one-session-with-a-resource-information-specialist-in-person-9/
END:VEVENT
BEGIN:VEVENT
DTSTART;TZID=UTC:20231027T140000
DTEND;TZID=UTC:20231027T150000
DTSTAMP:20260421T085415
CREATED:20231002T152444Z
LAST-MODIFIED:20231002T153007Z
UID:10002181-1698415200-1698418800@pcpi.ca
SUMMARY:Service Canada for Newcomers (On ZOOM)
DESCRIPTION:Service Canada for Newcomers (On ZOOM) \nRegister here.
URL:https://pcpi.ca/event/service-canada-for-newcomers-on-zoom/
END:VEVENT
BEGIN:VEVENT
DTSTART;TZID=UTC:20231030T090000
DTEND;TZID=UTC:20231030T163000
DTSTAMP:20260421T085415
CREATED:20230929T122921Z
LAST-MODIFIED:20230929T122950Z
UID:10001784-1698656400-1698683400@pcpi.ca
SUMMARY:One on One Session with a Resource & Information Specialist (In Person)
DESCRIPTION:One on One Session with a Resource & Information Specialist (In Person) \nTo be booked by Career Coach Available within office hours \nClick here to register
URL:https://pcpi.ca/event/one-on-one-session-with-a-resource-information-specialist-in-person-8/
END:VEVENT
BEGIN:VEVENT
DTSTART;TZID=UTC:20231031T100000
DTEND;TZID=UTC:20231031T120000
DTSTAMP:20260421T085415
CREATED:20230929T123116Z
LAST-MODIFIED:20230929T123116Z
UID:10001786-1698746400-1698753600@pcpi.ca
SUMMARY:I. Create a Resume that Sells You! (In Person)
DESCRIPTION:I. Create a Resume that Sells You! (In Person) \nClick here to register
URL:https://pcpi.ca/event/i-create-a-resume-that-sells-you-in-person-4/
END:VEVENT
BEGIN:VEVENT
DTSTART;TZID=UTC:20231031T130000
DTEND;TZID=UTC:20231031T150000
DTSTAMP:20260421T085415
CREATED:20230929T123242Z
LAST-MODIFIED:20231027T181240Z
UID:10001788-1698757200-1698764400@pcpi.ca
SUMMARY:II. Learn to Write a Resume (In Computer Lab)
DESCRIPTION:II. Learn to Write a Resume (In Computer Lab) \nClick here to register
URL:https://pcpi.ca/event/ii-learn-to-write-a-resume-in-computer-lab-4/
END:VEVENT
BEGIN:VEVENT
DTSTART;TZID=UTC:20231101T100000
DTEND;TZID=UTC:20231101T110000
DTSTAMP:20260421T085415
CREATED:20231027T180257Z
LAST-MODIFIED:20231027T180332Z
UID:10002183-1698832800-1698836400@pcpi.ca
SUMMARY:PCPI  Employment Ontario Information Session (In Person)
DESCRIPTION:PCPI Employment Ontario Information Session (In Person) \nRegister here.
URL:https://pcpi.ca/event/pcpi-employment-ontario-information-session-in-person-8/
END:VEVENT
BEGIN:VEVENT
DTSTART;TZID=UTC:20231102T100000
DTEND;TZID=UTC:20231102T113000
DTSTAMP:20260421T085415
CREATED:20231027T182302Z
LAST-MODIFIED:20231027T182429Z
UID:10002191-1698919200-1698924600@pcpi.ca
SUMMARY:Subsidized Housing and Benefits (On ZOOM)
DESCRIPTION:Subsidized Housing and Benefits (On ZOOM) \nRegister: https://us02web.zoom.us/meeting/register/tZMpfu-grjIiEtB7AZiY3KpAuJt3UtSxWeLn#/registration
URL:https://pcpi.ca/event/subsidized-housing-and-benefits-on-zoom/
END:VEVENT
BEGIN:VEVENT
DTSTART;TZID=UTC:20231102T100000
DTEND;TZID=UTC:20231102T120000
DTSTAMP:20260421T085415
CREATED:20231027T181209Z
LAST-MODIFIED:20231027T181306Z
UID:10002187-1698919200-1698926400@pcpi.ca
SUMMARY:I. Reading between the Lines of a Job Posting (In Person)
DESCRIPTION:I. Reading between the Lines of a Job Posting (In Person) \nRegister here.
URL:https://pcpi.ca/event/i-reading-between-the-lines-of-a-job-posting-in-person-3/
END:VEVENT
BEGIN:VEVENT
DTSTART;TZID=UTC:20231102T130000
DTEND;TZID=UTC:20231102T150000
DTSTAMP:20260421T085415
CREATED:20231027T181911Z
LAST-MODIFIED:20231027T182812Z
UID:10002189-1698930000-1698937200@pcpi.ca
SUMMARY:II. Learn to Write a Cover Letter (In Computer Lab)
DESCRIPTION:II. Learn to Write a Cover Letter (In Computer Lab) \nRegister here.
URL:https://pcpi.ca/event/ii-learn-to-write-a-cover-letter-in-computer-lab-3/
END:VEVENT
BEGIN:VEVENT
DTSTART;TZID=UTC:20231103T100000
DTEND;TZID=UTC:20231103T120000
DTSTAMP:20260421T085415
CREATED:20231027T182744Z
LAST-MODIFIED:20231027T182830Z
UID:10002192-1699005600-1699012800@pcpi.ca
SUMMARY:Career Cruising (In Person)
DESCRIPTION:Career Cruising (In Person) \nRegister here.
URL:https://pcpi.ca/event/career-cruising-in-person-4/
END:VEVENT
BEGIN:VEVENT
DTSTART;TZID=UTC:20231106T100000
DTEND;TZID=UTC:20231106T110000
DTSTAMP:20260421T085415
CREATED:20231027T180257Z
LAST-MODIFIED:20231027T180349Z
UID:10002184-1699264800-1699268400@pcpi.ca
SUMMARY:PCPI  Employment Ontario Information Session (In Person)
DESCRIPTION:PCPI Employment Ontario Information Session (In Person) \nRegister here.
URL:https://pcpi.ca/event/pcpi-employment-ontario-information-session-in-person-8-2023-11-06/
END:VEVENT
BEGIN:VEVENT
DTSTART;TZID=UTC:20231106T110000
DTEND;TZID=UTC:20231106T120000
DTSTAMP:20260421T085415
CREATED:20231030T200948Z
LAST-MODIFIED:20231030T201232Z
UID:10002194-1699268400-1699272000@pcpi.ca
SUMMARY:GUEST SPEAKER - Tenants Rights Workshop (In Person)
DESCRIPTION:GUEST SPEAKER – Tenants Rights Workshop (In Person) \nRegister here.
URL:https://pcpi.ca/event/guest-speaker-tenants-rights-workshop-in-person/
END:VEVENT
BEGIN:VEVENT
DTSTART;TZID=UTC:20231107T100000
DTEND;TZID=UTC:20231107T120000
DTSTAMP:20260421T085415
CREATED:20231030T201546Z
LAST-MODIFIED:20231030T201640Z
UID:10002195-1699351200-1699358400@pcpi.ca
SUMMARY:I. Job Interview Strategies (In Person)
DESCRIPTION:I. Job Interview Strategies (In Person) \nRegister here.
URL:https://pcpi.ca/event/i-job-interview-strategies-in-person-7/
END:VEVENT
BEGIN:VEVENT
DTSTART;TZID=UTC:20231107T110000
DTEND;TZID=UTC:20231107T120000
DTSTAMP:20260421T085415
CREATED:20231030T202220Z
LAST-MODIFIED:20231031T132404Z
UID:10002199-1699354800-1699358400@pcpi.ca
SUMMARY:Scam Prevention (On ZOOM)
DESCRIPTION:Scam Prevention (On ZOOM) \nhttps://us02web.zoom.us/meeting/register/tZctdemurjwiGtFKojuYR75m5Ou-cYl-LNIq#/registration
URL:https://pcpi.ca/event/scam-prevention-on-zoom/
END:VEVENT
BEGIN:VEVENT
DTSTART;TZID=UTC:20231107T130000
DTEND;TZID=UTC:20231107T150000
DTSTAMP:20260421T085415
CREATED:20231030T201923Z
LAST-MODIFIED:20231030T202007Z
UID:10002197-1699362000-1699369200@pcpi.ca
SUMMARY:II. Practice Interview Questions (In Person)
DESCRIPTION:II. Practice Interview Questions (In Person) \nRegister here.
URL:https://pcpi.ca/event/ii-practice-interview-questions-in-person-4/
END:VEVENT
BEGIN:VEVENT
DTSTART;TZID=UTC:20231108T100000
DTEND;TZID=UTC:20231108T123000
DTSTAMP:20260421T085415
CREATED:20231031T132708Z
LAST-MODIFIED:20231031T202322Z
UID:10002200-1699437600-1699446600@pcpi.ca
SUMMARY:FREE DIGITAL LITERACY - Google Drive\, File Management\, Sharing and Collaboration (In Person)
DESCRIPTION:FREE DIGITAL LITERACY – Google Drive\, File Management\, Sharing and Collaboration (In Person) \nRegister here.
URL:https://pcpi.ca/event/free-digital-literacy-google-drive-file-management-sharing-and-collaboration-in-person/
END:VEVENT
BEGIN:VEVENT
DTSTART;TZID=UTC:20231109T100000
DTEND;TZID=UTC:20231109T123000
DTSTAMP:20260421T085415
CREATED:20231031T202554Z
LAST-MODIFIED:20231031T202554Z
UID:10002202-1699524000-1699533000@pcpi.ca
SUMMARY:FREE DIGITAL LITERACY - Google Sheets and Google Calendar (In Person)
DESCRIPTION:FREE DIGITAL LITERACY – Google Sheets and Google Calendar (In Person) \nhttps://us02web.zoom.us/meeting/register/tZwrduiorTkoHNY3knzKhzESsuNmqefYUthM#/registration
URL:https://pcpi.ca/event/free-digital-literacy-google-sheets-and-google-calendar-in-person/
END:VEVENT
BEGIN:VEVENT
DTSTART;TZID=UTC:20231109T100000
DTEND;TZID=UTC:20231109T130000
DTSTAMP:20260421T085415
CREATED:20231031T202434Z
LAST-MODIFIED:20231031T202434Z
UID:10002201-1699524000-1699534800@pcpi.ca
SUMMARY:The Employment Network with Practice (In Person)
DESCRIPTION:The Employment Network with Practice (In Person) \nRegister here.
URL:https://pcpi.ca/event/the-employment-network-with-practice-in-person-5/
END:VEVENT
END:VCALENDAR