BEGIN:VCALENDAR
VERSION:2.0
PRODID:-//Progress Career Planning Institute (PCPI) - ECPv6.9.0//NONSGML v1.0//EN
CALSCALE:GREGORIAN
METHOD:PUBLISH
X-WR-CALNAME:Progress Career Planning Institute (PCPI)
X-ORIGINAL-URL:https://pcpi.ca
X-WR-CALDESC:Events for Progress Career Planning Institute (PCPI)
REFRESH-INTERVAL;VALUE=DURATION:PT1H
X-Robots-Tag:noindex
X-PUBLISHED-TTL:PT1H
BEGIN:VTIMEZONE
TZID:UTC
BEGIN:STANDARD
TZOFFSETFROM:+0000
TZOFFSETTO:+0000
TZNAME:UTC
DTSTART:20260101T000000
END:STANDARD
END:VTIMEZONE
BEGIN:VEVENT
DTSTART;TZID=UTC:20260413T100000
DTEND;TZID=UTC:20260413T130000
DTSTAMP:20260424T155736
CREATED:20260414T212243Z
LAST-MODIFIED:20260414T212243Z
UID:10003011-1776074400-1776085200@pcpi.ca
SUMMARY:Canadian Workplace Culture Workshop -ZOOM-
DESCRIPTION:Canadian Workplace Culture Workshop -ZOOM- \nhttps://zoom.us/meeting/89833217620?meetingMasterEventId=1HVtLV7GRnaIC05CJ0v6MQ
URL:https://pcpi.ca/event/canadian-workplace-culture-workshop-zoom/
END:VEVENT
BEGIN:VEVENT
DTSTART;TZID=UTC:20260410T110000
DTEND;TZID=UTC:20260410T140000
DTSTAMP:20260424T155736
CREATED:20260414T212131Z
LAST-MODIFIED:20260414T212131Z
UID:10003010-1775818800-1775829600@pcpi.ca
SUMMARY:Jobs In Demand: Information Session -ZOOM-
DESCRIPTION:Jobs In Demand: Information Session -ZOOM- \nhttps://zoom.us/meeting/89655753342?meetingMasterEventId=xqbenBa9RNaCAr0-AkbKiQ
URL:https://pcpi.ca/event/jobs-in-demand-information-session-zoom-8/
END:VEVENT
BEGIN:VEVENT
DTSTART;TZID=UTC:20260408T100000
DTEND;TZID=UTC:20260408T130000
DTSTAMP:20260424T155736
CREATED:20260414T212000Z
LAST-MODIFIED:20260414T212000Z
UID:10003009-1775642400-1775653200@pcpi.ca
SUMMARY:Job Search Strategies Workshop -ZOOM-
DESCRIPTION:Job Search Strategies Workshop -ZOOM- \nhttps://us02web.zoom.us/meeting/register/o-g3YUV0QmW84VSzbpUx1g#/registration
URL:https://pcpi.ca/event/job-search-strategies-workshop-zoom/
END:VEVENT
BEGIN:VEVENT
DTSTART;TZID=UTC:20260403T083000
DTEND;TZID=UTC:20260403T170000
DTSTAMP:20260424T155736
CREATED:20260414T211821Z
LAST-MODIFIED:20260414T211821Z
UID:10003008-1775205000-1775235600@pcpi.ca
SUMMARY:Good Friday - Public Holiday
DESCRIPTION:Good Friday – Public Holiday
URL:https://pcpi.ca/event/good-friday-public-holiday/
END:VEVENT
BEGIN:VEVENT
DTSTART;TZID=UTC:20260331T110000
DTEND;TZID=UTC:20260331T140000
DTSTAMP:20260424T155736
CREATED:20260302T150013Z
LAST-MODIFIED:20260302T150013Z
UID:10003007-1774954800-1774965600@pcpi.ca
SUMMARY:Culinary Workshop -IN-PERSON-
DESCRIPTION:Culinary Workshop -IN-PERSON- \nhttps://us02web.zoom.us/meeting/register/VFaFWUtfQBmtVTNvP9vtHA#/registration
URL:https://pcpi.ca/event/culinary-workshop-in-person-4/
END:VEVENT
BEGIN:VEVENT
DTSTART;TZID=UTC:20260330T100000
DTEND;TZID=UTC:20260330T130000
DTSTAMP:20260424T155736
CREATED:20260302T145836Z
LAST-MODIFIED:20260302T145836Z
UID:10003005-1774864800-1774875600@pcpi.ca
SUMMARY:Career Reboot: Your Path Back to Work -ZOOM-
DESCRIPTION:Career Reboot: Your Path Back to Work -ZOOM- \nhttps://us02web.zoom.us/meeting/register/ZGrPoxOiTZebo4tytFTqZQ#/registration
URL:https://pcpi.ca/event/career-reboot-your-path-back-to-work-zoom-5/
END:VEVENT
BEGIN:VEVENT
DTSTART;TZID=UTC:20260330T083000
DTEND;TZID=UTC:20260330T170000
DTSTAMP:20260424T155736
CREATED:20260302T145916Z
LAST-MODIFIED:20260302T145916Z
UID:10003006-1774859400-1774890000@pcpi.ca
SUMMARY:INLAP COHORT 7 STARTS
DESCRIPTION:INLAP COHORT 7 STARTS
URL:https://pcpi.ca/event/inlap-cohort-7-starts/
END:VEVENT
BEGIN:VEVENT
DTSTART;TZID=UTC:20260327T100000
DTEND;TZID=UTC:20260327T130000
DTSTAMP:20260424T155736
CREATED:20260302T145734Z
LAST-MODIFIED:20260302T145734Z
UID:10003004-1774605600-1774616400@pcpi.ca
SUMMARY:Remote Work Essential Skills -ZOOM-
DESCRIPTION:Remote Work Essential Skills -ZOOM- \nhttps://us02web.zoom.us/meeting/register/E-tn1-A_Suy4cYdoEw0_dg#/registration
URL:https://pcpi.ca/event/remote-work-essential-skills-zoom-3/
END:VEVENT
BEGIN:VEVENT
DTSTART;TZID=UTC:20260325T143000
DTEND;TZID=UTC:20260325T160000
DTSTAMP:20260424T155736
CREATED:20260302T145624Z
LAST-MODIFIED:20260302T145624Z
UID:10003003-1774449000-1774454400@pcpi.ca
SUMMARY:Toronto Fire Services Info Session -IN-PERSON-
DESCRIPTION:Toronto Fire Services Info Session -IN-PERSON- \nhttps://www.surveymonkey.com/r/DDG7P2H
URL:https://pcpi.ca/event/toronto-fire-services-info-session-in-person/
END:VEVENT
BEGIN:VEVENT
DTSTART;TZID=UTC:20260325T100000
DTEND;TZID=UTC:20260325T130000
DTSTAMP:20260424T155736
CREATED:20260302T145448Z
LAST-MODIFIED:20260302T145448Z
UID:10003002-1774432800-1774443600@pcpi.ca
SUMMARY:Job Application Toolkit: Resume Makeover -ZOOM-
DESCRIPTION:Job Application Toolkit: Resume Makeover -ZOOM- \nhttps://us02web.zoom.us/meeting/register/vgB39cLZTbui4d8me86KwQ#/registration
URL:https://pcpi.ca/event/job-application-toolkit-resume-makeover-zoom/
END:VEVENT
BEGIN:VEVENT
DTSTART;TZID=UTC:20260320T130000
DTEND;TZID=UTC:20260320T150000
DTSTAMP:20260424T155736
CREATED:20260302T145245Z
LAST-MODIFIED:20260302T145245Z
UID:10003000-1774011600-1774018800@pcpi.ca
SUMMARY:Work Safe: Health & Safety at Work -ZOOM-
DESCRIPTION:Work Safe: Health & Safety at Work -ZOOM- \nhttps://us02web.zoom.us/meeting/register/r2M1OkXoQ2qyohkfXwjkhg#/registration
URL:https://pcpi.ca/event/work-safe-health-safety-at-work-zoom-2/
END:VEVENT
BEGIN:VEVENT
DTSTART;TZID=UTC:20260320T120000
DTEND;TZID=UTC:20260320T130000
DTSTAMP:20260424T155736
CREATED:20260302T145353Z
LAST-MODIFIED:20260302T145353Z
UID:10003001-1774008000-1774011600@pcpi.ca
SUMMARY:INLAP & ACHEV (Info Session -ZOOM-
DESCRIPTION:INLAP & ACHEV (Info Session -ZOOM- \nhttps://us02web.zoom.us/meeting/register/HfW87l_UQzmmdTXTCASo2Q#/registration
URL:https://pcpi.ca/event/inlap-achev-info-session-zoom/
END:VEVENT
BEGIN:VEVENT
DTSTART;TZID=UTC:20260318T100000
DTEND;TZID=UTC:20260318T130000
DTSTAMP:20260424T155736
CREATED:20260302T145136Z
LAST-MODIFIED:20260302T145136Z
UID:10002999-1773828000-1773838800@pcpi.ca
SUMMARY:Job Search Skills\, strategies and Tools -ZOOM-
DESCRIPTION:Job Search Skills\, strategies and Tools -ZOOM- \nhttps://us02web.zoom.us/meeting/register/14qe50eBRIij0IFgg-kXdg#/registration
URL:https://pcpi.ca/event/job-search-skills-strategies-and-tools-zoom-3/
END:VEVENT
BEGIN:VEVENT
DTSTART;TZID=UTC:20260316T100000
DTEND;TZID=UTC:20260316T120000
DTSTAMP:20260424T155736
CREATED:20260302T141445Z
LAST-MODIFIED:20260302T141445Z
UID:10002998-1773655200-1773662400@pcpi.ca
SUMMARY:Career Transition Skills -ZOOM-
DESCRIPTION:Career Transition Skills -ZOOM- \nhttps://us02web.zoom.us/meeting/register/OrVFfgcbSZqrKpZHfxW8Ew#/registration
URL:https://pcpi.ca/event/career-transition-skills-zoom-2/
END:VEVENT
BEGIN:VEVENT
DTSTART;TZID=UTC:20260312T120000
DTEND;TZID=UTC:20260312T130000
DTSTAMP:20260424T155736
CREATED:20260302T141319Z
LAST-MODIFIED:20260302T141319Z
UID:10002997-1773316800-1773320400@pcpi.ca
SUMMARY:INLAP & ICAS (Info Session) -ZOOM-
DESCRIPTION:INLAP & ICAS (Info Session) -ZOOM- \nhttps://us02web.zoom.us/meeting/register/E1JjenuhS02Mq5xw-Uzdzg#/registration
URL:https://pcpi.ca/event/inlap-icas-info-session-zoom/
END:VEVENT
BEGIN:VEVENT
DTSTART;TZID=UTC:20260311T120000
DTEND;TZID=UTC:20260311T130000
DTSTAMP:20260424T155736
CREATED:20260302T140931Z
LAST-MODIFIED:20260302T140931Z
UID:10002996-1773230400-1773234000@pcpi.ca
SUMMARY:INLAP & Windmill Microlending (Info Session) -ZOOM-
DESCRIPTION:INLAP & Windmill Microlending (Info Session) -ZOOM- \nhttps://us02web.zoom.us/meeting/register/HtMGfOduSBOO9Am2GGdRFQ#/registration
URL:https://pcpi.ca/event/inlap-windmill-microlending-info-session-zoom/
END:VEVENT
BEGIN:VEVENT
DTSTART;TZID=UTC:20260311T100000
DTEND;TZID=UTC:20260311T130000
DTSTAMP:20260424T155736
CREATED:20260302T140822Z
LAST-MODIFIED:20260302T144824Z
UID:10002995-1773223200-1773234000@pcpi.ca
SUMMARY:Workplace Communication Strategies -ZOOM-
DESCRIPTION:Workplace Communication Strategies -ZOOM- \nhttps://us02web.zoom.us/meeting/register/W_BCwZRNSQOpXdN4DyxMYg#/registration
URL:https://pcpi.ca/event/workplace-communication-strategies-zoom-3/
END:VEVENT
BEGIN:VEVENT
DTSTART;TZID=UTC:20260310T140000
DTEND;TZID=UTC:20260310T160000
DTSTAMP:20260424T155736
CREATED:20260302T140447Z
LAST-MODIFIED:20260302T140447Z
UID:10002993-1773151200-1773158400@pcpi.ca
SUMMARY:INLAP Career Advancement Session -ZOOM-
DESCRIPTION:INLAP Career Advancement Session -ZOOM- \n(Contact patel@careerplan.net)
URL:https://pcpi.ca/event/inlap-career-advancement-session-zoom/
END:VEVENT
BEGIN:VEVENT
DTSTART;TZID=UTC:20260310T130000
DTEND;TZID=UTC:20260310T140000
DTSTAMP:20260424T155736
CREATED:20260302T140647Z
LAST-MODIFIED:20260302T140647Z
UID:10002994-1773147600-1773151200@pcpi.ca
SUMMARY:CPA Ontario Info Session -IN-PERSON-
DESCRIPTION:CPA Ontario Info Session -IN-PERSON- \nhttps://www.surveymonkey.com/r/HD656L5
URL:https://pcpi.ca/event/cpa-ontario-info-session-in-person/
END:VEVENT
BEGIN:VEVENT
DTSTART;TZID=UTC:20260309T110000
DTEND;TZID=UTC:20260309T120000
DTSTAMP:20260424T155736
CREATED:20260302T140009Z
LAST-MODIFIED:20260302T140009Z
UID:10002992-1773054000-1773057600@pcpi.ca
SUMMARY:Ontario Society of Professional Engineers (OSPE) Information Session -IN-PERSON-
DESCRIPTION:Ontario Society of Professional Engineers (OSPE) Information Session -IN-PERSON- \nhttps://www.surveymonkey.com/r/QBH8PMN
URL:https://pcpi.ca/event/ontario-society-of-professional-engineers-ospe-information-session-in-person/
END:VEVENT
BEGIN:VEVENT
DTSTART;TZID=UTC:20260306T133000
DTEND;TZID=UTC:20260306T150000
DTSTAMP:20260424T155736
CREATED:20260227T231114Z
LAST-MODIFIED:20260227T231114Z
UID:10002991-1772803800-1772809200@pcpi.ca
SUMMARY:Work Safe: Employment rights at Work -ZOOM-
DESCRIPTION:Work Safe: Employment rights at Work -ZOOM- \nhttps://us02web.zoom.us/meeting/register/dSG4LVRBRYOM04Hrbw0SPw#/registration
URL:https://pcpi.ca/event/work-safe-employment-rights-at-work-zoom-3/
END:VEVENT
BEGIN:VEVENT
DTSTART;TZID=UTC:20260304T100000
DTEND;TZID=UTC:20260304T130000
DTSTAMP:20260424T155736
CREATED:20260227T230950Z
LAST-MODIFIED:20260227T230950Z
UID:10002990-1772618400-1772629200@pcpi.ca
SUMMARY:Building Contacts through Networking -ZOOM-
DESCRIPTION:Building Contacts through Networking -ZOOM- \nhttps://us02web.zoom.us/meeting/register/14UkjGBLQHm61-WOvVFi4g#/registration
URL:https://pcpi.ca/event/building-contacts-through-networking-zoom/
END:VEVENT
BEGIN:VEVENT
DTSTART;TZID=UTC:20260302T100000
DTEND;TZID=UTC:20260302T130000
DTSTAMP:20260424T155736
CREATED:20260227T230820Z
LAST-MODIFIED:20260227T230820Z
UID:10002989-1772445600-1772456400@pcpi.ca
SUMMARY:Personal Branding on LinkedIn -ZOOM-
DESCRIPTION:Personal Branding on LinkedIn -ZOOM- \nhttps://us02web.zoom.us/meeting/register/pAgbU1t5SKyiS3GFkmiahA#/registration
URL:https://pcpi.ca/event/personal-branding-on-linkedin-zoom-2/
END:VEVENT
BEGIN:VEVENT
DTSTART;TZID=UTC:20260227T100000
DTEND;TZID=UTC:20260227T130000
DTSTAMP:20260424T155736
CREATED:20260123T154003Z
LAST-MODIFIED:20260123T154003Z
UID:10002987-1772186400-1772197200@pcpi.ca
SUMMARY:Career Reboot: Your Path Back to Work -ZOOM-
DESCRIPTION:Career Reboot: Your Path Back to Work -ZOOM- \nhttps://us02web.zoom.us/meeting/register/Mv_zUOt7TQGC2Iw4dEF54w#/registration
URL:https://pcpi.ca/event/career-reboot-your-path-back-to-work-zoom-4/
END:VEVENT
BEGIN:VEVENT
DTSTART;TZID=UTC:20260226T100000
DTEND;TZID=UTC:20260226T130000
DTSTAMP:20260424T155736
CREATED:20260123T153910Z
LAST-MODIFIED:20260123T153910Z
UID:10002986-1772100000-1772110800@pcpi.ca
SUMMARY:Job Search Skills\, strategies and Tools -ZOOM-
DESCRIPTION:Job Search Skills\, strategies and Tools -ZOOM- \nhttps://us02web.zoom.us/meeting/register/MdOKrMTrRLqIDJMSpNlP4Q#/registration
URL:https://pcpi.ca/event/job-search-skills-strategies-and-tools-zoom-2/
END:VEVENT
BEGIN:VEVENT
DTSTART;TZID=UTC:20260225T090000
DTEND;TZID=UTC:20260225T150000
DTSTAMP:20260424T155736
CREATED:20260123T153747Z
LAST-MODIFIED:20260123T153747Z
UID:10002985-1772010000-1772031600@pcpi.ca
SUMMARY:Food Handler Training -ZOOM-
DESCRIPTION:Food Handler Training -ZOOM- \nhttps://www.surveymonkey.com/r/?sm=6ll7mtGw9OzXHQKrQZqu_2Ba4fyQPPi9rzZFE_2BfQJoMO4_3D
URL:https://pcpi.ca/event/food-handler-training-zoom-4/
END:VEVENT
BEGIN:VEVENT
DTSTART;TZID=UTC:20260224T110000
DTEND;TZID=UTC:20260224T140000
DTSTAMP:20260424T155736
CREATED:20260123T153629Z
LAST-MODIFIED:20260123T153629Z
UID:10002984-1771930800-1771941600@pcpi.ca
SUMMARY:Culinary Workshop -IN-PERSON-
DESCRIPTION:Culinary Workshop -IN-PERSON- \nhttps://us02web.zoom.us/meeting/register/qnwZfIFSTla3Ak-LwFsb7w#/registration
URL:https://pcpi.ca/event/culinary-workshop-in-person-3/
END:VEVENT
BEGIN:VEVENT
DTSTART;TZID=UTC:20260223T100000
DTEND;TZID=UTC:20260223T130000
DTSTAMP:20260424T155736
CREATED:20260123T153442Z
LAST-MODIFIED:20260123T153442Z
UID:10002983-1771840800-1771851600@pcpi.ca
SUMMARY:Preparation for Self-Employment -ZOOM-
DESCRIPTION:Preparation for Self-Employment -ZOOM- \nhttps://us02web.zoom.us/meeting/register/qCRfNFZzQd-c3PfRYjfJXw#/registration
URL:https://pcpi.ca/event/preparation-for-self-employment-zoom-3/
END:VEVENT
BEGIN:VEVENT
DTSTART;TZID=UTC:20260220T100000
DTEND;TZID=UTC:20260220T130000
DTSTAMP:20260424T155736
CREATED:20260123T153304Z
LAST-MODIFIED:20260123T153304Z
UID:10002982-1771581600-1771592400@pcpi.ca
SUMMARY:Job Application Toolkit: Resume & Cover Letter -IN-PERSON-
DESCRIPTION:Job Application Toolkit: Resume & Cover Letter -IN-PERSON- \nhttps://us02web.zoom.us/meeting/register/TNuy7fhFQRq3fbf3El7qeQ#/registration
URL:https://pcpi.ca/event/job-application-toolkit-resume-cover-letter-in-person-2/
END:VEVENT
BEGIN:VEVENT
DTSTART;TZID=UTC:20260219T100000
DTEND;TZID=UTC:20260219T130000
DTSTAMP:20260424T155736
CREATED:20260123T153010Z
LAST-MODIFIED:20260123T153010Z
UID:10002981-1771495200-1771506000@pcpi.ca
SUMMARY:Canadian Workplace Culture -ZOOM-
DESCRIPTION:Canadian Workplace Culture -ZOOM- \nhttps://us02web.zoom.us/meeting/register/kEPSV1GySciOQQJtn71o-Q#/registration
URL:https://pcpi.ca/event/canadian-workplace-culture-zoom-2/
END:VEVENT
END:VCALENDAR