BEGIN:VCALENDAR
VERSION:2.0
PRODID:-//Progress Career Planning Institute (PCPI) - ECPv6.9.0//NONSGML v1.0//EN
CALSCALE:GREGORIAN
METHOD:PUBLISH
X-ORIGINAL-URL:https://pcpi.ca
X-WR-CALDESC:Events for Progress Career Planning Institute (PCPI)
REFRESH-INTERVAL;VALUE=DURATION:PT1H
X-Robots-Tag:noindex
X-PUBLISHED-TTL:PT1H
BEGIN:VTIMEZONE
TZID:UTC
BEGIN:STANDARD
TZOFFSETFROM:+0000
TZOFFSETTO:+0000
TZNAME:UTC
DTSTART:20220101T000000
END:STANDARD
END:VTIMEZONE
BEGIN:VEVENT
DTSTART;TZID=UTC:20220121T100000
DTEND;TZID=UTC:20220121T110000
DTSTAMP:20260424T102645
CREATED:20211229T185800Z
LAST-MODIFIED:20211229T185800Z
UID:10001341-1642759200-1642762800@pcpi.ca
SUMMARY:Intro to The Career Foundation Webinar
DESCRIPTION:Are you currently unemployed and looking for job search support? Don’t delay; find out how The Career Foundation can help you today! Attend our Service Orientation Workshop and learn about our free resources\, job boards\, virtual workshops\, skill development opportunities\, one-on-one coaching services\, and our diverse employment programs. \nRegister Here!
URL:https://pcpi.ca/event/intro-to-the-career-foundation-webinar-2/
CATEGORIES:The Career Foundation Exclusive Webinar
ATTACH;FMTTYPE=image/png:https://pcpi.ca/wp-content/uploads/2021/12/14.png
ORGANIZER;CN="The Career Foundation":MAILTO:jobsupport@careerfoundation.org
END:VEVENT
BEGIN:VEVENT
DTSTART;TZID=UTC:20220107T100000
DTEND;TZID=UTC:20220107T110000
DTSTAMP:20260424T102645
CREATED:20211229T160610Z
LAST-MODIFIED:20211229T170424Z
UID:10001327-1641549600-1641553200@pcpi.ca
SUMMARY:Intro to The Career Foundation Webinar
DESCRIPTION:Are you currently unemployed and looking for job search support? Don’t delay; find out how The Career Foundation can help you today! Attend our Service Orientation Workshop and learn about our free resources\, job boards\, virtual workshops\, skill development opportunities\, one-on-one coaching services\, and our diverse employment programs. \nRegister Here!
URL:https://pcpi.ca/event/intro-to-the-career-foundation-webinar/
CATEGORIES:The Career Foundation Exclusive Webinar
ATTACH;FMTTYPE=image/png:https://pcpi.ca/wp-content/uploads/2021/12/4.png
ORGANIZER;CN="The Career Foundation":MAILTO:jobsupport@careerfoundation.org
END:VEVENT
END:VCALENDAR