BEGIN:VCALENDAR
VERSION:2.0
PRODID:-//Progress Career Planning Institute (PCPI) - ECPv6.9.0//NONSGML v1.0//EN
CALSCALE:GREGORIAN
METHOD:PUBLISH
X-ORIGINAL-URL:https://pcpi.ca
X-WR-CALDESC:Events for Progress Career Planning Institute (PCPI)
REFRESH-INTERVAL;VALUE=DURATION:PT1H
X-Robots-Tag:noindex
X-PUBLISHED-TTL:PT1H
BEGIN:VTIMEZONE
TZID:UTC
BEGIN:STANDARD
TZOFFSETFROM:+0000
TZOFFSETTO:+0000
TZNAME:UTC
DTSTART:20220101T000000
END:STANDARD
END:VTIMEZONE
BEGIN:VEVENT
DTSTART;TZID=UTC:20220111T100000
DTEND;TZID=UTC:20220111T110000
DTSTAMP:20260420T062957
CREATED:20211229T182845Z
LAST-MODIFIED:20211229T182845Z
UID:10001329-1641895200-1641898800@pcpi.ca
SUMMARY:Job Search Strategies (Virtual)
DESCRIPTION:Looking for work can be overwhelming\, but don’t despair! Our experienced staff will train you in effective job search and networking strategies\, while also providing practical tips and tools that can assist job seekers in navigating the hidden job market. We’ll help you develop your 30-second “elevator pitch” and teach strategic techniques in cold calling employers\, setting up informational interviews\, and leveraging social media for networking purposes. \nRegistration:\nClick here to register!
URL:https://pcpi.ca/event/job-search-strategies-virtual/
CATEGORIES:Job Readiness Webinar
ATTACH;FMTTYPE=image/png:https://pcpi.ca/wp-content/uploads/2021/12/6.png
ORGANIZER;CN="The Career Foundation":MAILTO:jobsupport@careerfoundation.org
END:VEVENT
BEGIN:VEVENT
DTSTART;TZID=UTC:20220106T100000
DTEND;TZID=UTC:20220106T120000
DTSTAMP:20260420T062957
CREATED:20211229T155405Z
LAST-MODIFIED:20211229T155439Z
UID:10001326-1641463200-1641470400@pcpi.ca
SUMMARY:Second Career Information Session (Virtual)
DESCRIPTION:Have you been laid-off? Are you unemployed? You can get financial support to develop new skills in high-demand fields when you qualify for Second Career. The Second Career Information Session will provide full instruction on (1) suitability and eligibility\, (2) the application process\, and (3) other programs and services to assist you in returning to work. \nClick here to register!
URL:https://pcpi.ca/event/second-career-information-session-virtual/
CATEGORIES:Job Readiness Webinar
ATTACH;FMTTYPE=image/png:https://pcpi.ca/wp-content/uploads/2021/12/36557_phpIO5Ck1.png
ORGANIZER;CN="The Career Foundation":MAILTO:jobsupport@careerfoundation.org
END:VEVENT
BEGIN:VEVENT
DTSTART;TZID=UTC:20220105T100000
DTEND;TZID=UTC:20220105T110000
DTSTAMP:20260420T062957
CREATED:20211229T154646Z
LAST-MODIFIED:20211229T154646Z
UID:10001325-1641376800-1641380400@pcpi.ca
SUMMARY:Interview Techniques (Virtual)
DESCRIPTION:This workshop will equip you with the tools you need to research and prepare for interviews. We’ll also improve your ability to respond to various types of interview questions. \nRegistration:\nClick here to register!
URL:https://pcpi.ca/event/interview-techniques-virtual/
CATEGORIES:Job Readiness Webinar
ATTACH;FMTTYPE=image/png:https://pcpi.ca/wp-content/uploads/2021/12/2.png
ORGANIZER;CN="The Career Foundation":MAILTO:jobsupport@careerfoundation.org
END:VEVENT
BEGIN:VEVENT
DTSTART;TZID=UTC:20220104T100000
DTEND;TZID=UTC:20220104T120000
DTSTAMP:20260420T062957
CREATED:20211229T151734Z
LAST-MODIFIED:20211229T154105Z
UID:10001324-1641290400-1641297600@pcpi.ca
SUMMARY:Résumé & Cover Letter Writing (Virtual)
DESCRIPTION:Are you struggling to write your résumé or not hearing back from employers after submitting an application? Not sure what to highlight or remove in your cover letter? Our trained specialists will guide you through the fundamentals of writing an all-star résumé and cover letter\, including proper formatting tips\, effective keyword integration\, and other strategies to secure your spot at the top of an employer’s call list. Let us show you how to write with confidence about the skills and talents you have to offer. \nRegistration:\nClick here to register!
URL:https://pcpi.ca/event/resume-cover-letter-writing-virtual/
CATEGORIES:Job Readiness Webinar
ATTACH;FMTTYPE=image/png:https://pcpi.ca/wp-content/uploads/2021/12/1.png
ORGANIZER;CN="The Career Foundation":MAILTO:jobsupport@careerfoundation.org
END:VEVENT
END:VCALENDAR