BEGIN:VCALENDAR
VERSION:2.0
PRODID:-//Progress Career Planning Institute (PCPI) - ECPv6.9.0//NONSGML v1.0//EN
CALSCALE:GREGORIAN
METHOD:PUBLISH
X-WR-CALNAME:Progress Career Planning Institute (PCPI)
X-ORIGINAL-URL:https://pcpi.ca
X-WR-CALDESC:Events for Progress Career Planning Institute (PCPI)
REFRESH-INTERVAL;VALUE=DURATION:PT1H
X-Robots-Tag:noindex
X-PUBLISHED-TTL:PT1H
BEGIN:VTIMEZONE
TZID:UTC
BEGIN:STANDARD
TZOFFSETFROM:+0000
TZOFFSETTO:+0000
TZNAME:UTC
DTSTART:20260101T000000
END:STANDARD
END:VTIMEZONE
BEGIN:VEVENT
DTSTART;TZID=UTC:20260417T100000
DTEND;TZID=UTC:20260417T130000
DTSTAMP:20260424T124737
CREATED:20260422T140355Z
LAST-MODIFIED:20260422T140355Z
UID:10003014-1776420000-1776430800@pcpi.ca
SUMMARY:Remote Work Essentials Workshop -ZOOM-
DESCRIPTION:Remote Work Essentials Workshop -ZOOM- \nhttps://us02web.zoom.us/meeting/register/AZwJKs3YQLqOWL8RUkLd8A#/registration
URL:https://pcpi.ca/event/remote-work-essentials-workshop-zoom/
END:VEVENT
END:VCALENDAR