BEGIN:VCALENDAR
VERSION:2.0
PRODID:-//Progress Career Planning Institute (PCPI) - ECPv6.9.0//NONSGML v1.0//EN
CALSCALE:GREGORIAN
METHOD:PUBLISH
X-ORIGINAL-URL:https://pcpi.ca
X-WR-CALDESC:Events for Progress Career Planning Institute (PCPI)
REFRESH-INTERVAL;VALUE=DURATION:PT1H
X-Robots-Tag:noindex
X-PUBLISHED-TTL:PT1H
BEGIN:VTIMEZONE
TZID:UTC
BEGIN:STANDARD
TZOFFSETFROM:+0000
TZOFFSETTO:+0000
TZNAME:UTC
DTSTART:20240101T000000
END:STANDARD
END:VTIMEZONE
BEGIN:VEVENT
DTSTART;TZID=UTC:20240510T100000
DTEND;TZID=UTC:20240510T120000
DTSTAMP:20260423T130217
CREATED:20240423T143523Z
LAST-MODIFIED:20240423T143523Z
UID:10002349-1715335200-1715342400@pcpi.ca
SUMMARY:Career Cruising - In Person -
DESCRIPTION:Career Cruising – In Person – \nRegister here
URL:https://pcpi.ca/event/career-cruising-in-person-9/
END:VEVENT
END:VCALENDAR