BEGIN:VCALENDAR
VERSION:2.0
PRODID:-//Progress Career Planning Institute (PCPI) - ECPv6.9.0//NONSGML v1.0//EN
CALSCALE:GREGORIAN
METHOD:PUBLISH
X-ORIGINAL-URL:https://pcpi.ca
X-WR-CALDESC:Events for Progress Career Planning Institute (PCPI)
REFRESH-INTERVAL;VALUE=DURATION:PT1H
X-Robots-Tag:noindex
X-PUBLISHED-TTL:PT1H
BEGIN:VTIMEZONE
TZID:UTC
BEGIN:STANDARD
TZOFFSETFROM:+0000
TZOFFSETTO:+0000
TZNAME:UTC
DTSTART:20230101T000000
END:STANDARD
END:VTIMEZONE
BEGIN:VEVENT
DTSTART;TZID=UTC:20230901T100000
DTEND;TZID=UTC:20230901T113000
DTSTAMP:20260423T144100
CREATED:20230822T015532Z
LAST-MODIFIED:20230822T021627Z
UID:10002125-1693562400-1693567800@pcpi.ca
SUMMARY:Financial Literacy(On ZOOM)
DESCRIPTION:Financial Literacy(On ZOOM)\nClick here to register
URL:https://pcpi.ca/event/financial-literacy/
END:VEVENT
BEGIN:VEVENT
DTSTART;TZID=UTC:20230901T100000
DTEND;TZID=UTC:20230901T120000
DTSTAMP:20260423T144100
CREATED:20230822T015145Z
LAST-MODIFIED:20230824T150945Z
UID:10002124-1693562400-1693569600@pcpi.ca
SUMMARY:Occupational Health & Safety & Know Your Rights In the Workplace (In Person)
DESCRIPTION:Occupational Health & Safety & Know Your Rights In the Workplace (In Person) \nRegister now.
URL:https://pcpi.ca/event/occupational-health-safety-know-your-rights-in-the-workplacein-person/
END:VEVENT
END:VCALENDAR