BEGIN:VCALENDAR
VERSION:2.0
PRODID:-//Progress Career Planning Institute (PCPI) - ECPv6.9.0//NONSGML v1.0//EN
CALSCALE:GREGORIAN
METHOD:PUBLISH
X-ORIGINAL-URL:https://pcpi.ca
X-WR-CALDESC:Events for Progress Career Planning Institute (PCPI)
REFRESH-INTERVAL;VALUE=DURATION:PT1H
X-Robots-Tag:noindex
X-PUBLISHED-TTL:PT1H
BEGIN:VTIMEZONE
TZID:UTC
BEGIN:STANDARD
TZOFFSETFROM:+0000
TZOFFSETTO:+0000
TZNAME:UTC
DTSTART:20230101T000000
END:STANDARD
END:VTIMEZONE
BEGIN:VEVENT
DTSTART;TZID=UTC:20230816T100000
DTEND;TZID=UTC:20230816T113000
DTSTAMP:20260423T143008
CREATED:20230725T182152Z
LAST-MODIFIED:20230725T182152Z
UID:10001723-1692180000-1692185400@pcpi.ca
SUMMARY:Understanding Employment Law and Workers’ Rights for Newcomers (On ZOOM)
DESCRIPTION:Understanding Employment Law and Workers’ Rights for Newcomers (On ZOOM) \nClick here to register
URL:https://pcpi.ca/event/understanding-employment-law-and-workers-rights-for-newcomers-on-zoom/
END:VEVENT
END:VCALENDAR