BEGIN:VCALENDAR
VERSION:2.0
PRODID:-//Progress Career Planning Institute (PCPI) - ECPv6.9.0//NONSGML v1.0//EN
CALSCALE:GREGORIAN
METHOD:PUBLISH
X-WR-CALNAME:Progress Career Planning Institute (PCPI)
X-ORIGINAL-URL:https://pcpi.ca
X-WR-CALDESC:Events for Progress Career Planning Institute (PCPI)
REFRESH-INTERVAL;VALUE=DURATION:PT1H
X-Robots-Tag:noindex
X-PUBLISHED-TTL:PT1H
BEGIN:VTIMEZONE
TZID:UTC
BEGIN:STANDARD
TZOFFSETFROM:+0000
TZOFFSETTO:+0000
TZNAME:UTC
DTSTART:20230101T000000
END:STANDARD
END:VTIMEZONE
BEGIN:VEVENT
DTSTART;TZID=UTC:20230815T100000
DTEND;TZID=UTC:20230815T120000
DTSTAMP:20260423T143006
CREATED:20230724T201031Z
LAST-MODIFIED:20230724T201137Z
UID:10001708-1692093600-1692100800@pcpi.ca
SUMMARY:I. Create a Resume that Sells You! (In Person)
DESCRIPTION:I. Create a Resume that Sells You! (In Person) \nClick here to register
URL:https://pcpi.ca/event/i-create-a-resume-that-sells-you-in-person-2023-08-15/
END:VEVENT
BEGIN:VEVENT
DTSTART;TZID=UTC:20230815T130000
DTEND;TZID=UTC:20230815T150000
DTSTAMP:20260423T143006
CREATED:20230724T201539Z
LAST-MODIFIED:20230724T201634Z
UID:10002078-1692104400-1692111600@pcpi.ca
SUMMARY:II. Learn to Write a Resume (In Computer Lab)
DESCRIPTION:II. Learn to Write a Resume (In Computer Lab) \nClick here to register
URL:https://pcpi.ca/event/ii-learn-to-write-a-resume-in-computer-lab-2023-08-15/
END:VEVENT
END:VCALENDAR