BEGIN:VCALENDAR
VERSION:2.0
PRODID:-//Progress Career Planning Institute (PCPI) - ECPv6.9.0//NONSGML v1.0//EN
CALSCALE:GREGORIAN
METHOD:PUBLISH
X-ORIGINAL-URL:https://pcpi.ca
X-WR-CALDESC:Events for Progress Career Planning Institute (PCPI)
REFRESH-INTERVAL;VALUE=DURATION:PT1H
X-Robots-Tag:noindex
X-PUBLISHED-TTL:PT1H
BEGIN:VTIMEZONE
TZID:UTC
BEGIN:STANDARD
TZOFFSETFROM:+0000
TZOFFSETTO:+0000
TZNAME:UTC
DTSTART:20230101T000000
END:STANDARD
END:VTIMEZONE
BEGIN:VEVENT
DTSTART;TZID=UTC:20230810T100000
DTEND;TZID=UTC:20230810T110000
DTSTAMP:20260423T143017
CREATED:20230725T181345Z
LAST-MODIFIED:20230725T181427Z
UID:10002112-1691661600-1691665200@pcpi.ca
SUMMARY:Introducing Newcomers to the Canadian banking system (On ZOOM)
DESCRIPTION:Introducing Newcomers to the Canadian banking system (On ZOOM) \nClick here to register
URL:https://pcpi.ca/event/introducing-newcomers-to-the-canadian-banking-system-on-zoom/
END:VEVENT
BEGIN:VEVENT
DTSTART;TZID=UTC:20230810T100000
DTEND;TZID=UTC:20230810T130000
DTSTAMP:20260423T143017
CREATED:20230725T181603Z
LAST-MODIFIED:20230725T181656Z
UID:10002114-1691661600-1691672400@pcpi.ca
SUMMARY:The Employment Network with Practice (In Person)
DESCRIPTION:The Employment Network with Practice (In Person) \nClick here to register
URL:https://pcpi.ca/event/the-employment-network-with-practice-in-person-2/
END:VEVENT
END:VCALENDAR