BEGIN:VCALENDAR
VERSION:2.0
PRODID:-//Progress Career Planning Institute (PCPI) - ECPv6.9.0//NONSGML v1.0//EN
CALSCALE:GREGORIAN
METHOD:PUBLISH
X-WR-CALNAME:Progress Career Planning Institute (PCPI)
X-ORIGINAL-URL:https://pcpi.ca
X-WR-CALDESC:Events for Progress Career Planning Institute (PCPI)
REFRESH-INTERVAL;VALUE=DURATION:PT1H
X-Robots-Tag:noindex
X-PUBLISHED-TTL:PT1H
BEGIN:VTIMEZONE
TZID:UTC
BEGIN:STANDARD
TZOFFSETFROM:+0000
TZOFFSETTO:+0000
TZNAME:UTC
DTSTART:20230101T000000
END:STANDARD
END:VTIMEZONE
BEGIN:VEVENT
DTSTART;TZID=UTC:20230808T100000
DTEND;TZID=UTC:20230808T120000
DTSTAMP:20260423T142843
CREATED:20230725T180018Z
LAST-MODIFIED:20230725T180054Z
UID:10002101-1691488800-1691496000@pcpi.ca
SUMMARY:I. Job Interview Strategies (In Person)
DESCRIPTION:I. Job Interview Strategies (In Person) \nClick here to register
URL:https://pcpi.ca/event/i-job-interview-strategies-in-person-2/
END:VEVENT
BEGIN:VEVENT
DTSTART;TZID=UTC:20230808T130000
DTEND;TZID=UTC:20230808T150000
DTSTAMP:20260423T142843
CREATED:20230725T180358Z
LAST-MODIFIED:20230725T180502Z
UID:10002104-1691499600-1691506800@pcpi.ca
SUMMARY:II. Practice Interview Questions (In Computer Lab)
DESCRIPTION:II. Practice Interview Questions (In Computer Lab) \nClick here to register
URL:https://pcpi.ca/event/ii-practice-interview-questions-in-computer-lab/
END:VEVENT
END:VCALENDAR