BEGIN:VCALENDAR
VERSION:2.0
PRODID:-//Progress Career Planning Institute (PCPI) - ECPv6.9.0//NONSGML v1.0//EN
CALSCALE:GREGORIAN
METHOD:PUBLISH
X-WR-CALNAME:Progress Career Planning Institute (PCPI)
X-ORIGINAL-URL:https://pcpi.ca
X-WR-CALDESC:Events for Progress Career Planning Institute (PCPI)
REFRESH-INTERVAL;VALUE=DURATION:PT1H
X-Robots-Tag:noindex
X-PUBLISHED-TTL:PT1H
BEGIN:VTIMEZONE
TZID:UTC
BEGIN:STANDARD
TZOFFSETFROM:+0000
TZOFFSETTO:+0000
TZNAME:UTC
DTSTART:20230101T000000
END:STANDARD
END:VTIMEZONE
BEGIN:VEVENT
DTSTART;TZID=UTC:20230727T100000
DTEND;TZID=UTC:20230727T120000
DTSTAMP:20260423T124830
CREATED:20230619T144838Z
LAST-MODIFIED:20230619T144838Z
UID:10001704-1690452000-1690459200@pcpi.ca
SUMMARY:Labour Market Trends\, Employer Expectations (In Person)
DESCRIPTION:Labour Market Trends\, Employer Expectations (In Person) \nClick here to register
URL:https://pcpi.ca/event/labour-market-trends-employer-expectations-in-person/
END:VEVENT
BEGIN:VEVENT
DTSTART;TZID=UTC:20230727T103000
DTEND;TZID=UTC:20230727T120000
DTSTAMP:20260423T124830
CREATED:20230619T145158Z
LAST-MODIFIED:20230619T145158Z
UID:10001706-1690453800-1690459200@pcpi.ca
SUMMARY:SCAM SMART Info Session for Newcomers (On ZOOM)
DESCRIPTION:SCAM SMART Info Session for Newcomers (On ZOOM) \nhttps://us02web.zoom.us/meeting/register/tZEkduCvqD8jHdfhxWo1h8KpciouT3GxYr_n#/registration
URL:https://pcpi.ca/event/scam-smart-info-session-for-newcomers-on-zoom/
END:VEVENT
BEGIN:VEVENT
DTSTART;TZID=UTC:20230727T130000
DTEND;TZID=UTC:20230727T140000
DTSTAMP:20260423T124830
CREATED:20230619T145035Z
LAST-MODIFIED:20230619T145035Z
UID:10001705-1690462800-1690466400@pcpi.ca
SUMMARY:Career Cruising (In Person)
DESCRIPTION:Career Cruising (In Person) \nIn computer lab \nClick here to register
URL:https://pcpi.ca/event/career-cruising-in-person/
END:VEVENT
END:VCALENDAR