BEGIN:VCALENDAR
VERSION:2.0
PRODID:-//Progress Career Planning Institute (PCPI) - ECPv6.9.0//NONSGML v1.0//EN
CALSCALE:GREGORIAN
METHOD:PUBLISH
X-ORIGINAL-URL:https://pcpi.ca
X-WR-CALDESC:Events for Progress Career Planning Institute (PCPI)
REFRESH-INTERVAL;VALUE=DURATION:PT1H
X-Robots-Tag:noindex
X-PUBLISHED-TTL:PT1H
BEGIN:VTIMEZONE
TZID:UTC
BEGIN:STANDARD
TZOFFSETFROM:+0000
TZOFFSETTO:+0000
TZNAME:UTC
DTSTART:20230101T000000
END:STANDARD
END:VTIMEZONE
BEGIN:VEVENT
DTSTART;TZID=UTC:20230705T100000
DTEND;TZID=UTC:20230705T110000
DTSTAMP:20260423T124917
CREATED:20230619T135829Z
LAST-MODIFIED:20230619T135853Z
UID:10002047-1688551200-1688554800@pcpi.ca
SUMMARY:PCPI  Employment Ontario Information Session (In Person)
DESCRIPTION:PCPI Employment Ontario Information Session (In Person) \nClick here to register
URL:https://pcpi.ca/event/pcpi-employment-ontario-information-session-in-person-2/
END:VEVENT
BEGIN:VEVENT
DTSTART;TZID=UTC:20230705T100000
DTEND;TZID=UTC:20230705T113000
DTSTAMP:20260423T124917
CREATED:20230619T140308Z
LAST-MODIFIED:20230619T140308Z
UID:10002049-1688551200-1688556600@pcpi.ca
SUMMARY:Housing information for Newcomers – LANDLORD AND TENANT RIGHTS (On ZOOM)
DESCRIPTION:Housing information for Newcomers – LANDLORD AND TENANT RIGHTS (On ZOOM) \nhttps://us02web.zoom.us/meeting/register/tZYrcequqTIvGN38G5gOcJYsoyWNnREBw0Fo#/registration
URL:https://pcpi.ca/event/housing-information-for-newcomers-landlord-and-tenant-rights-on-zoom/
END:VEVENT
END:VCALENDAR