BEGIN:VCALENDAR
VERSION:2.0
PRODID:-//Progress Career Planning Institute (PCPI) - ECPv6.9.0//NONSGML v1.0//EN
CALSCALE:GREGORIAN
METHOD:PUBLISH
X-WR-CALNAME:Progress Career Planning Institute (PCPI)
X-ORIGINAL-URL:https://pcpi.ca
X-WR-CALDESC:Events for Progress Career Planning Institute (PCPI)
REFRESH-INTERVAL;VALUE=DURATION:PT1H
X-Robots-Tag:noindex
X-PUBLISHED-TTL:PT1H
BEGIN:VTIMEZONE
TZID:UTC
BEGIN:STANDARD
TZOFFSETFROM:+0000
TZOFFSETTO:+0000
TZNAME:UTC
DTSTART:20230101T000000
END:STANDARD
END:VTIMEZONE
BEGIN:VEVENT
DTSTART;TZID=UTC:20230630T100000
DTEND;TZID=UTC:20230630T130000
DTSTAMP:20260423T085310
CREATED:20230525T180529Z
LAST-MODIFIED:20230525T180552Z
UID:10001676-1688119200-1688130000@pcpi.ca
SUMMARY:Employer Expectations & Workplace Culture (In Person)
DESCRIPTION:Employer Expectations & Workplace Culture (In Person) \nClick here to register
URL:https://pcpi.ca/event/employer-expectations-workplace-culture-in-person/
END:VEVENT
END:VCALENDAR