BEGIN:VCALENDAR
VERSION:2.0
PRODID:-//Progress Career Planning Institute (PCPI) - ECPv6.9.0//NONSGML v1.0//EN
CALSCALE:GREGORIAN
METHOD:PUBLISH
X-ORIGINAL-URL:https://pcpi.ca
X-WR-CALDESC:Events for Progress Career Planning Institute (PCPI)
REFRESH-INTERVAL;VALUE=DURATION:PT1H
X-Robots-Tag:noindex
X-PUBLISHED-TTL:PT1H
BEGIN:VTIMEZONE
TZID:UTC
BEGIN:STANDARD
TZOFFSETFROM:+0000
TZOFFSETTO:+0000
TZNAME:UTC
DTSTART:20260101T000000
END:STANDARD
END:VTIMEZONE
BEGIN:VEVENT
DTSTART;TZID=UTC:20260423T100000
DTEND;TZID=UTC:20260423T130000
DTSTAMP:20260423T105254
CREATED:20260422T140720Z
LAST-MODIFIED:20260422T140720Z
UID:10003017-1776938400-1776949200@pcpi.ca
SUMMARY:Food Handler’s Certification Training -ZOOM-
DESCRIPTION:Food Handler’s Certification Training -ZOOM- \nhttps://us02web.zoom.us/meeting/register/8vovKyF_SCWtuWAzwH_t3A#/registration
URL:https://pcpi.ca/event/food-handlers-certification-training-zoom/
END:VEVENT
BEGIN:VEVENT
DTSTART;TZID=UTC:20260424T100000
DTEND;TZID=UTC:20260424T130000
DTSTAMP:20260423T105254
CREATED:20260422T140828Z
LAST-MODIFIED:20260422T140828Z
UID:10003018-1777024800-1777035600@pcpi.ca
SUMMARY:Career Reboot Workshop -ZOOM-
DESCRIPTION:Career Reboot Workshop -ZOOM- \nhttps://us02web.zoom.us/meeting/register/scIcVNsRQBqx7Jy4sQfyhw#/registration
URL:https://pcpi.ca/event/career-reboot-workshop-zoom/
END:VEVENT
BEGIN:VEVENT
DTSTART;TZID=UTC:20260427T100000
DTEND;TZID=UTC:20260427T130000
DTSTAMP:20260423T105254
CREATED:20260422T140928Z
LAST-MODIFIED:20260422T140928Z
UID:10003019-1777284000-1777294800@pcpi.ca
SUMMARY:Personal Branding on LinkedIn Workshop -ZOOM-
DESCRIPTION:Personal Branding on LinkedIn Workshop -ZOOM- \nhttps://us02web.zoom.us/meeting/register/RpZTgQfMS9CUIy7DSdCS9Q#/registration
URL:https://pcpi.ca/event/personal-branding-on-linkedin-workshop-zoom/
END:VEVENT
BEGIN:VEVENT
DTSTART;TZID=UTC:20260428T110000
DTEND;TZID=UTC:20260428T140000
DTSTAMP:20260423T105254
CREATED:20260422T141042Z
LAST-MODIFIED:20260422T141042Z
UID:10003020-1777374000-1777384800@pcpi.ca
SUMMARY:Culinary Workshop -IN-PERSON-
DESCRIPTION:Culinary Workshop -IN-PERSON- \nhttps://us02web.zoom.us/meeting/register/KMRzhgCXR1y4RtzX6_kXtQ#/registration
URL:https://pcpi.ca/event/culinary-workshop-in-person-5/
END:VEVENT
BEGIN:VEVENT
DTSTART;TZID=UTC:20260430T100000
DTEND;TZID=UTC:20260430T130000
DTSTAMP:20260423T105254
CREATED:20260422T141138Z
LAST-MODIFIED:20260422T141138Z
UID:10003021-1777543200-1777554000@pcpi.ca
SUMMARY:Careers in Healthcare: Unlock Your Potential -ZOOM-
DESCRIPTION:Careers in Healthcare: Unlock Your Potential -ZOOM- \nhttps://us02web.zoom.us/meeting/register/6e0TZStORXOWHwmN_XfG6w#/registration
URL:https://pcpi.ca/event/careers-in-healthcare-unlock-your-potential-zoom/
END:VEVENT
END:VCALENDAR